BEGIN:VCALENDAR
VERSION:2.0
PRODID:-//I ♥ MONTECAMPIONE - ECPv6.15.20//NONSGML v1.0//EN
CALSCALE:GREGORIAN
METHOD:PUBLISH
X-ORIGINAL-URL:https://ioamomontecampione.it
X-WR-CALDESC:Eventi per I ♥ MONTECAMPIONE
REFRESH-INTERVAL;VALUE=DURATION:PT1H
X-Robots-Tag:noindex
X-PUBLISHED-TTL:PT1H
BEGIN:VTIMEZONE
TZID:Europe/San_Marino
BEGIN:DAYLIGHT
TZOFFSETFROM:+0100
TZOFFSETTO:+0200
TZNAME:CEST
DTSTART:20170326T010000
END:DAYLIGHT
BEGIN:STANDARD
TZOFFSETFROM:+0200
TZOFFSETTO:+0100
TZNAME:CET
DTSTART:20171029T010000
END:STANDARD
BEGIN:DAYLIGHT
TZOFFSETFROM:+0100
TZOFFSETTO:+0200
TZNAME:CEST
DTSTART:20180325T010000
END:DAYLIGHT
BEGIN:STANDARD
TZOFFSETFROM:+0200
TZOFFSETTO:+0100
TZNAME:CET
DTSTART:20181028T010000
END:STANDARD
BEGIN:DAYLIGHT
TZOFFSETFROM:+0100
TZOFFSETTO:+0200
TZNAME:CEST
DTSTART:20190331T010000
END:DAYLIGHT
BEGIN:STANDARD
TZOFFSETFROM:+0200
TZOFFSETTO:+0100
TZNAME:CET
DTSTART:20191027T010000
END:STANDARD
BEGIN:DAYLIGHT
TZOFFSETFROM:+0100
TZOFFSETTO:+0200
TZNAME:CEST
DTSTART:20200329T010000
END:DAYLIGHT
BEGIN:STANDARD
TZOFFSETFROM:+0200
TZOFFSETTO:+0100
TZNAME:CET
DTSTART:20201025T010000
END:STANDARD
BEGIN:DAYLIGHT
TZOFFSETFROM:+0100
TZOFFSETTO:+0200
TZNAME:CEST
DTSTART:20210328T010000
END:DAYLIGHT
BEGIN:STANDARD
TZOFFSETFROM:+0200
TZOFFSETTO:+0100
TZNAME:CET
DTSTART:20211031T010000
END:STANDARD
END:VTIMEZONE
BEGIN:VEVENT
DTSTART;TZID=Europe/San_Marino:20200308T190000
DTEND;TZID=Europe/San_Marino:20200308T230000
DTSTAMP:20260422T002349
CREATED:20200310T092754Z
LAST-MODIFIED:20200310T092754Z
UID:16212-1583694000-1583708400@ioamomontecampione.it
SUMMARY:Cena con la Luna Piena all’Aglio & Oglio del Residence Le Baite di Montecampione
DESCRIPTION:Questo sabato 8 marzo ci sarà una bellissima e luminosa luna!\nTi aspettiamo aperti nel nostro “Aglio e Oglio MILLEeOTTO” a Montecampione. \nPrenota ora\, chiama Fabio al 335 8148122
URL:https://ioamomontecampione.it/event/cena-con-la-luna-piena-allaglio-oglio-del-residence-le-baite-di-montecampione-2/
LOCATION:Aglio e Oglio Milleotto\, Via Dante di Bassinale\, Artogne\, 25040\, Italia
ORGANIZER;CN="Aglio e Oglio Milleotto":MAILTO:darfo@aglioeoglio.it
END:VEVENT
BEGIN:VEVENT
DTSTART;TZID=Europe/San_Marino:20200208T190000
DTEND;TZID=Europe/San_Marino:20200208T230000
DTSTAMP:20260422T002349
CREATED:20200204T202834Z
LAST-MODIFIED:20200204T202834Z
UID:15833-1581188400-1581202800@ioamomontecampione.it
SUMMARY:Cena con la Luna Piena all'Aglio & Oglio del Residence Le Baite di Montecampione
DESCRIPTION:Questo sabato 8 febbraio ci sarà una bellissima e luminosa luna!\nTi aspettiamo aperti nel nostro “Aglio e Oglio MILLEeOTTO” a Montecampione. \nPrenota ora\, chiama Fabio al 335 8148122C
URL:https://ioamomontecampione.it/event/cena-con-la-luna-piena-allaglio-oglio-del-residence-le-baite-di-montecampione/
LOCATION:Aglio e Oglio Milleotto\, Via Dante di Bassinale\, Artogne\, 25040\, Italia
ORGANIZER;CN="Aglio e Oglio Milleotto":MAILTO:darfo@aglioeoglio.it
END:VEVENT
BEGIN:VEVENT
DTSTART;TZID=Europe/San_Marino:20191231T203000
DTEND;TZID=Europe/San_Marino:20200101T020000
DTSTAMP:20260422T002349
CREATED:20191223T105606Z
LAST-MODIFIED:20191223T105606Z
UID:15333-1577824200-1577844000@ioamomontecampione.it
SUMMARY:Aglio e Oglio MILLEOTTO propone un Cenone di Capodanno con Giro in Motoslitta!
DESCRIPTION:
URL:https://ioamomontecampione.it/event/aglio-e-oglio-milleotto-propone-un-cenone-di-capodanno-con-giro-in-motoslitta/
LOCATION:Aglio e Oglio Milleotto\, Via Dante di Bassinale\, Artogne\, 25040\, Italia
ORGANIZER;CN="Aglio e Oglio Milleotto":MAILTO:darfo@aglioeoglio.it
END:VEVENT
BEGIN:VEVENT
DTSTART;TZID=Europe/San_Marino:20181231T200000
DTEND;TZID=Europe/San_Marino:20190101T030000
DTSTAMP:20260422T002349
CREATED:20181218T093812Z
LAST-MODIFIED:20181221T192758Z
UID:8752-1546286400-1546311600@ioamomontecampione.it
SUMMARY:Cenone di San Silvestro all'Aglio e Oglio 1800 del Residence Le Baite di Montecampione
DESCRIPTION:
URL:https://ioamomontecampione.it/event/cenone-di-san-silvestro-allaglio-e-oglio-1800-del-residence-le-baite-di-montecampione/
LOCATION:Aglio e Oglio Milleotto\, Via Dante di Bassinale\, Artogne\, 25040\, Italia
ORGANIZER;CN="Aglio e Oglio Milleotto":MAILTO:darfo@aglioeoglio.it
END:VEVENT
END:VCALENDAR