BEGIN:VCALENDAR
VERSION:2.0
PRODID:-//I ♥ MONTECAMPIONE - ECPv6.15.20//NONSGML v1.0//EN
CALSCALE:GREGORIAN
METHOD:PUBLISH
X-ORIGINAL-URL:https://ioamomontecampione.it
X-WR-CALDESC:Eventi per I ♥ MONTECAMPIONE
REFRESH-INTERVAL;VALUE=DURATION:PT1H
X-Robots-Tag:noindex
X-PUBLISHED-TTL:PT1H
BEGIN:VTIMEZONE
TZID:Europe/San_Marino
BEGIN:DAYLIGHT
TZOFFSETFROM:+0100
TZOFFSETTO:+0200
TZNAME:CEST
DTSTART:20190331T010000
END:DAYLIGHT
BEGIN:STANDARD
TZOFFSETFROM:+0200
TZOFFSETTO:+0100
TZNAME:CET
DTSTART:20191027T010000
END:STANDARD
BEGIN:DAYLIGHT
TZOFFSETFROM:+0100
TZOFFSETTO:+0200
TZNAME:CEST
DTSTART:20200329T010000
END:DAYLIGHT
BEGIN:STANDARD
TZOFFSETFROM:+0200
TZOFFSETTO:+0100
TZNAME:CET
DTSTART:20201025T010000
END:STANDARD
BEGIN:DAYLIGHT
TZOFFSETFROM:+0100
TZOFFSETTO:+0200
TZNAME:CEST
DTSTART:20210328T010000
END:DAYLIGHT
BEGIN:STANDARD
TZOFFSETFROM:+0200
TZOFFSETTO:+0100
TZNAME:CET
DTSTART:20211031T010000
END:STANDARD
END:VTIMEZONE
BEGIN:VEVENT
DTSTART;TZID=Europe/San_Marino:20200105T211500
DTEND;TZID=Europe/San_Marino:20200105T230000
DTSTAMP:20260422T120840
CREATED:20191219T160629Z
LAST-MODIFIED:20191219T160629Z
UID:15236-1578258900-1578265200@ioamomontecampione.it
SUMMARY:Tolo Tolo al Cinema di Montecampione
DESCRIPTION:
URL:https://ioamomontecampione.it/event/tolo-tolo-al-cinema-di-montecampione/
LOCATION:Cinema di Montecampione\, Via Pradosole di Montecampione 36\, Artogne\, 25040\, Italia
ORGANIZER;CN="Consorzio Montecampione":MAILTO:info@consorziomontecampione.it
END:VEVENT
BEGIN:VEVENT
DTSTART;TZID=Europe/San_Marino:20200104T211500
DTEND;TZID=Europe/San_Marino:20200104T230000
DTSTAMP:20260422T120840
CREATED:20191219T160820Z
LAST-MODIFIED:20191219T160820Z
UID:15238-1578172500-1578178800@ioamomontecampione.it
SUMMARY:Tolo Tolo al Cinema di Montecampione
DESCRIPTION:
URL:https://ioamomontecampione.it/event/tolo-tolo-al-cinema-di-montecampione-2/
LOCATION:Cinema di Montecampione\, Via Pradosole di Montecampione 36\, Artogne\, 25040\, Italia
ORGANIZER;CN="Consorzio Montecampione":MAILTO:info@consorziomontecampione.it
END:VEVENT
BEGIN:VEVENT
DTSTART;TZID=Europe/San_Marino:20200103T224500
DTEND;TZID=Europe/San_Marino:20200104T003000
DTSTAMP:20260422T120840
CREATED:20191219T161024Z
LAST-MODIFIED:20191219T161024Z
UID:15240-1578091500-1578097800@ioamomontecampione.it
SUMMARY:Tolo Tolo al Cinema di Montecampione
DESCRIPTION:
URL:https://ioamomontecampione.it/event/tolo-tolo-al-cinema-di-montecampione-3/
LOCATION:Cinema di Montecampione\, Via Pradosole di Montecampione 36\, Artogne\, 25040\, Italia
ORGANIZER;CN="Consorzio Montecampione":MAILTO:info@consorziomontecampione.it
END:VEVENT
BEGIN:VEVENT
DTSTART;TZID=Europe/San_Marino:20200102T211500
DTEND;TZID=Europe/San_Marino:20200102T230000
DTSTAMP:20260422T120840
CREATED:20191219T163341Z
LAST-MODIFIED:20191222T081913Z
UID:15264-1577999700-1578006000@ioamomontecampione.it
SUMMARY:Tolo Tolo al Cinema di Montecampione
DESCRIPTION:
URL:https://ioamomontecampione.it/event/tolo-tolo-al-cinema-di-montecampione-7/
LOCATION:Cinema di Montecampione\, Via Pradosole di Montecampione 36\, Artogne\, 25040\, Italia
ORGANIZER;CN="Consorzio Montecampione":MAILTO:info@consorziomontecampione.it
END:VEVENT
BEGIN:VEVENT
DTSTART;TZID=Europe/San_Marino:20200102T173000
DTEND;TZID=Europe/San_Marino:20200102T193000
DTSTAMP:20260422T120840
CREATED:20191219T161147Z
LAST-MODIFIED:20191219T161147Z
UID:15242-1577986200-1577993400@ioamomontecampione.it
SUMMARY:Tolo Tolo al Cinema di Montecampione
DESCRIPTION:
URL:https://ioamomontecampione.it/event/tolo-tolo-al-cinema-di-montecampione-4/
LOCATION:Cinema di Montecampione\, Via Pradosole di Montecampione 36\, Artogne\, 25040\, Italia
ORGANIZER;CN="Consorzio Montecampione":MAILTO:info@consorziomontecampione.it
END:VEVENT
BEGIN:VEVENT
DTSTART;TZID=Europe/San_Marino:20200101T211500
DTEND;TZID=Europe/San_Marino:20200101T230000
DTSTAMP:20260422T120840
CREATED:20191219T163208Z
LAST-MODIFIED:20191219T163208Z
UID:15262-1577913300-1577919600@ioamomontecampione.it
SUMMARY:Tolo Tolo al Cinema di Montecampione
DESCRIPTION:
URL:https://ioamomontecampione.it/event/tolo-tolo-al-cinema-di-montecampione-6/
LOCATION:Cinema di Montecampione\, Via Pradosole di Montecampione 36\, Artogne\, 25040\, Italia
ORGANIZER;CN="Consorzio Montecampione":MAILTO:info@consorziomontecampione.it
END:VEVENT
BEGIN:VEVENT
DTSTART;TZID=Europe/San_Marino:20200101T173000
DTEND;TZID=Europe/San_Marino:20200101T193000
DTSTAMP:20260422T120840
CREATED:20191219T161255Z
LAST-MODIFIED:20191219T161255Z
UID:15244-1577899800-1577907000@ioamomontecampione.it
SUMMARY:Tolo Tolo al Cinema di Montecampione
DESCRIPTION:
URL:https://ioamomontecampione.it/event/tolo-tolo-al-cinema-di-montecampione-5/
LOCATION:Cinema di Montecampione\, Via Pradosole di Montecampione 36\, Artogne\, 25040\, Italia
ORGANIZER;CN="Consorzio Montecampione":MAILTO:info@consorziomontecampione.it
END:VEVENT
END:VCALENDAR