BEGIN:VCALENDAR
VERSION:2.0
PRODID:-//I ♥ MONTECAMPIONE - ECPv6.15.20//NONSGML v1.0//EN
CALSCALE:GREGORIAN
METHOD:PUBLISH
X-ORIGINAL-URL:https://ioamomontecampione.it
X-WR-CALDESC:Eventi per I ♥ MONTECAMPIONE
REFRESH-INTERVAL;VALUE=DURATION:PT1H
X-Robots-Tag:noindex
X-PUBLISHED-TTL:PT1H
BEGIN:VTIMEZONE
TZID:Europe/San_Marino
BEGIN:DAYLIGHT
TZOFFSETFROM:+0100
TZOFFSETTO:+0200
TZNAME:CEST
DTSTART:20170326T010000
END:DAYLIGHT
BEGIN:STANDARD
TZOFFSETFROM:+0200
TZOFFSETTO:+0100
TZNAME:CET
DTSTART:20171029T010000
END:STANDARD
BEGIN:DAYLIGHT
TZOFFSETFROM:+0100
TZOFFSETTO:+0200
TZNAME:CEST
DTSTART:20180325T010000
END:DAYLIGHT
BEGIN:STANDARD
TZOFFSETFROM:+0200
TZOFFSETTO:+0100
TZNAME:CET
DTSTART:20181028T010000
END:STANDARD
BEGIN:DAYLIGHT
TZOFFSETFROM:+0100
TZOFFSETTO:+0200
TZNAME:CEST
DTSTART:20190331T010000
END:DAYLIGHT
BEGIN:STANDARD
TZOFFSETFROM:+0200
TZOFFSETTO:+0100
TZNAME:CET
DTSTART:20191027T010000
END:STANDARD
BEGIN:DAYLIGHT
TZOFFSETFROM:+0100
TZOFFSETTO:+0200
TZNAME:CEST
DTSTART:20200329T010000
END:DAYLIGHT
BEGIN:STANDARD
TZOFFSETFROM:+0200
TZOFFSETTO:+0100
TZNAME:CET
DTSTART:20201025T010000
END:STANDARD
BEGIN:DAYLIGHT
TZOFFSETFROM:+0100
TZOFFSETTO:+0200
TZNAME:CEST
DTSTART:20210328T010000
END:DAYLIGHT
BEGIN:STANDARD
TZOFFSETFROM:+0200
TZOFFSETTO:+0100
TZNAME:CET
DTSTART:20211031T010000
END:STANDARD
END:VTIMEZONE
BEGIN:VTIMEZONE
TZID:Europe/Rome
BEGIN:DAYLIGHT
TZOFFSETFROM:+0100
TZOFFSETTO:+0200
TZNAME:CEST
DTSTART:20170326T010000
END:DAYLIGHT
BEGIN:STANDARD
TZOFFSETFROM:+0200
TZOFFSETTO:+0100
TZNAME:CET
DTSTART:20171029T010000
END:STANDARD
BEGIN:DAYLIGHT
TZOFFSETFROM:+0100
TZOFFSETTO:+0200
TZNAME:CEST
DTSTART:20180325T010000
END:DAYLIGHT
BEGIN:STANDARD
TZOFFSETFROM:+0200
TZOFFSETTO:+0100
TZNAME:CET
DTSTART:20181028T010000
END:STANDARD
BEGIN:DAYLIGHT
TZOFFSETFROM:+0100
TZOFFSETTO:+0200
TZNAME:CEST
DTSTART:20190331T010000
END:DAYLIGHT
BEGIN:STANDARD
TZOFFSETFROM:+0200
TZOFFSETTO:+0100
TZNAME:CET
DTSTART:20191027T010000
END:STANDARD
END:VTIMEZONE
BEGIN:VEVENT
DTSTART;TZID=Europe/San_Marino:20200822T080000
DTEND;TZID=Europe/San_Marino:20200822T170000
DTSTAMP:20260421T172526
CREATED:20200715T150637Z
LAST-MODIFIED:20200715T150637Z
UID:18532-1598083200-1598115600@ioamomontecampione.it
SUMMARY:“Malghe aperte” alla Malga Bassinale di Montecampione
DESCRIPTION:
URL:https://ioamomontecampione.it/event/malghe-aperte-alla-malga-bassinale-di-montecampione-2/
LOCATION:Azienda Agricola Andreoli Marta in Bassinale\, Malga Bassinale\, Artogne\, 25040\, Italia
ORGANIZER;CN="Consorzio per la Tutela del Formaggio Silter":MAILTO:consorziosilter@gmail.com
END:VEVENT
BEGIN:VEVENT
DTSTART;TZID=Europe/San_Marino:20200719T100000
DTEND;TZID=Europe/San_Marino:20200719T170000
DTSTAMP:20260421T172526
CREATED:20200715T150115Z
LAST-MODIFIED:20200715T150115Z
UID:18529-1595152800-1595178000@ioamomontecampione.it
SUMMARY:"Malghe aperte" alla Malga Bassinale di Montecampione
DESCRIPTION:
URL:https://ioamomontecampione.it/event/malghe-aperte-alla-malga-bassinale-di-montecampione/
LOCATION:Azienda Agricola Andreoli Marta in Bassinale\, Malga Bassinale\, Artogne\, 25040\, Italia
ORGANIZER;CN="Consorzio per la Tutela del Formaggio Silter":MAILTO:consorziosilter@gmail.com
END:VEVENT
BEGIN:VEVENT
DTSTART;TZID=Europe/San_Marino:20190804T100000
DTEND;TZID=Europe/San_Marino:20190804T170000
DTSTAMP:20260421T172526
CREATED:20190622T185527Z
LAST-MODIFIED:20190622T185527Z
UID:12265-1564912800-1564938000@ioamomontecampione.it
SUMMARY:"Malghe Aperte" Al Rifugio Elena Tironi Rosello di Sopra di Montecampione
DESCRIPTION:
URL:https://ioamomontecampione.it/event/malghe-aperte-al-rifugio-elena-tironi-rosello-di-sopra-di-montecampione/
LOCATION:Rifugio Elena Tironi Rosello di Sopra\, Località Valgrigna\, Esine\, 25040\, Italia
ORGANIZER;CN="Consorzio per la Tutela del Formaggio Silter":MAILTO:consorziosilter@gmail.com
END:VEVENT
BEGIN:VEVENT
DTSTART;TZID=Europe/San_Marino:20180915T140000
DTEND;TZID=Europe/San_Marino:20180915T170000
DTSTAMP:20260421T172526
CREATED:20180914T094424Z
LAST-MODIFIED:20180914T124407Z
UID:5456-1537020000-1537030800@ioamomontecampione.it
SUMMARY:Storia di un Formaggio presso il Rifugio Rosello di Sopra a Montecampione!
DESCRIPTION:Visita accompagnata\, con partenza alle 14.30 dal rifugio Rosello\, alla malga Rosello di mezzo\, dove potrete assistere al processo di lavorazione del latte: dalla mungitura al prodotto finito. \nSeguirà visita al museo “Silter di Gianico”\, una struttura completamente recuperata\, dove potrete vedere una mostra sulla vita in malga dell’inizio 900.  \nUn occasione singolare soprattutto per i piccoli.  \nNon per ultima\, la degustazione presso il Rifugio\, di prodotti locali accompagnata da un singolare aperitivo/merenda…  \nPrenotazione obbligatoria entro sabato mattina – 03641916180.
URL:https://ioamomontecampione.it/event/storia-di-un-formaggio-presso-il-rifugio-rosello-di-sopra-a-montecampione-3/
LOCATION:Rifugio Elena Tironi Rosello di Sopra\, Località Valgrigna\, Esine\, 25040\, Italia
END:VEVENT
BEGIN:VEVENT
DTSTART;TZID=Europe/Rome:20180818T143000
DTEND;TZID=Europe/Rome:20180818T183000
DTSTAMP:20260421T172526
CREATED:20180817T214338Z
LAST-MODIFIED:20180817T215343Z
UID:4675-1534602600-1534617000@ioamomontecampione.it
SUMMARY:Storia di un Formaggio presso il Rifugio Rosello di Sopra a Montecampione!
DESCRIPTION:N.B. La locandina si riferisce all’evento svoltosi il giorno 16/8 che verrà ripetuto esattamente il giorno 18/8 per consentire la partecipazione di coloro che non erano riusciti a parteciparvi.
URL:https://ioamomontecampione.it/event/storia-di-un-formaggio-presso-il-rifugio-rosello-di-sopra-a-montecampione-2/
LOCATION:Rifugio Elena Tironi Rosello di Sopra\, Località Valgrigna\, Esine\, 25040\, Italia
END:VEVENT
BEGIN:VEVENT
DTSTART;TZID=Europe/Rome:20180816T143000
DTEND;TZID=Europe/Rome:20180816T183000
DTSTAMP:20260421T172526
CREATED:20180815T100420Z
LAST-MODIFIED:20180815T100446Z
UID:4621-1534429800-1534444200@ioamomontecampione.it
SUMMARY:Storia di un Formaggio presso il Rifugio Rosello di Sopra a Montecampione!
DESCRIPTION:
URL:https://ioamomontecampione.it/event/storia-di-un-formaggio-presso-il-rifugio-rosello-di-sopra-a-montecampione/
LOCATION:Rifugio Elena Tironi Rosello di Sopra\, Località Valgrigna\, Esine\, 25040\, Italia
END:VEVENT
END:VCALENDAR