BEGIN:VCALENDAR
VERSION:2.0
PRODID:-//I ♥ MONTECAMPIONE - ECPv6.15.20//NONSGML v1.0//EN
CALSCALE:GREGORIAN
METHOD:PUBLISH
X-WR-CALNAME:I ♥ MONTECAMPIONE
X-ORIGINAL-URL:https://ioamomontecampione.it
X-WR-CALDESC:Eventi per I ♥ MONTECAMPIONE
REFRESH-INTERVAL;VALUE=DURATION:PT1H
X-Robots-Tag:noindex
X-PUBLISHED-TTL:PT1H
BEGIN:VTIMEZONE
TZID:Europe/San_Marino
BEGIN:DAYLIGHT
TZOFFSETFROM:+0100
TZOFFSETTO:+0200
TZNAME:CEST
DTSTART:20210328T010000
END:DAYLIGHT
BEGIN:STANDARD
TZOFFSETFROM:+0200
TZOFFSETTO:+0100
TZNAME:CET
DTSTART:20211031T010000
END:STANDARD
BEGIN:DAYLIGHT
TZOFFSETFROM:+0100
TZOFFSETTO:+0200
TZNAME:CEST
DTSTART:20220327T010000
END:DAYLIGHT
BEGIN:STANDARD
TZOFFSETFROM:+0200
TZOFFSETTO:+0100
TZNAME:CET
DTSTART:20221030T010000
END:STANDARD
BEGIN:DAYLIGHT
TZOFFSETFROM:+0100
TZOFFSETTO:+0200
TZNAME:CEST
DTSTART:20230326T010000
END:DAYLIGHT
BEGIN:STANDARD
TZOFFSETFROM:+0200
TZOFFSETTO:+0100
TZNAME:CET
DTSTART:20231029T010000
END:STANDARD
END:VTIMEZONE
BEGIN:VEVENT
DTSTART;TZID=Europe/San_Marino:20220903T160000
DTEND;TZID=Europe/San_Marino:20220903T173000
DTSTAMP:20260420T210914
CREATED:20220813T083625Z
LAST-MODIFIED:20220827T151849Z
UID:27637-1662220800-1662226200@ioamomontecampione.it
SUMMARY:BITCOIN Meeting MONTECAMPIONE
DESCRIPTION:Scoprite come è facile far parte in modo semplice e sicuro del fantastico mondo Bitcoin \n\n\nInformazioni sull’evento\n\n\n\nVolete conoscere il mondo delle Criptovalute e di ₿itcoin? \nVolete entrare in modo sicuro e profittevole nella più grande Community ₿itcoin della storia? \nDetenete già Bitcoin e senza ulteriori acquisti\, volete mediare la vostra possibile perdita\, dopo l’andamento di mercato del primo semestre 2022!? \nAvete solo un’infarinutura del mondo delle Cryptovalute\, e volete informarvi? \nALLORA DOVETE ASSOLUTAMENTE PARTECIPARE A QUESTO IMPERDIBILE EVENTO!\nPROGRAMMA\nOre 15.45: Registrazione partecipanti. \nOre 16.00: Inizio presentazione da parte dell’esperto Massimo Sarzi. \nOre 17.00: Domande & Risposte. \nSorgente: BITCOIN Meeting MONTECAMPIONE Ingresso libero | Eventbrite
URL:https://ioamomontecampione.it/event/bitcoin-meeting-montecampione-2/
LOCATION:Amanti delle Crypto\, Via Panoramica di Montecampione 71\, Pian Camuno\, 25050\, Italia
ORGANIZER;CN="Amici delle Crypto":MAILTO:info@adc.it
END:VEVENT
BEGIN:VEVENT
DTSTART;TZID=Europe/San_Marino:20220819T100000
DTEND;TZID=Europe/San_Marino:20220819T113000
DTSTAMP:20260420T210914
CREATED:20220728T100548Z
LAST-MODIFIED:20220818T075702Z
UID:27374-1660903200-1660908600@ioamomontecampione.it
SUMMARY:BITCOIN Meeting MONTECAMPIONE
DESCRIPTION:Scoprite come è facile far parte in modo semplice e sicuro del fantastico mondo Bitcoin \n\n\nInformazioni sull’evento\n\n\n\nVolete conoscere il mondo delle Criptovalute e di ₿itcoin? \nVolete entrare in modo sicuro e profittevole nella più grande Community ₿itcoin della storia? \nDetenete già Bitcoin e senza ulteriori acquisti\, volete mediare la vostra possibile perdita\, dopo l’andamento di mercato del primo semestre 2022!? \nAvete solo un’infarinutura del mondo delle Cryptovalute\, e volete informarvi? \nALLORA DOVETE ASSOLUTAMENTE PARTECIPARE A QUESTO IMPERDIBILE EVENTO!\nPROGRAMMA\nOre 9.45: Registrazione partecipanti. \nOre 10.00: Inizio presentazione da parte dell’esperto Massimo Sarzi. \nOre 11.00: Domande & Risposte. \n\n\n\n\nSorgente: BITCOIN Meeting MONTECAMPIONE Ingresso libero | Eventbrite
URL:https://ioamomontecampione.it/event/bitcoin-meeting-montecampione/
LOCATION:Amanti delle Crypto\, Via Panoramica di Montecampione 71\, Pian Camuno\, 25050\, Italia
ORGANIZER;CN="Amici delle Crypto":MAILTO:info@adc.it
END:VEVENT
END:VCALENDAR