BEGIN:VCALENDAR
VERSION:2.0
PRODID:-//I ♥ MONTECAMPIONE - ECPv6.15.20//NONSGML v1.0//EN
CALSCALE:GREGORIAN
METHOD:PUBLISH
X-ORIGINAL-URL:https://ioamomontecampione.it
X-WR-CALDESC:Eventi per I ♥ MONTECAMPIONE
REFRESH-INTERVAL;VALUE=DURATION:PT1H
X-Robots-Tag:noindex
X-PUBLISHED-TTL:PT1H
BEGIN:VTIMEZONE
TZID:Europe/San_Marino
BEGIN:DAYLIGHT
TZOFFSETFROM:+0100
TZOFFSETTO:+0200
TZNAME:CEST
DTSTART:20180325T010000
END:DAYLIGHT
BEGIN:STANDARD
TZOFFSETFROM:+0200
TZOFFSETTO:+0100
TZNAME:CET
DTSTART:20181028T010000
END:STANDARD
BEGIN:DAYLIGHT
TZOFFSETFROM:+0100
TZOFFSETTO:+0200
TZNAME:CEST
DTSTART:20190331T010000
END:DAYLIGHT
BEGIN:STANDARD
TZOFFSETFROM:+0200
TZOFFSETTO:+0100
TZNAME:CET
DTSTART:20191027T010000
END:STANDARD
BEGIN:DAYLIGHT
TZOFFSETFROM:+0100
TZOFFSETTO:+0200
TZNAME:CEST
DTSTART:20200329T010000
END:DAYLIGHT
BEGIN:STANDARD
TZOFFSETFROM:+0200
TZOFFSETTO:+0100
TZNAME:CET
DTSTART:20201025T010000
END:STANDARD
END:VTIMEZONE
BEGIN:VTIMEZONE
TZID:Europe/Rome
BEGIN:DAYLIGHT
TZOFFSETFROM:+0100
TZOFFSETTO:+0200
TZNAME:CEST
DTSTART:20170326T010000
END:DAYLIGHT
BEGIN:STANDARD
TZOFFSETFROM:+0200
TZOFFSETTO:+0100
TZNAME:CET
DTSTART:20171029T010000
END:STANDARD
BEGIN:DAYLIGHT
TZOFFSETFROM:+0100
TZOFFSETTO:+0200
TZNAME:CEST
DTSTART:20180325T010000
END:DAYLIGHT
BEGIN:STANDARD
TZOFFSETFROM:+0200
TZOFFSETTO:+0100
TZNAME:CET
DTSTART:20181028T010000
END:STANDARD
BEGIN:DAYLIGHT
TZOFFSETFROM:+0100
TZOFFSETTO:+0200
TZNAME:CEST
DTSTART:20190331T010000
END:DAYLIGHT
BEGIN:STANDARD
TZOFFSETFROM:+0200
TZOFFSETTO:+0100
TZNAME:CET
DTSTART:20191027T010000
END:STANDARD
END:VTIMEZONE
BEGIN:VEVENT
DTSTART;TZID=Europe/San_Marino:20190803T170000
DTEND;TZID=Europe/San_Marino:20190803T210000
DTSTAMP:20260422T044703
CREATED:20190729T083556Z
LAST-MODIFIED:20190729T083556Z
UID:12934-1564851600-1564866000@ioamomontecampione.it
SUMMARY:Gita al Rifugio Dosso Rotondo in E-Bike con gli Istruttori del Noleggio Dylan
DESCRIPTION:
URL:https://ioamomontecampione.it/event/gita-al-rifugio-dosso-rotondo-in-e-bike-con-gli-istruttori-del-noleggio-dylan-2/
LOCATION:Rifugio Dosso Rotondo\, Via Plan di Montecampione 24\, Artogne\, 25040\, Italia
ORGANIZER;CN="Noleggio Dylan":MAILTO:dylanskiservice@gmail.com
END:VEVENT
BEGIN:VEVENT
DTSTART;TZID=Europe/San_Marino:20190727T170000
DTEND;TZID=Europe/San_Marino:20190727T210000
DTSTAMP:20260422T044703
CREATED:20190721T185810Z
LAST-MODIFIED:20190721T185810Z
UID:12813-1564246800-1564261200@ioamomontecampione.it
SUMMARY:Gita al Rifugio Dosso Rotondo in E-Bike con gli Istruttori del Noleggio Dylan
DESCRIPTION:
URL:https://ioamomontecampione.it/event/gita-al-rifugio-dosso-rotondo-in-e-bike-con-gli-istruttori-del-noleggio-dylan/
LOCATION:Rifugio Dosso Rotondo\, Via Plan di Montecampione 24\, Artogne\, 25040\, Italia
ORGANIZER;CN="Noleggio Dylan":MAILTO:dylanskiservice@gmail.com
END:VEVENT
BEGIN:VEVENT
DTSTART;TZID=Europe/San_Marino:20190719T173000
DTEND;TZID=Europe/San_Marino:20190719T210000
DTSTAMP:20260422T044703
CREATED:20190714T193708Z
LAST-MODIFIED:20190714T193708Z
UID:12673-1563557400-1563570000@ioamomontecampione.it
SUMMARY:Gita al Rifugio Alpini Monte Cimosco in E-Bike con gli Istruttori del Noleggio Dylan
DESCRIPTION:
URL:https://ioamomontecampione.it/event/gita-al-rifugio-alpini-monte-cimosco-in-e-bike-con-gli-istruttori-del-noleggio-dylan/
LOCATION:Rifugio Alpini Monte Cimosco\, Località Monte Cimosco\, Gianico\, 25040\, Italia
ORGANIZER;CN="Noleggio Dylan":MAILTO:dylanskiservice@gmail.com
END:VEVENT
BEGIN:VEVENT
DTSTART;TZID=Europe/San_Marino:20190707T100000
DTEND;TZID=Europe/San_Marino:20190707T160000
DTSTAMP:20260422T044703
CREATED:20190703T080929Z
LAST-MODIFIED:20190703T080929Z
UID:12459-1562493600-1562515200@ioamomontecampione.it
SUMMARY:Aperitivo in quota al Rifugio Elena Tironi Rosello di Sopra di Montecampione
DESCRIPTION:
URL:https://ioamomontecampione.it/event/aperitivo-in-quota-al-rifugio-elena-tironi-rosello-di-sopra-di-montecampione/
LOCATION:Rifugio Elena Tironi Rosello di Sopra\, Località Valgrigna\, Esine\, 25040\, Italia
END:VEVENT
BEGIN:VEVENT
DTSTART;TZID=Europe/Rome:20180708T100000
DTEND;TZID=Europe/Rome:20180708T160000
DTSTAMP:20260422T044703
CREATED:20180627T151106Z
LAST-MODIFIED:20180627T151106Z
UID:2747-1531044000-1531065600@ioamomontecampione.it
SUMMARY:A Montecampione\, Aperitivo in quota presso il Rifugio Rosello di Sopra
DESCRIPTION:
URL:https://ioamomontecampione.it/event/a-montecampione-aperitivo-in-quota-presso-il-rifugio-rosello-di-sopra/
LOCATION:Rifugio Elena Tironi Rosello di Sopra\, Località Valgrigna\, Esine\, 25040\, Italia
END:VEVENT
END:VCALENDAR