BEGIN:VCALENDAR
VERSION:2.0
PRODID:-//I ♥ MONTECAMPIONE - ECPv6.15.20//NONSGML v1.0//EN
CALSCALE:GREGORIAN
METHOD:PUBLISH
X-ORIGINAL-URL:https://ioamomontecampione.it
X-WR-CALDESC:Eventi per I ♥ MONTECAMPIONE
REFRESH-INTERVAL;VALUE=DURATION:PT1H
X-Robots-Tag:noindex
X-PUBLISHED-TTL:PT1H
BEGIN:VTIMEZONE
TZID:Europe/San_Marino
BEGIN:DAYLIGHT
TZOFFSETFROM:+0100
TZOFFSETTO:+0200
TZNAME:CEST
DTSTART:20180325T010000
END:DAYLIGHT
BEGIN:STANDARD
TZOFFSETFROM:+0200
TZOFFSETTO:+0100
TZNAME:CET
DTSTART:20181028T010000
END:STANDARD
BEGIN:DAYLIGHT
TZOFFSETFROM:+0100
TZOFFSETTO:+0200
TZNAME:CEST
DTSTART:20190331T010000
END:DAYLIGHT
BEGIN:STANDARD
TZOFFSETFROM:+0200
TZOFFSETTO:+0100
TZNAME:CET
DTSTART:20191027T010000
END:STANDARD
BEGIN:DAYLIGHT
TZOFFSETFROM:+0100
TZOFFSETTO:+0200
TZNAME:CEST
DTSTART:20200329T010000
END:DAYLIGHT
BEGIN:STANDARD
TZOFFSETFROM:+0200
TZOFFSETTO:+0100
TZNAME:CET
DTSTART:20201025T010000
END:STANDARD
END:VTIMEZONE
BEGIN:VTIMEZONE
TZID:Europe/Rome
BEGIN:DAYLIGHT
TZOFFSETFROM:+0100
TZOFFSETTO:+0200
TZNAME:CEST
DTSTART:20170326T010000
END:DAYLIGHT
BEGIN:STANDARD
TZOFFSETFROM:+0200
TZOFFSETTO:+0100
TZNAME:CET
DTSTART:20171029T010000
END:STANDARD
BEGIN:DAYLIGHT
TZOFFSETFROM:+0100
TZOFFSETTO:+0200
TZNAME:CEST
DTSTART:20180325T010000
END:DAYLIGHT
BEGIN:STANDARD
TZOFFSETFROM:+0200
TZOFFSETTO:+0100
TZNAME:CET
DTSTART:20181028T010000
END:STANDARD
BEGIN:DAYLIGHT
TZOFFSETFROM:+0100
TZOFFSETTO:+0200
TZNAME:CEST
DTSTART:20190331T010000
END:DAYLIGHT
BEGIN:STANDARD
TZOFFSETFROM:+0200
TZOFFSETTO:+0100
TZNAME:CET
DTSTART:20191027T010000
END:STANDARD
END:VTIMEZONE
BEGIN:VEVENT
DTSTART;TZID=Europe/San_Marino:20190804T150000
DTEND;TZID=Europe/San_Marino:20190804T183000
DTSTAMP:20260422T015009
CREATED:20190626T121656Z
LAST-MODIFIED:20190722T165757Z
UID:12318-1564930800-1564943400@ioamomontecampione.it
SUMMARY:Open Day per bambini e Ragazzi al Centro Tennis Laghetto
DESCRIPTION:
URL:https://ioamomontecampione.it/event/open-day-per-bambini-e-ragazzi-al-centro-tennis-laghetto-4/
LOCATION:Centro Tennis Laghetto\, Via Panoramica di Montecampione\, Pian Camuno\, 25050\, Italia
ORGANIZER;CN="Centro Tennis Laghetto":MAILTO:paolaafontanaa@gmail.com
END:VEVENT
BEGIN:VEVENT
DTSTART;TZID=Europe/San_Marino:20190714T150000
DTEND;TZID=Europe/San_Marino:20190714T183000
DTSTAMP:20260422T015009
CREATED:20190626T121519Z
LAST-MODIFIED:20190626T121519Z
UID:12315-1563116400-1563129000@ioamomontecampione.it
SUMMARY:Open Day per bambini e Ragazzi al Centro Tennis Laghetto
DESCRIPTION:
URL:https://ioamomontecampione.it/event/open-day-per-bambini-e-ragazzi-al-centro-tennis-laghetto-3/
LOCATION:Centro Tennis Laghetto\, Via Panoramica di Montecampione\, Pian Camuno\, 25050\, Italia
ORGANIZER;CN="Centro Tennis Laghetto":MAILTO:paolaafontanaa@gmail.com
END:VEVENT
BEGIN:VEVENT
DTSTART;TZID=Europe/Rome:20180729T150000
DTEND;TZID=Europe/Rome:20180729T183000
DTSTAMP:20260422T015009
CREATED:20180714T072625Z
LAST-MODIFIED:20180714T072641Z
UID:3406-1532876400-1532889000@ioamomontecampione.it
SUMMARY:Open Day per bambini e Ragazzi al Centro Tennis Laghetto
DESCRIPTION:
URL:https://ioamomontecampione.it/event/open-day-per-bambini-e-ragazzi-al-centro-tennis-laghetto-2/
LOCATION:Centro Tennis Laghetto\, Via Panoramica di Montecampione\, Pian Camuno\, 25050\, Italia
ORGANIZER;CN="Centro Tennis Laghetto":MAILTO:paolaafontanaa@gmail.com
END:VEVENT
BEGIN:VEVENT
DTSTART;TZID=Europe/Rome:20180715T150000
DTEND;TZID=Europe/Rome:20180715T183000
DTSTAMP:20260422T015009
CREATED:20180714T071924Z
LAST-MODIFIED:20180714T071924Z
UID:3401-1531666800-1531679400@ioamomontecampione.it
SUMMARY:Open Day per bambini e Ragazzi al Centro Tennis Laghetto
DESCRIPTION:
URL:https://ioamomontecampione.it/event/open-day-per-bambini-e-ragazzi-al-centro-tennis-laghetto/
LOCATION:Centro Tennis Laghetto\, Via Panoramica di Montecampione\, Pian Camuno\, 25050\, Italia
ORGANIZER;CN="Centro Tennis Laghetto":MAILTO:paolaafontanaa@gmail.com
END:VEVENT
END:VCALENDAR