BEGIN:VCALENDAR
VERSION:2.0
PRODID:-//I ♥ MONTECAMPIONE - ECPv6.15.20//NONSGML v1.0//EN
CALSCALE:GREGORIAN
METHOD:PUBLISH
X-WR-CALNAME:I ♥ MONTECAMPIONE
X-ORIGINAL-URL:https://ioamomontecampione.it
X-WR-CALDESC:Eventi per I ♥ MONTECAMPIONE
REFRESH-INTERVAL;VALUE=DURATION:PT1H
X-Robots-Tag:noindex
X-PUBLISHED-TTL:PT1H
BEGIN:VTIMEZONE
TZID:Europe/San_Marino
BEGIN:DAYLIGHT
TZOFFSETFROM:+0100
TZOFFSETTO:+0200
TZNAME:CEST
DTSTART:20200329T010000
END:DAYLIGHT
BEGIN:STANDARD
TZOFFSETFROM:+0200
TZOFFSETTO:+0100
TZNAME:CET
DTSTART:20201025T010000
END:STANDARD
BEGIN:DAYLIGHT
TZOFFSETFROM:+0100
TZOFFSETTO:+0200
TZNAME:CEST
DTSTART:20210328T010000
END:DAYLIGHT
BEGIN:STANDARD
TZOFFSETFROM:+0200
TZOFFSETTO:+0100
TZNAME:CET
DTSTART:20211031T010000
END:STANDARD
BEGIN:DAYLIGHT
TZOFFSETFROM:+0100
TZOFFSETTO:+0200
TZNAME:CEST
DTSTART:20220327T010000
END:DAYLIGHT
BEGIN:STANDARD
TZOFFSETFROM:+0200
TZOFFSETTO:+0100
TZNAME:CET
DTSTART:20221030T010000
END:STANDARD
END:VTIMEZONE
BEGIN:VEVENT
DTSTART;TZID=Europe/San_Marino:20210829T080000
DTEND;TZID=Europe/San_Marino:20210829T170000
DTSTAMP:20260422T043130
CREATED:20210828T151934Z
LAST-MODIFIED:20210828T151934Z
UID:20650-1630224000-1630256400@ioamomontecampione.it
SUMMARY:Progetto Famiglia Serena organizza lo Shopping Solidale alla Splaza
DESCRIPTION:
URL:https://ioamomontecampione.it/event/progetto-famiglia-serena-organizza-lo-shopping-solidale-alla-splaza-6/
LOCATION:Residence La Splaza\, Via Legazzuolo di Montecampione\, Artogne\, 25040\, Italia
END:VEVENT
BEGIN:VEVENT
DTSTART;TZID=Europe/San_Marino:20210822T080000
DTEND;TZID=Europe/San_Marino:20210822T170000
DTSTAMP:20260422T043130
CREATED:20210816T151320Z
LAST-MODIFIED:20210816T151320Z
UID:20470-1629619200-1629651600@ioamomontecampione.it
SUMMARY:Progetto Famiglia Serena organizza lo Shopping Solidale alla Splaza
DESCRIPTION:
URL:https://ioamomontecampione.it/event/progetto-famiglia-serena-organizza-lo-shopping-solidale-alla-splaza-5/
LOCATION:Residence La Splaza\, Via Legazzuolo di Montecampione\, Artogne\, 25040\, Italia
END:VEVENT
BEGIN:VEVENT
DTSTART;TZID=Europe/San_Marino:20210815T080000
DTEND;TZID=Europe/San_Marino:20210815T170000
DTSTAMP:20260422T043130
CREATED:20210809T095045Z
LAST-MODIFIED:20210809T095045Z
UID:20366-1629014400-1629046800@ioamomontecampione.it
SUMMARY:Progetto Famiglia Serena organizza lo Shopping Solidale alla Splaza
DESCRIPTION:
URL:https://ioamomontecampione.it/event/progetto-famiglia-serena-organizza-lo-shopping-solidale-alla-splaza-4/
LOCATION:Residence La Splaza\, Via Legazzuolo di Montecampione\, Artogne\, 25040\, Italia
END:VEVENT
BEGIN:VEVENT
DTSTART;TZID=Europe/San_Marino:20210808T090000
DTEND;TZID=Europe/San_Marino:20210808T153000
DTSTAMP:20260422T043130
CREATED:20210807T153603Z
LAST-MODIFIED:20210809T094855Z
UID:20350-1628413200-1628436600@ioamomontecampione.it
SUMMARY:Progetto Famiglia Serena organizza lo Shopping Solidale alla Splaza
DESCRIPTION:
URL:https://ioamomontecampione.it/event/progetto-famiglia-serena-organizza-lo-shopping-solidale-alla-splaza-3/
LOCATION:Residence La Splaza\, Via Legazzuolo di Montecampione\, Artogne\, 25040\, Italia
END:VEVENT
BEGIN:VEVENT
DTSTART;TZID=Europe/San_Marino:20210801T090000
DTEND;TZID=Europe/San_Marino:20210801T153000
DTSTAMP:20260422T043130
CREATED:20210726T122057Z
LAST-MODIFIED:20210729T082718Z
UID:20093-1627808400-1627831800@ioamomontecampione.it
SUMMARY:Progetto Famiglia Serena organizza lo Shopping Solidale alla Splaza
DESCRIPTION:
URL:https://ioamomontecampione.it/event/progetto-famiglia-serena-organizza-lo-shopping-solidale-alla-splaza-2/
LOCATION:Residence La Splaza\, Via Legazzuolo di Montecampione\, Artogne\, 25040\, Italia
END:VEVENT
BEGIN:VEVENT
DTSTART;TZID=Europe/San_Marino:20210725T090000
DTEND;TZID=Europe/San_Marino:20210725T153000
DTSTAMP:20260422T043130
CREATED:20210724T084546Z
LAST-MODIFIED:20210724T084546Z
UID:20027-1627203600-1627227000@ioamomontecampione.it
SUMMARY:Progetto Famiglia Serena organizza lo Shopping Solidale alla Splaza
DESCRIPTION:
URL:https://ioamomontecampione.it/event/progetto-famiglia-serena-organizza-lo-shopping-solidale-alla-splaza/
LOCATION:Residence La Splaza\, Via Legazzuolo di Montecampione\, Artogne\, 25040\, Italia
END:VEVENT
END:VCALENDAR