BEGIN:VCALENDAR
VERSION:2.0
PRODID:-//I ♥ MONTECAMPIONE - ECPv6.15.20//NONSGML v1.0//EN
CALSCALE:GREGORIAN
METHOD:PUBLISH
X-ORIGINAL-URL:https://ioamomontecampione.it
X-WR-CALDESC:Eventi per I ♥ MONTECAMPIONE
REFRESH-INTERVAL;VALUE=DURATION:PT1H
X-Robots-Tag:noindex
X-PUBLISHED-TTL:PT1H
BEGIN:VTIMEZONE
TZID:Europe/San_Marino
BEGIN:DAYLIGHT
TZOFFSETFROM:+0100
TZOFFSETTO:+0200
TZNAME:CEST
DTSTART:20180325T010000
END:DAYLIGHT
BEGIN:STANDARD
TZOFFSETFROM:+0200
TZOFFSETTO:+0100
TZNAME:CET
DTSTART:20181028T010000
END:STANDARD
BEGIN:DAYLIGHT
TZOFFSETFROM:+0100
TZOFFSETTO:+0200
TZNAME:CEST
DTSTART:20190331T010000
END:DAYLIGHT
BEGIN:STANDARD
TZOFFSETFROM:+0200
TZOFFSETTO:+0100
TZNAME:CET
DTSTART:20191027T010000
END:STANDARD
BEGIN:DAYLIGHT
TZOFFSETFROM:+0100
TZOFFSETTO:+0200
TZNAME:CEST
DTSTART:20200329T010000
END:DAYLIGHT
BEGIN:STANDARD
TZOFFSETFROM:+0200
TZOFFSETTO:+0100
TZNAME:CET
DTSTART:20201025T010000
END:STANDARD
END:VTIMEZONE
BEGIN:VTIMEZONE
TZID:Europe/Rome
BEGIN:DAYLIGHT
TZOFFSETFROM:+0100
TZOFFSETTO:+0200
TZNAME:CEST
DTSTART:20170326T010000
END:DAYLIGHT
BEGIN:STANDARD
TZOFFSETFROM:+0200
TZOFFSETTO:+0100
TZNAME:CET
DTSTART:20171029T010000
END:STANDARD
BEGIN:DAYLIGHT
TZOFFSETFROM:+0100
TZOFFSETTO:+0200
TZNAME:CEST
DTSTART:20180325T010000
END:DAYLIGHT
BEGIN:STANDARD
TZOFFSETFROM:+0200
TZOFFSETTO:+0100
TZNAME:CET
DTSTART:20181028T010000
END:STANDARD
BEGIN:DAYLIGHT
TZOFFSETFROM:+0100
TZOFFSETTO:+0200
TZNAME:CEST
DTSTART:20190331T010000
END:DAYLIGHT
BEGIN:STANDARD
TZOFFSETFROM:+0200
TZOFFSETTO:+0100
TZNAME:CET
DTSTART:20191027T010000
END:STANDARD
END:VTIMEZONE
BEGIN:VEVENT
DTSTART;TZID=Europe/San_Marino:20190830T193000
DTEND;TZID=Europe/San_Marino:20190830T220000
DTSTAMP:20260421T224900
CREATED:20190826T134549Z
LAST-MODIFIED:20190826T134605Z
UID:13414-1567193400-1567202400@ioamomontecampione.it
SUMMARY:A cena con... le Stelle presso il Rifugio Alpini Monte Cimosco di Montecampione
DESCRIPTION:n
URL:https://ioamomontecampione.it/event/a-cena-con-le-stelle-presso-il-rifugio-alpini-monte-cimosco-di-montecampione/
LOCATION:Rifugio Alpini Monte Cimosco\, Località Monte Cimosco\, Gianico\, 25040\, Italia
END:VEVENT
BEGIN:VEVENT
DTSTART;TZID=Europe/San_Marino:20190726T190000
DTEND;TZID=Europe/San_Marino:20190726T233000
DTSTAMP:20260421T224900
CREATED:20190719T064108Z
LAST-MODIFIED:20190719T064108Z
UID:12786-1564167600-1564183800@ioamomontecampione.it
SUMMARY:Con i piedi a Terra ed il naso all'insù al Rifugio E.Tironi Rosello di Sopra di Montecampione
DESCRIPTION:
URL:https://ioamomontecampione.it/event/con-i-piedi-a-terra-ed-il-naso-allinsu-al-rifugio-e-tironi-rosello-di-sopra-di-montecampione/
LOCATION:Rifugio Elena Tironi Rosello di Sopra\, Località Valgrigna\, Esine\, 25040\, Italia
END:VEVENT
BEGIN:VEVENT
DTSTART;TZID=Europe/Rome:20180824T183000
DTEND;TZID=Europe/Rome:20180824T223000
DTSTAMP:20260421T224900
CREATED:20180806T163935Z
LAST-MODIFIED:20180806T164129Z
UID:4094-1535135400-1535149800@ioamomontecampione.it
SUMMARY:Presso il Rifugio Rosello di Sopra di Montecampione: Osserviamo la Luna
DESCRIPTION:Presso il rifugio\, l’astronomo Mauro ci condurrà nell’osservazione della Luna. \nChi volesse\, può portare il proprio telescopio\, un’occasione per imparare ad usarlo. \nSvolgimento della serata:\n18.30 ritrovo\, sistemazione dell’attrezzatura\, introduzione teorica. \nOre 19.30 light buffet\, con antipasto\, primo\, dolce e caffè \nOre 21.30 circa inizio dell’osservazione. \nPrenotazione obbligatoria – € 15\,00 a persona – Posti limitati
URL:https://ioamomontecampione.it/event/presso-il-rifugio-rosello-di-sopra-di-montecampione-osserviamo-la-luna/
LOCATION:Rifugio Elena Tironi Rosello di Sopra\, Località Valgrigna\, Esine\, 25040\, Italia
END:VEVENT
BEGIN:VEVENT
DTSTART;TZID=Europe/Rome:20180809T183000
DTEND;TZID=Europe/Rome:20180809T223000
DTSTAMP:20260421T224900
CREATED:20180806T084226Z
LAST-MODIFIED:20180806T163832Z
UID:4090-1533839400-1533853800@ioamomontecampione.it
SUMMARY:Presso il Rifugio Rosello di Sopra di Montecampione: Osserviamo le Stelle
DESCRIPTION:Presso il Rifugio\, l’astrofilo Mauro\, ci condurrà nell’individuazione dei corpi stellati del cielo. \nChi volesse\, può portare il proprio telescopio\, un’occasione per imparare ad usarlo. \nSvolgimento della serata:\n18.30 ritrovo\, sistemazione dell’attrezzatura\, introduzione teorica…e… CREAZIONE DEL PLANETARIO!!! \nOre 19.30 light buffet\, con antipasto\, primo\, dolce e caffè \nOre 21.30 circa inizio dell’osservazione. \nPrenotazione obbligatoria – € 15\,00 a persona – Posti limitati
URL:https://ioamomontecampione.it/event/presso-il-rifugio-rosello-di-sopra-di-montecampione-osserviamo-le-stelle/
LOCATION:Rifugio Elena Tironi Rosello di Sopra\, Località Valgrigna\, Esine\, 25040\, Italia
END:VEVENT
BEGIN:VEVENT
DTSTART;TZID=Europe/Rome:20180803T183000
DTEND;TZID=Europe/Rome:20180803T230000
DTSTAMP:20260421T224900
CREATED:20180728T180303Z
LAST-MODIFIED:20180801T050239Z
UID:3884-1533321000-1533337200@ioamomontecampione.it
SUMMARY:Presso il Rifugio Rosello di Sopra di Montecampione: Osserviamo i Pianeti
DESCRIPTION:Un ciclo di tre incontri per scoprire\, amare e ammirare il cielo attraverso i suoi astri.\nVenerdì 3 Agosto 2018 – ore 18.30 i Pianeti. \nPresso il Rifugio\, l’astronomo Mauro ci condurrà nell’individuazione dei pianeti nel cielo.\nPer chi volesse\, può portare il proprio telescopio\, un’occasione per imparare ad usarlo. \nSvolgimento della serata:\n18.30 ritrovo\, sistemazione dell’attrezzatura\, introduzione teorica…e… CREAZIONE DEL PLANETARIO!!! \nOre 19.30 light buffet\, con antipasto\, primo\, dolce e caffè \nOre 21.30 circa inizio dell’osservazione. \nPrenotazione obbligatoria – € 15\,00 a persona – Posti limitati
URL:https://ioamomontecampione.it/event/presso-il-rifugio-rosello-di-sopra-di-montecampione-osserivamo-i-pianeti/
LOCATION:Rifugio Elena Tironi Rosello di Sopra\, Località Valgrigna\, Esine\, 25040\, Italia
END:VEVENT
END:VCALENDAR