BEGIN:VCALENDAR
VERSION:2.0
PRODID:-//I ♥ MONTECAMPIONE - ECPv6.15.20//NONSGML v1.0//EN
CALSCALE:GREGORIAN
METHOD:PUBLISH
X-ORIGINAL-URL:https://ioamomontecampione.it
X-WR-CALDESC:Eventi per I ♥ MONTECAMPIONE
REFRESH-INTERVAL;VALUE=DURATION:PT1H
X-Robots-Tag:noindex
X-PUBLISHED-TTL:PT1H
BEGIN:VTIMEZONE
TZID:Europe/San_Marino
BEGIN:DAYLIGHT
TZOFFSETFROM:+0100
TZOFFSETTO:+0200
TZNAME:CEST
DTSTART:20180325T010000
END:DAYLIGHT
BEGIN:STANDARD
TZOFFSETFROM:+0200
TZOFFSETTO:+0100
TZNAME:CET
DTSTART:20181028T010000
END:STANDARD
BEGIN:DAYLIGHT
TZOFFSETFROM:+0100
TZOFFSETTO:+0200
TZNAME:CEST
DTSTART:20190331T010000
END:DAYLIGHT
BEGIN:STANDARD
TZOFFSETFROM:+0200
TZOFFSETTO:+0100
TZNAME:CET
DTSTART:20191027T010000
END:STANDARD
BEGIN:DAYLIGHT
TZOFFSETFROM:+0100
TZOFFSETTO:+0200
TZNAME:CEST
DTSTART:20200329T010000
END:DAYLIGHT
BEGIN:STANDARD
TZOFFSETFROM:+0200
TZOFFSETTO:+0100
TZNAME:CET
DTSTART:20201025T010000
END:STANDARD
END:VTIMEZONE
BEGIN:VTIMEZONE
TZID:Europe/Rome
BEGIN:DAYLIGHT
TZOFFSETFROM:+0100
TZOFFSETTO:+0200
TZNAME:CEST
DTSTART:20170326T010000
END:DAYLIGHT
BEGIN:STANDARD
TZOFFSETFROM:+0200
TZOFFSETTO:+0100
TZNAME:CET
DTSTART:20171029T010000
END:STANDARD
BEGIN:DAYLIGHT
TZOFFSETFROM:+0100
TZOFFSETTO:+0200
TZNAME:CEST
DTSTART:20180325T010000
END:DAYLIGHT
BEGIN:STANDARD
TZOFFSETFROM:+0200
TZOFFSETTO:+0100
TZNAME:CET
DTSTART:20181028T010000
END:STANDARD
BEGIN:DAYLIGHT
TZOFFSETFROM:+0100
TZOFFSETTO:+0200
TZNAME:CEST
DTSTART:20190331T010000
END:DAYLIGHT
BEGIN:STANDARD
TZOFFSETFROM:+0200
TZOFFSETTO:+0100
TZNAME:CET
DTSTART:20191027T010000
END:STANDARD
END:VTIMEZONE
BEGIN:VEVENT
DTSTART;TZID=Europe/San_Marino:20190812T183000
DTEND;TZID=Europe/San_Marino:20190812T220000
DTSTAMP:20260424T190358
CREATED:20190812T052316Z
LAST-MODIFIED:20190812T052316Z
UID:13188-1565634600-1565647200@ioamomontecampione.it
SUMMARY:Giocoliamo presso il RIfugio Il Bait di Montecampione
DESCRIPTION:
URL:https://ioamomontecampione.it/event/giocoliamo-presso-il-rifugio-il-bait-di-montecampione/
LOCATION:Rifugio Al Bait\, Via Plan di Montecampione 86\, Artogne\, 25040\, Italia
ORGANIZER;CN="Rifugio Al Bait":MAILTO:rifugioilbait@libero.it
END:VEVENT
BEGIN:VEVENT
DTSTART;TZID=Europe/Rome:20180915T210000
DTEND;TZID=Europe/Rome:20180915T233000
DTSTAMP:20260424T190358
CREATED:20180910T093956Z
LAST-MODIFIED:20180910T093956Z
UID:5399-1537045200-1537054200@ioamomontecampione.it
SUMMARY:Baby Dance e Musica con Gnappo alla Sala Teatro del Residence La Splaza di Montecampione
DESCRIPTION:
URL:https://ioamomontecampione.it/event/baby-dance-e-musica-con-gnappo-alla-sala-teatro-del-residence-la-splaza-di-montecampione-6/
LOCATION:Residence La Splaza\, Via Legazzuolo di Montecampione\, Artogne\, 25040\, Italia
ORGANIZER;CN="Residence la Splaza":MAILTO:caporossi.simone@gmail.com
END:VEVENT
BEGIN:VEVENT
DTSTART;TZID=Europe/Rome:20180914T210000
DTEND;TZID=Europe/Rome:20180914T233000
DTSTAMP:20260424T190358
CREATED:20180910T093846Z
LAST-MODIFIED:20180910T093846Z
UID:5397-1536958800-1536967800@ioamomontecampione.it
SUMMARY:Baby Dance e Musica con Gnappo alla Sala Teatro del Residence La Splaza di Montecampione
DESCRIPTION:
URL:https://ioamomontecampione.it/event/baby-dance-e-musica-con-gnappo-alla-sala-teatro-del-residence-la-splaza-di-montecampione-5/
LOCATION:Residence La Splaza\, Via Legazzuolo di Montecampione\, Artogne\, 25040\, Italia
ORGANIZER;CN="Residence la Splaza":MAILTO:caporossi.simone@gmail.com
END:VEVENT
BEGIN:VEVENT
DTSTART;TZID=Europe/Rome:20180913T210000
DTEND;TZID=Europe/Rome:20180913T233000
DTSTAMP:20260424T190358
CREATED:20180910T093709Z
LAST-MODIFIED:20180910T093709Z
UID:5395-1536872400-1536881400@ioamomontecampione.it
SUMMARY:Baby Dance e Musica con Gnappo alla Sala Teatro del Residence La Splaza di Montecampione
DESCRIPTION:
URL:https://ioamomontecampione.it/event/baby-dance-e-musica-con-gnappo-alla-sala-teatro-del-residence-la-splaza-di-montecampione-4/
LOCATION:Residence La Splaza\, Via Legazzuolo di Montecampione\, Artogne\, 25040\, Italia
ORGANIZER;CN="Residence la Splaza":MAILTO:caporossi.simone@gmail.com
END:VEVENT
BEGIN:VEVENT
DTSTART;TZID=Europe/Rome:20180912T210000
DTEND;TZID=Europe/Rome:20180912T233000
DTSTAMP:20260424T190358
CREATED:20180910T093559Z
LAST-MODIFIED:20180910T093559Z
UID:5393-1536786000-1536795000@ioamomontecampione.it
SUMMARY:Baby Dance e Musica con Gnappo alla Sala Teatro del Residence La Splaza di Montecampione
DESCRIPTION:
URL:https://ioamomontecampione.it/event/baby-dance-e-musica-con-gnappo-alla-sala-teatro-del-residence-la-splaza-di-montecampione-3/
LOCATION:Residence La Splaza\, Via Legazzuolo di Montecampione\, Artogne\, 25040\, Italia
ORGANIZER;CN="Residence la Splaza":MAILTO:caporossi.simone@gmail.com
END:VEVENT
BEGIN:VEVENT
DTSTART;TZID=Europe/Rome:20180911T210000
DTEND;TZID=Europe/Rome:20180911T233000
DTSTAMP:20260424T190358
CREATED:20180910T093438Z
LAST-MODIFIED:20180910T093438Z
UID:5391-1536699600-1536708600@ioamomontecampione.it
SUMMARY:Baby Dance e Musica con Gnappo alla Sala Teatro del Residence La Splaza di Montecampione
DESCRIPTION:
URL:https://ioamomontecampione.it/event/baby-dance-e-musica-con-gnappo-alla-sala-teatro-del-residence-la-splaza-di-montecampione-2/
LOCATION:Residence La Splaza\, Via Legazzuolo di Montecampione\, Artogne\, 25040\, Italia
ORGANIZER;CN="Residence la Splaza":MAILTO:caporossi.simone@gmail.com
END:VEVENT
BEGIN:VEVENT
DTSTART;TZID=Europe/Rome:20180910T210000
DTEND;TZID=Europe/Rome:20180910T233000
DTSTAMP:20260424T190358
CREATED:20180910T093241Z
LAST-MODIFIED:20180910T093241Z
UID:5385-1536613200-1536622200@ioamomontecampione.it
SUMMARY:Baby Dance e Musica con Gnappo alla Sala Teatro del Residence La Splaza di Montecampione
DESCRIPTION:
URL:https://ioamomontecampione.it/event/baby-dance-e-musica-con-gnappo-alla-sala-teatro-del-residence-la-splaza-di-montecampione/
LOCATION:Residence La Splaza\, Via Legazzuolo di Montecampione\, Artogne\, 25040\, Italia
ORGANIZER;CN="Residence la Splaza":MAILTO:caporossi.simone@gmail.com
END:VEVENT
BEGIN:VEVENT
DTSTART;TZID=Europe/Rome:20180819T210000
DTEND;TZID=Europe/Rome:20180820T003000
DTSTAMP:20260424T190358
CREATED:20180627T193404Z
LAST-MODIFIED:20180627T193404Z
UID:2778-1534712400-1534725000@ioamomontecampione.it
SUMMARY:A Montecampione\, Seratona in Musica con Dj Beppe F. in Piazzetta!
DESCRIPTION:
URL:https://ioamomontecampione.it/event/a-montecampione-seratona-in-musica-con-dj-beppe-f-in-piazzetta/
LOCATION:Piazzetta di Montecampione\, Via Pradosole di Montecampione 50\, Artogne\, 25040\, Italia
ORGANIZER;CN="Associazione dei Commercianti e degli Operatori Turistici di Montecampione":MAILTO:info@assomontecampione.it
END:VEVENT
BEGIN:VEVENT
DTSTART;TZID=Europe/Rome:20180728T211500
DTEND;TZID=Europe/Rome:20180729T003000
DTSTAMP:20260424T190358
CREATED:20180722T225809Z
LAST-MODIFIED:20180722T225809Z
UID:3717-1532812500-1532824200@ioamomontecampione.it
SUMMARY:Karaoke in Piazzetta di Montecampione con Gnappo
DESCRIPTION:
URL:https://ioamomontecampione.it/event/karaoke-in-piazzetta-di-montecampione-con-gnappo/
LOCATION:Piazzetta di Montecampione\, Via Pradosole di Montecampione 50\, Artogne\, 25040\, Italia
ORGANIZER;CN="Consorzio Montecampione":MAILTO:info@consorziomontecampione.it
END:VEVENT
BEGIN:VEVENT
DTSTART;TZID=Europe/Rome:20180721T210000
DTEND;TZID=Europe/Rome:20180722T003000
DTSTAMP:20260424T190358
CREATED:20180721T175311Z
LAST-MODIFIED:20180721T175311Z
UID:3634-1532206800-1532219400@ioamomontecampione.it
SUMMARY:Serata musicale in Piazzetta di Montecampione con Gnappo
DESCRIPTION:
URL:https://ioamomontecampione.it/event/serata-musicale-in-piazzetta-di-montecampione-con-gnappo/
LOCATION:Piazzetta di Montecampione\, Via Pradosole di Montecampione 50\, Artogne\, 25040\, Italia
ORGANIZER;CN="Consorzio Montecampione":MAILTO:info@consorziomontecampione.it
END:VEVENT
BEGIN:VEVENT
DTSTART;TZID=Europe/Rome:20180714T130000
DTEND;TZID=Europe/Rome:20180715T003000
DTSTAMP:20260424T190358
CREATED:20180711T093517Z
LAST-MODIFIED:20180711T094516Z
UID:3241-1531573200-1531614600@ioamomontecampione.it
SUMMARY:Grande Festa con Dheison Medrano in Piazzetta a Montecampione
DESCRIPTION:
URL:https://ioamomontecampione.it/event/3241/
LOCATION:Piazzetta di Montecampione\, Via Pradosole di Montecampione 50\, Artogne\, 25040\, Italia
ORGANIZER;CN="Consorzio Montecampione":MAILTO:info@consorziomontecampione.it
END:VEVENT
END:VCALENDAR