BEGIN:VCALENDAR
VERSION:2.0
PRODID:-//I ♥ MONTECAMPIONE - ECPv6.15.20//NONSGML v1.0//EN
CALSCALE:GREGORIAN
METHOD:PUBLISH
X-WR-CALNAME:I ♥ MONTECAMPIONE
X-ORIGINAL-URL:https://ioamomontecampione.it
X-WR-CALDESC:Eventi per I ♥ MONTECAMPIONE
REFRESH-INTERVAL;VALUE=DURATION:PT1H
X-Robots-Tag:noindex
X-PUBLISHED-TTL:PT1H
BEGIN:VTIMEZONE
TZID:Europe/San_Marino
BEGIN:DAYLIGHT
TZOFFSETFROM:+0100
TZOFFSETTO:+0200
TZNAME:CEST
DTSTART:20180325T010000
END:DAYLIGHT
BEGIN:STANDARD
TZOFFSETFROM:+0200
TZOFFSETTO:+0100
TZNAME:CET
DTSTART:20181028T010000
END:STANDARD
BEGIN:DAYLIGHT
TZOFFSETFROM:+0100
TZOFFSETTO:+0200
TZNAME:CEST
DTSTART:20190331T010000
END:DAYLIGHT
BEGIN:STANDARD
TZOFFSETFROM:+0200
TZOFFSETTO:+0100
TZNAME:CET
DTSTART:20191027T010000
END:STANDARD
BEGIN:DAYLIGHT
TZOFFSETFROM:+0100
TZOFFSETTO:+0200
TZNAME:CEST
DTSTART:20200329T010000
END:DAYLIGHT
BEGIN:STANDARD
TZOFFSETFROM:+0200
TZOFFSETTO:+0100
TZNAME:CET
DTSTART:20201025T010000
END:STANDARD
BEGIN:DAYLIGHT
TZOFFSETFROM:+0100
TZOFFSETTO:+0200
TZNAME:CEST
DTSTART:20210328T010000
END:DAYLIGHT
BEGIN:STANDARD
TZOFFSETFROM:+0200
TZOFFSETTO:+0100
TZNAME:CET
DTSTART:20211031T010000
END:STANDARD
BEGIN:DAYLIGHT
TZOFFSETFROM:+0100
TZOFFSETTO:+0200
TZNAME:CEST
DTSTART:20220327T010000
END:DAYLIGHT
BEGIN:STANDARD
TZOFFSETFROM:+0200
TZOFFSETTO:+0100
TZNAME:CET
DTSTART:20221030T010000
END:STANDARD
BEGIN:DAYLIGHT
TZOFFSETFROM:+0100
TZOFFSETTO:+0200
TZNAME:CEST
DTSTART:20230326T010000
END:DAYLIGHT
BEGIN:STANDARD
TZOFFSETFROM:+0200
TZOFFSETTO:+0100
TZNAME:CET
DTSTART:20231029T010000
END:STANDARD
END:VTIMEZONE
BEGIN:VEVENT
DTSTART;TZID=Europe/San_Marino:20220716T170000
DTEND;TZID=Europe/San_Marino:20220716T193000
DTSTAMP:20260422T095329
CREATED:20220711T175606Z
LAST-MODIFIED:20220711T175606Z
UID:27180-1657990800-1657999800@ioamomontecampione.it
SUMMARY:A Montecampione il Concerto Banda Musicale della Marina Militare
DESCRIPTION:
URL:https://ioamomontecampione.it/event/a-montecampione-il-concerto-banda-musicale-della-marina-militare-2/
LOCATION:Piazzetta di Montecampione\, Via Pradosole di Montecampione 50\, Artogne\, 25040\, Italia
ORGANIZER;CN="Consorzio Montecampione":MAILTO:info@consorziomontecampione.it
END:VEVENT
BEGIN:VEVENT
DTSTART;TZID=Europe/San_Marino:20190727T180000
DTEND;TZID=Europe/San_Marino:20190727T193000
DTSTAMP:20260422T095329
CREATED:20190601T075835Z
LAST-MODIFIED:20190619T080700Z
UID:11958-1564250400-1564255800@ioamomontecampione.it
SUMMARY:A Montecampione il Concerto Banda Musicale della Marina Militare
DESCRIPTION:
URL:https://ioamomontecampione.it/event/a-montecampione-il-concerto-banda-musicale-della-marina-militare/
LOCATION:Piazzetta di Montecampione\, Via Pradosole di Montecampione 50\, Artogne\, 25040\, Italia
ORGANIZER;CN="Consorzio Montecampione":MAILTO:info@consorziomontecampione.it
END:VEVENT
BEGIN:VEVENT
DTSTART;TZID=Europe/San_Marino:20190427T203000
DTEND;TZID=Europe/San_Marino:20190427T223000
DTSTAMP:20260422T095329
CREATED:20190424T093401Z
LAST-MODIFIED:20190424T093620Z
UID:11383-1556397000-1556404200@ioamomontecampione.it
SUMMARY:Evento "vicino vicino" - Artogne: Concerto per i Dieci Anni del Museo della Stampa
DESCRIPTION:
URL:https://ioamomontecampione.it/event/evento-vicino-vicino-artogne-concerto-per-i-dieci-anni-del-museo-della-stampa/
LOCATION:Palestra Istituto Fratelli Rosselli\, Via Camillo Golgi 2\, Artogne\, 25040\, Italia
ORGANIZER;CN="Museo della Stampa Lodovico Pavoni":MAILTO:info@museotipografico.it
END:VEVENT
END:VCALENDAR