BEGIN:VCALENDAR
VERSION:2.0
PRODID:-//I ♥ MONTECAMPIONE - ECPv6.15.20//NONSGML v1.0//EN
CALSCALE:GREGORIAN
METHOD:PUBLISH
X-ORIGINAL-URL:https://ioamomontecampione.it
X-WR-CALDESC:Eventi per I ♥ MONTECAMPIONE
REFRESH-INTERVAL;VALUE=DURATION:PT1H
X-Robots-Tag:noindex
X-PUBLISHED-TTL:PT1H
BEGIN:VTIMEZONE
TZID:Europe/San_Marino
BEGIN:DAYLIGHT
TZOFFSETFROM:+0100
TZOFFSETTO:+0200
TZNAME:CEST
DTSTART:20180325T010000
END:DAYLIGHT
BEGIN:STANDARD
TZOFFSETFROM:+0200
TZOFFSETTO:+0100
TZNAME:CET
DTSTART:20181028T010000
END:STANDARD
BEGIN:DAYLIGHT
TZOFFSETFROM:+0100
TZOFFSETTO:+0200
TZNAME:CEST
DTSTART:20190331T010000
END:DAYLIGHT
BEGIN:STANDARD
TZOFFSETFROM:+0200
TZOFFSETTO:+0100
TZNAME:CET
DTSTART:20191027T010000
END:STANDARD
BEGIN:DAYLIGHT
TZOFFSETFROM:+0100
TZOFFSETTO:+0200
TZNAME:CEST
DTSTART:20200329T010000
END:DAYLIGHT
BEGIN:STANDARD
TZOFFSETFROM:+0200
TZOFFSETTO:+0100
TZNAME:CET
DTSTART:20201025T010000
END:STANDARD
BEGIN:DAYLIGHT
TZOFFSETFROM:+0100
TZOFFSETTO:+0200
TZNAME:CEST
DTSTART:20210328T010000
END:DAYLIGHT
BEGIN:STANDARD
TZOFFSETFROM:+0200
TZOFFSETTO:+0100
TZNAME:CET
DTSTART:20211031T010000
END:STANDARD
END:VTIMEZONE
BEGIN:VTIMEZONE
TZID:Europe/Rome
BEGIN:DAYLIGHT
TZOFFSETFROM:+0100
TZOFFSETTO:+0200
TZNAME:CEST
DTSTART:20170326T010000
END:DAYLIGHT
BEGIN:STANDARD
TZOFFSETFROM:+0200
TZOFFSETTO:+0100
TZNAME:CET
DTSTART:20171029T010000
END:STANDARD
BEGIN:DAYLIGHT
TZOFFSETFROM:+0100
TZOFFSETTO:+0200
TZNAME:CEST
DTSTART:20180325T010000
END:DAYLIGHT
BEGIN:STANDARD
TZOFFSETFROM:+0200
TZOFFSETTO:+0100
TZNAME:CET
DTSTART:20181028T010000
END:STANDARD
BEGIN:DAYLIGHT
TZOFFSETFROM:+0100
TZOFFSETTO:+0200
TZNAME:CEST
DTSTART:20190331T010000
END:DAYLIGHT
BEGIN:STANDARD
TZOFFSETFROM:+0200
TZOFFSETTO:+0100
TZNAME:CET
DTSTART:20191027T010000
END:STANDARD
END:VTIMEZONE
BEGIN:VEVENT
DTSTART;TZID=Europe/San_Marino:20200525T000000
DTEND;TZID=Europe/San_Marino:20200531T235900
DTSTAMP:20260421T190924
CREATED:20200524T224348Z
LAST-MODIFIED:20200529T074316Z
UID:17605-1590364800-1590969540@ioamomontecampione.it
SUMMARY:Attività aperte a Montecampione di questa settimana: i giorni\, gli orari\, i loro numeri di telefono e quelli per ogni emergenza
DESCRIPTION:Precisazione\nI dati inseriti in questa pagina sono suscettibili di variazioni durante la settimana; non appena ne veniamo a conoscenza noi apportiamo le opportune modifiche. \nConsigliamo pertanto di tenere visitata questa pagina e precisiamo di non poter essere ritenuti responsabili\, nel caso in cui qualche attività fosse chiusa od aver variato i propri orari senza avercelo comunicato. \nEmergenza\nClicca qui per i numeri di telefono delle forze dell’ordine\, del pronto soccorso\, delle farmacie di turno ed altri servizi. \nFarmacia di Pian Camuno 0364591490 (quella di Montecampione è chiusa\, per altre possibilità clicca qui).  \nPronto Soccorso e Guardia Medica di Montecampione 3357676763 (clicca qui per vedere cosa fare quando è chiuso).\n \nConsorzio Montecampione 0364560188 aperto tutti i giorni dalle 9.00 alle 13.00.  \n\nAttività commerciali alimentari\n\nMarket \nGest Market Garatti 0364560390 aperto per tutta l’estate al pubblico tutti i giorni dalle 9.00 alle 12.30 e dalle 16.00 alle 19.00; domenica solo al mattino.\n \nMacelleria \nMacelleria Zanardini 0364560577 aperto al pubblico dal lunedì al venerdì dalle 9.00 alle 12.30\, sabato dalle 9.00 alle 12.30 e dalle 16.00 alle 19.00\, domenica solo alla mattina. Giovedì pesce fresco prenotandolo entro le ore 12.00 di mercoledì.\n \nLocali aperti al pubblico o con consegna a domicilio o con possibilità di asporto\n \nAlbergo Bar Ristorante Pizzeria Legazzuolo: aperto per tutta l’estate al pubblico 0364560292 o al 3336079279 per prenotare o per concordare l’asporto. \nBaita dello Sciatore – Secondino 0364589167 aperto per tutta l’estate al pubblico da sabato a pranzo. \nBar La Grolla 3403607718 aperto al pubblico per tutta l’estate nei consueti orari.\n \nBar Pizzeria Fiocco di Neve aperto al pubblico per tutta l’estate; puoi anche sceglere l’asporto o la consegna a domicilio in base a questo volantino telefonando al 3343543730. \nBar Ristorante Il Laghetto +39 0364560065 aperto per tutta l’estate al pubblico da sabato mattina.\n \nFaro di Montecampione +39 3807892508 aperto al pubblico sabato e domenica dalle ore 10.00 \nPasticceria Caffè d’Alpiaz aperta per tutta l’estate al pubblico nei consueti orari e con le giuste precauzioni. Inoltre telefonando almeno il giorno prima al 3385859926\, sarà possibile ordinare tutti i prodotti dolciari confezionati dalla Pasticceria concordandone l’asporto. \nPub La Piazzetta +39 0364560863 venerdì e sabato sera aperto al pubblico \nRifugio Al Bait +39 3338261475 aperto al pubblico fino a martedì. \nRifugio Rosello di Sopra “Elena Tironi” +39 03641916180 aperto al pubblico sabato e domenica; telefonando al 3485457053 nei giorni precedenti è possibile prenotare un appuntamento per la consegna a domicilio dei prodotti di questo listino\, \nRistorante La Piazzetta +39 0364 560863 aperto per tutta l’estate al pubblico dal lunedì al giovedì solo a pranzo\, dal pranzo del venerdì alla cena della domenica. \nRistorante Pizzeria Valgrande aperta per tutta l’estate al pubblico a pranzo ed a cena; ai numeri 0364560515 o 3664084099 o 3483399846 è comunque ancora possibile prenotare l’asporto o concordare l’orario di consegna\, sceglendo da questi menù: ristorante\, pizza\, bevande. \n  \nCibo per animali\n \nAtuttazampa consultando www.atuttazampa.it\, telefonando al 3913259959 per dettare l’ordine e per concordare un appuntamento per la consegna. \n\nAttività commerciali\n\nAbbigliamento \nBilly Moda di Martina Abele 0364560888 aperto per tutta l’estate al pubblico nei consueti orari tutta settimana. \nBombole e Legna a domicilio\n \nGalmac di Ottelli Assunto telefonando allo 0364560130  per concordare un appuntamento per la consegna. \nParrucchiere \nParrucchiere Art Petè aperto al pubblico lunedì e sabato previo appuntamento al 3923022675 \nTabaccaio\, Edicola\, Pagamento Bollettini Postali\, Ricariche\, Souvenirs e punto di consegna delle Mascherine “I ♥ MONTECAMPIONE” ◊)\n \nTabaccheria Al Portico di Domenico Arrigoni 0364560408 aperto per tutta l’estate al pubblico tutti i giorni dalle 8.30 alle 12.00\, da venerdi a domenica sarà aperto anche di pomeriggio dale 14.30 alle 19.00. Servizio 24/24 all’esterno per tabacchi e per ricariche telefoniche. \n◊) Le mascherine vanno prenotate seguendo le istruzioni inserite in questa pagina. \n\nAttività sportive\n\nTennis \nBar Ristorante Il Laghetto – Tennis d’Estate\, Pattinaggio d’Inverno Tutti i giorni dalle 8.30 alle 12.00. Chi volesse giocare a tennis\, può accedere al campo rivolgendosi presso la Tabaccheria Arrigoni Montecampione oppure al numero 0364560408. Precisiamo che tutti sono tenuti ad osservare scrupolosamente\, sia fuori sia dentro al campo di gioco\, le disposizioni emesse dalle Pubbliche Autorità per contrastare la pandemia da coronavirus\, ed a rispettare durante gli allenamenti comportamenti e pratiche che eliminino del tutto il rischio di contagio.\n \nI nostri condominii a 12001 Rododendri – 2 Pineta – 3 Edelweiss – 4 Larici – 5 Abeti – 6 Fodestal A – 7 Fodestal B – 8 Fodestal C – 9 Fodestal D – 10 Aceri 1 e 2 – 11 Aceri 3 e 4 – 12 Betulle – 13 San Maurizio – 14 Faggi – 15 Piazzetta – 16 Malghe – 17 Pradosole – 18 Ginepro – 19 Valgrande – 20 Splaza – 21 Prati B – 22 Prati A – 23 Portico – 24 Laghetto.
URL:https://ioamomontecampione.it/event/attivita-aperte-a-montecampione-di-questa-settimana-i-giorni-gli-orari-i-loro-numeri-di-telefono-e-quelli-per-ogni-emergenza-8/
LOCATION:Consorzio Montecampione\, Via Panoramica di Montecampione 61\, Pian Camuno\, 25050\, Italia
END:VEVENT
BEGIN:VEVENT
DTSTART;TZID=Europe/San_Marino:20200518T000000
DTEND;TZID=Europe/San_Marino:20200524T235900
DTSTAMP:20260421T190924
CREATED:20200517T061859Z
LAST-MODIFIED:20200524T223912Z
UID:17481-1589760000-1590364740@ioamomontecampione.it
SUMMARY:Attività aperte a Montecampione di questa settimana: i giorni\, gli orari\, i loro numeri di telefono e quelli per ogni emergenza
DESCRIPTION:Precisazione\nI dati inseriti in questa pagina sono suscettibili di variazioni durante la settimana; non appena ne veniamo a conoscenza noi apportiamo le opportune modifiche. \nConsigliamo pertanto di tenere visitata questa pagina e precisiamo di non poter essere ritenuti responsabili\, nel caso in cui qualche attività fosse chiusa od aver variato i propri orari senza avercelo comunicato. \nEmergenza\nClicca qui per i numeri di telefono delle forze dell’ordine\, del pronto soccorso\, delle farmacie di turno ed altri servizi. \nFarmacia di Pian Camuno 0364591490 (quella di Montecampione è chiusa\, per altre possibilità clicca qui).  \nPronto Soccorso e Guardia Medica di Montecampione 3357676763 (clicca qui per vedere cosa fare quando è chiuso).\n \nConsorzio Montecampione 0364560188 aperto tutti i giorni dalle 9.00 alle 13.00.  \n\nAttività commerciali alimentari\n\nMarket \nGest Market Garatti 0364560390 aperto dal lunedì alla domenica dalle 9.00 alle 12.30\, venerdì e sabato anche dalle 16.00 alle 19.00.\n \nMacelleria \nMacelleria Zanardini 0364560577 aperto dal lunedì al venerdì dalle 9.00 alle 12.30\, sabato dalle 9.00 alle 12.30 e dalle 16.00 alle 19.00. Giovedì pesce fresco prenotandolo entro le ore 12.00 di mercoledì.\n \nLocali aperti al pubblico o con consegna a domicilio o con possibilità di asporto\n \nAlbergo Bar Ristorante Pizzeria Legazzuolo: 0364560292 o al 3336079279 per prenotare e concordare l’orario di consegna. \n\nTutti i giorni Spongade!!!\nMercoledì\, sabato e domenica prenotando entro le ore 16.00 (per la cena)\, tutto ciò che è contenuto in questo menù.\n\nBar La Grolla 3403607718 aperto al pubblico dal venerdì alla domenica dalle 8 alle 17.00 prenotando l’asporto in base a questo volantino. \nBar Pizzeria Fiocco di Neve martedì\, venerdì\, sabato e domenica dalle 18.00 alle 21.00 prenotando entro le 17.00 e mercoledì a pranzo\, puoi sceglere l’asporto o la consegna in base a questo volantino telefonando al 3343543730. \nPasticceria Caffè d’Alpiaz aperta al pubblico nei consueti orari e con le giuste precauzioni. Inoltre telefonando almeno il giorno prima al 3385859926\, sarà possibile ordinare tutti i prodotti dolciari confezionati dalla Pasticceria concordandone l’asporto o la consegna presso la vostra abitazione. \nPub La Piazzetta 0364589162 venerdì e sabato sera aperto al pubblico \nRistorante La Piazzetta +39 0364 589162 aperta al pubblico dalla cena del venerdì a quella della domenica \nRistorante Pizzeria Valgrande da martedì aperta al pubblico per consumazioni ai tavoli interni a pranzo ed a cena; ai numeri 0364560515 o 3664084099 o 3483399846 è comunque ancora possibile prenotare l’asporto o concordare l’orario di consegna\, sceglendo da questi menù: ristorante\, pizza\, bevande. \nProdotti vari a domicilio\n \nRifugio Rosello di Sopra “Elena Tironi” consultando questo listino\, telefonando al 3485457053 per dettare l’ordine e per concordare un appuntamento per la consegna.\n \nCibo per animali\n \nAtuttazampa consultando www.atuttazampa.it\, telefonando al 3913259959 per dettare l’ordine e per concordare un appuntamento per la consegna. \n\nAttività commerciali\n\nAbbigliamento \nBilly Moda di Martina Abele 0364560888 aperto al pubblico nei consueti orari tutta settimana. \nBombole e Legna a domicilio\n \nGalmac di Ottelli Assunto telefonando allo 0364560130  per concordare un appuntamento per la consegna. \nParrucchiere \nParrucchiere Art Petè aperto al pubblico giovedi previo appuntamento al 3923022675 \nTabaccaio\, Edicola\, Pagamento Bollettini Postali\, Ricariche\, Souvenirs e punto di consegna delle Mascherine “I ♥ MONTECAMPIONE” ◊)\n \nTabaccheria Al Portico di Domenico Arrigoni 0364560408 aperto tutti i giorni dalle 8.30 alle 12.00\, servizio 24/24 all’esterno per tabacchi e per ricariche telefoniche. \n◊) Le mascherine vanno prenotate seguendo le istruzioni inserite in questa pagina. \n\nAttività sportive\n\nTennis \nBar Ristorante Il Laghetto – Tennis d’Estate\, Pattinaggio d’Inverno Tutti i giorni dalle 8.30 alle 12.00. Chi volesse giocare a tennis\, può accedere al campo rivolgendosi presso la Tabaccheria Arrigoni Montecampione oppure al numero 0364560408. Precisiamo che tutti sono tenuti ad osservare scrupolosamente\, sia fuori sia dentro al campo di gioco\, le disposizioni emesse dalle Pubbliche Autorità per contrastare la pandemia da coronavirus\, ed a rispettare durante gli allenamenti comportamenti e pratiche che eliminino del tutto il rischio di contagio.\n \nI nostri condominii a 12001 Rododendri – 2 Pineta – 3 Edelweiss – 4 Larici – 5 Abeti – 6 Fodestal A – 7 Fodestal B – 8 Fodestal C – 9 Fodestal D – 10 Aceri 1 e 2 – 11 Aceri 3 e 4 – 12 Betulle – 13 San Maurizio – 14 Faggi – 15 Piazzetta – 16 Malghe – 17 Pradosole – 18 Ginepro – 19 Valgrande – 20 Splaza – 21 Prati B – 22 Prati A – 23 Portico – 24 Laghetto.
URL:https://ioamomontecampione.it/event/attivita-aperte-a-montecampione-di-questa-settimana-i-giorni-gli-orari-i-loro-numeri-di-telefono-e-quelli-per-ogni-emergenza-7/
LOCATION:Consorzio Montecampione\, Via Panoramica di Montecampione 61\, Pian Camuno\, 25050\, Italia
END:VEVENT
BEGIN:VEVENT
DTSTART;TZID=Europe/San_Marino:20200511T000000
DTEND;TZID=Europe/San_Marino:20200517T235900
DTSTAMP:20260421T190924
CREATED:20200510T071134Z
LAST-MODIFIED:20200512T155353Z
UID:17358-1589155200-1589759940@ioamomontecampione.it
SUMMARY:Attività aperte a Montecampione di questa settimana: i giorni\, gli orari\, i loro numeri di telefono e quelli per ogni emergenza
DESCRIPTION:Precisazione\nI dati inseriti in questa pagina sono suscettibili di variazioni durante la settimana; non appena ne veniamo a conoscenza noi apportiamo le opportune modifiche. \nConsigliamo pertanto di tenere visitata questa pagina e precisiamo di non poter essere ritenuti responsabili\, nel caso in cui qualche attività fosse chiusa od aver variato i propri orari senza avercelo comunicato. \nEmergenza\nClicca qui per i numeri di telefono delle forze dell’ordine\, del pronto soccorso\, delle farmacie di turno ed altri servizi. \nFarmacia di Pian Camuno 0364591490 (quella di Montecampione è chiusa\, per altre possibilità clicca qui).  \nPronto Soccorso e Guardia Medica di Montecampione 3357676763 (clicca qui per vedere cosa fare quando è chiuso).\n \nConsorzio Montecampione 0364560188 aperto tutti i giorni dalle 9.00 alle 13.00.  \n\nAttività commerciali alimentari\n\nMarket \nGest Market Garatti 0364560390 aperto dal lunedì alla domenica dalle 9.00 alle 12.30.\n \nMacelleria \nMacelleria Zanardini 0364560577 aperto dal lunedì al venerdì dalle 9.00 alle 12.30\, sabato dalle 9.00 alle 12.30 e dalle 16.00 alle 19.00. \nCibo\, Bevande\, Pizza\, Dolci con consegna a domicilio o per asporto\n \nAlbergo Bar Ristorante Pizzeria Legazzuolo: 0364560292 o al 3336079279 per prenotare e concordare l’orario di consegna. \n\nTutti i giorni Spongade!!!\nMercoledì\, sabato e domenica prenotando entro le ore 16.00 (per la cena)\, tutto ciò che è contenuto in questo menù.\n\nBar La Grolla 3403607718 dal lunedì al venerdì dalle 8.00 alle 13.00 e dal sabato alla domenica dalle 8 alle 17.00 prenotando l’asporto in base a questo volantino. \nBar Pizzeria Fiocco di Neve 3343543730 venerdì e domenica dalle 18.00 alle 21.00 prenotando entro le 17.00 o l’asporto o concordando l’orario di consegna in base a questo volantino.\n \nPasticceria Caffè d’Alpiaz informa\, la sua gentile clientela\, che telefonando almeno il giorno prima al 3385859926\, sarà possibile ordinare tutti i prodotti dolciari confezionati dalla Pasticceria. Tutti i gioni potrete concordare l’asporto presso il nostro locale o la consegna presso la vostra abitazione. \nRistorante Pizzeria Valgrande 0364560515 o 3664084099 o 3483399846 per prenotare l’asporto o concordare l’orario di consegna: Il servizio verrà svolto sabato e domenica per la cena\, prenotando entro le 17.00 da questi menù: ristorante\, pizza\, bevande. \nProdotti vari a domicilio\n \nRifugio Rosello di Sopra “Elena Tironi” consultando questo listino\, oppure quello dedicato alla Festa della Mamma\, telefonando al 3485457053 per dettare l’ordine e per concordare un appuntamento per la consegna.\n \nCibo per animali\n \nAtuttazampa consultando www.atuttazampa.it\, telefonando al 3913259959 per dettare l’ordine e per concordare un appuntamento per la consegna. \n\nAttività commerciali con beni di primaria necessità\n\nBombole e Legna a domicilio\n \nGalmac di Ottelli Assunto telefonando allo 0364560130  per concordare un appuntamento per la consegna. \nTabaccaio\, Edicola\, Pagamento Bollettini Postali\, Ricariche\, Souvenirs e punto di consegna delle Mascherine “I ♥ MONTECAMPIONE”*\n \nTabaccheria Al Portico di Domenico Arrigoni 0364560408 aperto tutti i giorni dalle 8.30 alle 12.00\, servizio 24/24 all’esterno per tabacchi e per ricariche telefoniche. \n* Le mascherine vanno prenotate seguendo le istruzioni inserite in questa pagina. \n\nAttività sportive\n\nTennis \nBar Ristorante Il Laghetto – Tennis d’Estate\, Pattinaggio d’Inverno Tutti i giorni dalle 8.30 alle 12.00. Chi volesse giocare a tennis\, può accedere al campo rivolgendosi presso la Tabaccheria Arrigoni Montecampione oppure al numero 0364560408. Precisiamo che tutti sono tenuti ad osservare scrupolosamente\, sia fuori sia dentro al campo di gioco\, le disposizioni emesse dalle Pubbliche Autorità per contrastare la pandemia da coronavirus\, ed a rispettare durante gli allenamenti comportamenti e pratiche che eliminino del tutto il rischio di contagio.\n \nI nostri condominii a 12001 Rododendri – 2 Pineta – 3 Edelweiss – 4 Larici – 5 Abeti – 6 Fodestal A – 7 Fodestal B – 8 Fodestal C – 9 Fodestal D – 10 Aceri 1 e 2 – 11 Aceri 3 e 4 – 12 Betulle – 13 San Maurizio – 14 Faggi – 15 Piazzetta – 16 Malghe – 17 Pradosole – 18 Ginepro – 19 Valgrande – 20 Splaza – 21 Prati B – 22 Prati A – 23 Portico – 24 Laghetto.
URL:https://ioamomontecampione.it/event/attivita-aperte-a-montecampione-di-questa-settimana-i-giorni-gli-orari-i-loro-numeri-di-telefono-e-quelli-per-ogni-emergenza-6/
LOCATION:Consorzio Montecampione\, Via Panoramica di Montecampione 61\, Pian Camuno\, 25050\, Italia
END:VEVENT
BEGIN:VEVENT
DTSTART;TZID=Europe/San_Marino:20200504T000000
DTEND;TZID=Europe/San_Marino:20200510T235900
DTSTAMP:20260421T190924
CREATED:20200503T072942Z
LAST-MODIFIED:20200510T074301Z
UID:17210-1588550400-1589155140@ioamomontecampione.it
SUMMARY:Attività aperte a Montecampione di questa settimana: i giorni\, gli orari\, i loro numeri di telefono e quelli per ogni emergenza
DESCRIPTION:Precisazione\nI dati inseriti in questa pagina sono suscettibili di variazioni durante la settimana; non appena ne veniamo a conoscenza noi apportiamo le opportune modifiche. \nConsigliamo pertanto di tenere visitata questa pagina e precisiamo di non poter essere ritenuti responsabili\, nel caso in cui qualche attività possa essere chiusa od aver variato i propri orari senza avercelo comunicato. \nEmergenza\nClicca qui per i numeri di telefono delle forze dell’ordine\, del pronto soccorso\, delle farmacie di turno ed altri servizi. \nFarmacia di Pian Camuno 0364591490 (quella di Montecampione è chiusa\, per altre possibilità clicca qui).  \nPronto Soccorso e Guardia Medica di Montecampione 3357676763 (clicca qui per vedere cosa fare quando è chiuso).\n \nConsorzio Montecampione  0364560188 aperto tutti i giorni dalle 9.00 alle 13.00.  \n\nAttività commerciali alimentari\n\nMarket \nGest Market Garatti 0364560390 aperto dal lunedì alla domenica dalle 9.00 alle 12.30. Mercoledì dalle 16.00 alle 19.00.\n \nMacelleria \nMacelleria Zanardini 0364560577 aperto dal lunedì al venerdì dalle 9.00 alle 12.30\, sabato dalle 9.00 alle 12.30 e dalle 16.00 alle 19.00. \nCibo\, Bevande\, Pizza\, Dolci con consegna a domicilio o per asporto\n \nAlbergo Bar Ristorante Pizzeria Legazzuolo: 0364560292 o al 3336079279 per prenotare e concordare l’orario di consegna. \n\nTutti i giorni Spongade!!!\nMercoledì\, sabato e domenica prenotando entro le ore 16.00 (per la cena)\, tutto ciò che è contenuto in questo menù.\n\nBar La Grolla 3403607718 dal lunedì al venerdì dalle 8.00 alle 13.00 e dal sabato alla domenica dalle 8 alle 17.00 prenotando l’asporto in base a questo volantino. \nPasticceria Caffè d’Alpiaz informa\, la sua gentile clientela\, che telefonando almeno il giorno prima al 3385859926\, sarà possibile ordinare tutti i prodotti dolciari confezionati dalla Pasticceria. Tutti i gioni potrete concordare l’asporto presso il nostro locale o la consegna presso la vostra abitazione. \nRistorante Pizzeria Valgrande 0364560515 o 3664084099 o 3483399846 per prenotare l’asporto o concordare l’orario di consegna: Il servizio verrà svolto venerdì\, sabato e domenica per la cena\, prenotando entro le 17.00 da questi menù: ristorante\, pizza\, bevande. \nProdotti vari a domicilio\n \nRifugio Rosello di Sopra “Elena Tironi” consultando questo listino\, oppure quello dedicato alla Festa della Mamma\, telefonando al 3485457053 per dettare l’ordine e per concordare un appuntamento per la consegna.\n \nCibo per animali\n \nAtuttazampa consultando www.atuttazampa.it\, telefonando al 3913259959 per dettare l’ordine e per concordare un appuntamento per la consegna. \n\nAttività commerciali con beni di primaria necessità\n\nBombole e Legna a domicilio\n \nGalmac di Ottelli Assunto telefonando allo 0364560130  per concordare un appuntamento per la consegna. \nTabaccaio\, Edicola\, Ricariche\, Souvenirs\n \nTabaccheria Al Portico di Domenico Arrigoni 0364560408 aperto tutti i giorni dalle 8.30 alle 12.00\, servizio 24/24 all’esterno per tabacchi e per ricariche telefoniche. \n  \nI nostri condominii a 12001 Rododendri – 2 Pineta – 3 Edelweiss – 4 Larici – 5 Abeti – 6 Fodestal A – 7 Fodestal B – 8 Fodestal C – 9 Fodestal D – 10 Aceri 1 e 2 – 11 Aceri 3 e 4 – 12 Betulle – 13 San Maurizio – 14 Faggi – 15 Piazzetta – 16 Malghe – 17 Pradosole – 18 Ginepro – 19 Valgrande – 20 Splaza – 21 Prati B – 22 Prati A – 23 Portico – 24 Laghetto.
URL:https://ioamomontecampione.it/event/attivita-aperte-a-montecampione-di-questa-settimana-i-giorni-gli-orari-i-loro-numeri-di-telefono-e-quelli-per-ogni-emergenza-5/
LOCATION:Consorzio Montecampione\, Via Panoramica di Montecampione 61\, Pian Camuno\, 25050\, Italia
END:VEVENT
BEGIN:VEVENT
DTSTART;TZID=Europe/San_Marino:20190814T100000
DTEND;TZID=Europe/San_Marino:20190814T183000
DTSTAMP:20260421T190924
CREATED:20190802T071631Z
LAST-MODIFIED:20190802T072053Z
UID:13033-1565776800-1565807400@ioamomontecampione.it
SUMMARY:Spazio Indomita organizza il 3° E…vento Aquiloni presso la Splaza di Montecampione
DESCRIPTION:
URL:https://ioamomontecampione.it/event/spspazio-indomita-organizza-il-3-evento-aquiloni-presso-la-splaza-di-montecampione/
LOCATION:Residence La Splaza\, Via Legazzuolo di Montecampione\, Artogne\, 25040\, Italia
ORGANIZER;CN="Spazio Indomita":MAILTO:spazioindoita@gmail.com
END:VEVENT
BEGIN:VEVENT
DTSTART;TZID=Europe/Rome:20180814T100000
DTEND;TZID=Europe/Rome:20180814T183000
DTSTAMP:20260421T190924
CREATED:20180728T161451Z
LAST-MODIFIED:20180728T161534Z
UID:3876-1534240800-1534271400@ioamomontecampione.it
SUMMARY:Spazio Indomita organizza il 2° E...vento Aquiloni presso la Splaza di Montecampione
DESCRIPTION:
URL:https://ioamomontecampione.it/event/spazio-indomita-2-e-vento-aquiloni-presso-la-splaza-di-montecampione/
LOCATION:Residence La Splaza\, Via Legazzuolo di Montecampione\, Artogne\, 25040\, Italia
ORGANIZER;CN="Spazio Indomita":MAILTO:spazioindoita@gmail.com
END:VEVENT
END:VCALENDAR