BEGIN:VCALENDAR
VERSION:2.0
PRODID:-//I ♥ MONTECAMPIONE - ECPv6.15.20//NONSGML v1.0//EN
CALSCALE:GREGORIAN
METHOD:PUBLISH
X-ORIGINAL-URL:https://ioamomontecampione.it
X-WR-CALDESC:Eventi per I ♥ MONTECAMPIONE
REFRESH-INTERVAL;VALUE=DURATION:PT1H
X-Robots-Tag:noindex
X-PUBLISHED-TTL:PT1H
BEGIN:VTIMEZONE
TZID:Europe/San_Marino
BEGIN:DAYLIGHT
TZOFFSETFROM:+0100
TZOFFSETTO:+0200
TZNAME:CEST
DTSTART:20190331T010000
END:DAYLIGHT
BEGIN:STANDARD
TZOFFSETFROM:+0200
TZOFFSETTO:+0100
TZNAME:CET
DTSTART:20191027T010000
END:STANDARD
BEGIN:DAYLIGHT
TZOFFSETFROM:+0100
TZOFFSETTO:+0200
TZNAME:CEST
DTSTART:20200329T010000
END:DAYLIGHT
BEGIN:STANDARD
TZOFFSETFROM:+0200
TZOFFSETTO:+0100
TZNAME:CET
DTSTART:20201025T010000
END:STANDARD
BEGIN:DAYLIGHT
TZOFFSETFROM:+0100
TZOFFSETTO:+0200
TZNAME:CEST
DTSTART:20210328T010000
END:DAYLIGHT
BEGIN:STANDARD
TZOFFSETFROM:+0200
TZOFFSETTO:+0100
TZNAME:CET
DTSTART:20211031T010000
END:STANDARD
END:VTIMEZONE
BEGIN:VEVENT
DTSTART;TZID=Europe/San_Marino:20200517T213000
DTEND;TZID=Europe/San_Marino:20200517T233000
DTSTAMP:20260422T080957
CREATED:20200514T131334Z
LAST-MODIFIED:20200517T205246Z
UID:17457-1589751000-1589758200@ioamomontecampione.it
SUMMARY:Radio Enjoy trasmette da Montecampione (ed in diretta facebook) approfondendo il mondo della Scherma con la Famiglia Mangiarotti
DESCRIPTION:A partire dalle 21.30 di domenica 17 maggio 2020\, in diretta*\, potrete: \n– vedere ed ascoltare (senza la parte musicale) dalla pagina facebook di Radio Enjoy official \n\ngli atleti della Brianzascherma Barbara Gabella ed Alberto Mangiarotti\n\nil giovane atleta della Scherma Monza Gabriele Mangiarotti\n\nl’approfondimento con regole\, statistiche\, record\, risultati e curiosità di questo sport\n\noppure \n– ascoltare la trasmissione e la musica che avrete richiesto via whatsapp entro sabato al 392 153 4732 dal sito di Radio Enjoy (dopo le ore 21.30 aggiornate la pagina e non appena appare “SciVolando – Ep 19” cliccate sulla freccia sotto il logo a sinistra) \nAscolta “SciVolando – Ep 19 – A tu per tu con Barbara Gabella\, Alberto e Gabriele Mangiarotti e la Scherma” su Spreaker. \nSciVolando è un programma di musica a richiesta con notizie\, risultati\, classifiche ed approfondimenti dal mondo dello sport. \n\n* Ovviamente sia la conduttrice che gli ospiti interverranno ognuno da casa propria.
URL:https://ioamomontecampione.it/event/radio-enjoy-trasmette-da-montecampione-ed-in-diretta-facebook-approfondendo-il-mondo-della-scherma-con-la-famiglia-mangiarotti/
LOCATION:Casa propria (causa covid -19)\, Italia
END:VEVENT
END:VCALENDAR