BEGIN:VCALENDAR
VERSION:2.0
PRODID:-//I ♥ MONTECAMPIONE - ECPv6.15.20//NONSGML v1.0//EN
CALSCALE:GREGORIAN
METHOD:PUBLISH
X-WR-CALNAME:I ♥ MONTECAMPIONE
X-ORIGINAL-URL:https://ioamomontecampione.it
X-WR-CALDESC:Eventi per I ♥ MONTECAMPIONE
REFRESH-INTERVAL;VALUE=DURATION:PT1H
X-Robots-Tag:noindex
X-PUBLISHED-TTL:PT1H
BEGIN:VTIMEZONE
TZID:Europe/Rome
BEGIN:DAYLIGHT
TZOFFSETFROM:+0100
TZOFFSETTO:+0200
TZNAME:CEST
DTSTART:20170326T010000
END:DAYLIGHT
BEGIN:STANDARD
TZOFFSETFROM:+0200
TZOFFSETTO:+0100
TZNAME:CET
DTSTART:20171029T010000
END:STANDARD
BEGIN:DAYLIGHT
TZOFFSETFROM:+0100
TZOFFSETTO:+0200
TZNAME:CEST
DTSTART:20180325T010000
END:DAYLIGHT
BEGIN:STANDARD
TZOFFSETFROM:+0200
TZOFFSETTO:+0100
TZNAME:CET
DTSTART:20181028T010000
END:STANDARD
BEGIN:DAYLIGHT
TZOFFSETFROM:+0100
TZOFFSETTO:+0200
TZNAME:CEST
DTSTART:20190331T010000
END:DAYLIGHT
BEGIN:STANDARD
TZOFFSETFROM:+0200
TZOFFSETTO:+0100
TZNAME:CET
DTSTART:20191027T010000
END:STANDARD
END:VTIMEZONE
BEGIN:VEVENT
DTSTART;TZID=Europe/Rome:20180818T211500
DTEND;TZID=Europe/Rome:20180818T233000
DTSTAMP:20260423T032447
CREATED:20180816T055247Z
LAST-MODIFIED:20180816T055247Z
UID:4647-1534626900-1534635000@ioamomontecampione.it
SUMMARY:Al Cinema di Montecampione: Overboard
DESCRIPTION:
URL:https://ioamomontecampione.it/event/al-cinema-di-montecampione-overboard/
LOCATION:Cinema di Montecampione\, Via Pradosole di Montecampione 36\, Artogne\, 25040\, Italia
ORGANIZER;CN="Consorzio Montecampione":MAILTO:info@consorziomontecampione.it
END:VEVENT
BEGIN:VEVENT
DTSTART;TZID=Europe/Rome:20180814T211500
DTEND;TZID=Europe/Rome:20180814T233000
DTSTAMP:20260423T032447
CREATED:20180814T154648Z
LAST-MODIFIED:20180814T154735Z
UID:4614-1534281300-1534289400@ioamomontecampione.it
SUMMARY:Al Cinema di Montecampione: Overboard
DESCRIPTION: 
URL:https://ioamomontecampione.it/event/4614/
LOCATION:Cinema di Montecampione\, Via Pradosole di Montecampione 36\, Artogne\, 25040\, Italia
ORGANIZER;CN="Consorzio Montecampione":MAILTO:info@consorziomontecampione.it
END:VEVENT
END:VCALENDAR