BEGIN:VCALENDAR
VERSION:2.0
PRODID:-//I ♥ MONTECAMPIONE - ECPv6.15.20//NONSGML v1.0//EN
CALSCALE:GREGORIAN
METHOD:PUBLISH
X-ORIGINAL-URL:https://ioamomontecampione.it
X-WR-CALDESC:Eventi per I ♥ MONTECAMPIONE
REFRESH-INTERVAL;VALUE=DURATION:PT1H
X-Robots-Tag:noindex
X-PUBLISHED-TTL:PT1H
BEGIN:VTIMEZONE
TZID:Europe/San_Marino
BEGIN:DAYLIGHT
TZOFFSETFROM:+0100
TZOFFSETTO:+0200
TZNAME:CEST
DTSTART:20200329T010000
END:DAYLIGHT
BEGIN:STANDARD
TZOFFSETFROM:+0200
TZOFFSETTO:+0100
TZNAME:CET
DTSTART:20201025T010000
END:STANDARD
BEGIN:DAYLIGHT
TZOFFSETFROM:+0100
TZOFFSETTO:+0200
TZNAME:CEST
DTSTART:20210328T010000
END:DAYLIGHT
BEGIN:STANDARD
TZOFFSETFROM:+0200
TZOFFSETTO:+0100
TZNAME:CET
DTSTART:20211031T010000
END:STANDARD
BEGIN:DAYLIGHT
TZOFFSETFROM:+0100
TZOFFSETTO:+0200
TZNAME:CEST
DTSTART:20220327T010000
END:DAYLIGHT
BEGIN:STANDARD
TZOFFSETFROM:+0200
TZOFFSETTO:+0100
TZNAME:CET
DTSTART:20221030T010000
END:STANDARD
END:VTIMEZONE
BEGIN:VEVENT
DTSTART;TZID=Europe/San_Marino:20211017T083000
DTEND;TZID=Europe/San_Marino:20211017T180000
DTSTAMP:20260425T054819
CREATED:20210918T083742Z
LAST-MODIFIED:20211001T132038Z
UID:21042-1634459400-1634493600@ioamomontecampione.it
SUMMARY:Gita alle Incisioni Rupestri di Capodiponte organizzata dal Consorzio e da Verticalmonte
DESCRIPTION:DOMENICA 17 OTTOBRE \nGITA ALLE INCISIONI RUPESTRI DI CAPODIPONTE con l’archeologo dott. Ausilio Priuli \nRitrovo ore 10 a Capodiponte\, davanti ai Massi di Cemmo. Ingresso al Museo e lezione introduttiva alla visita\, alla lettura delle incisioni rupestri\, alla storia plurimillenaria dei Camuni e dimostrazioni di archeologia sperimentale. A seguire visita al santuario megalitico dei Massi di Cemmo.\nPausa pranzo al sacco negli spazi coperti presso il Museo didattico. Ore 13 circa\, partenza per la visita alle incisioni rupestri del Parco comunale di Seradina e risalita fino a Bedolina per vedere le famose mappe preistoriche incise e\, dall’alto\, fare una lettura del lungo tratto di valle che ha ospitato gli antichi Camuni.\nRientro verso le automobili circa alle ore 17.\nQuota d’iscrizione\, comprensiva dell’ingresso al parco\, € 15\,00. Il pagamento va effettuato direttamente al Consorzio entro le ore 18.00 di sabato 16/10. Per i soci Consorziati possibilità di pagare a mezzo bonifico bancario (IBAN IT75D0538754030000042839742 – indicando Cognome\, numero partecipanti  e causale ‘Gita sociale Incisioni rupestri 17/10/21’).\nInfo e prenotazioni 0364/560188 (40 posti disponibili).
URL:https://ioamomontecampione.it/event/gita-alle-incisioni-rupestri-di-capodiponte-organizzata-dal-consorzio-e-da-verticalmonte/
LOCATION:Consorzio Montecampione\, Via Panoramica di Montecampione 61\, Pian Camuno\, 25050\, Italia
ORGANIZER;CN="VerticalMonte":MAILTO:info@consorziomontecampione.it
END:VEVENT
END:VCALENDAR