BEGIN:VCALENDAR
VERSION:2.0
PRODID:-//I ♥ MONTECAMPIONE - ECPv6.15.20//NONSGML v1.0//EN
CALSCALE:GREGORIAN
METHOD:PUBLISH
X-WR-CALNAME:I ♥ MONTECAMPIONE
X-ORIGINAL-URL:https://ioamomontecampione.it
X-WR-CALDESC:Eventi per I ♥ MONTECAMPIONE
REFRESH-INTERVAL;VALUE=DURATION:PT1H
X-Robots-Tag:noindex
X-PUBLISHED-TTL:PT1H
BEGIN:VTIMEZONE
TZID:Europe/Rome
BEGIN:DAYLIGHT
TZOFFSETFROM:+0100
TZOFFSETTO:+0200
TZNAME:CEST
DTSTART:20170326T010000
END:DAYLIGHT
BEGIN:STANDARD
TZOFFSETFROM:+0200
TZOFFSETTO:+0100
TZNAME:CET
DTSTART:20171029T010000
END:STANDARD
BEGIN:DAYLIGHT
TZOFFSETFROM:+0100
TZOFFSETTO:+0200
TZNAME:CEST
DTSTART:20180325T010000
END:DAYLIGHT
BEGIN:STANDARD
TZOFFSETFROM:+0200
TZOFFSETTO:+0100
TZNAME:CET
DTSTART:20181028T010000
END:STANDARD
BEGIN:DAYLIGHT
TZOFFSETFROM:+0100
TZOFFSETTO:+0200
TZNAME:CEST
DTSTART:20190331T010000
END:DAYLIGHT
BEGIN:STANDARD
TZOFFSETFROM:+0200
TZOFFSETTO:+0100
TZNAME:CET
DTSTART:20191027T010000
END:STANDARD
END:VTIMEZONE
BEGIN:VEVENT
DTSTART;TZID=Europe/Rome:20180714T140000
DTEND;TZID=Europe/Rome:20180714T180000
DTSTAMP:20260422T043838
CREATED:20180621T122129Z
LAST-MODIFIED:20180711T144333Z
UID:2555-1531576800-1531591200@ioamomontecampione.it
SUMMARY:Torneo Semilampo di Scacchi al Rifugio Rosello di Sopra di Montecampione
DESCRIPTION:Torneo di scacchi open per adulti e bambini\, aperto ai non tesserati\, con 7 turni di gioco di 15 minuti cadauno\, a giocatore\, per concludere la partita. Tutti i dettagli nella locandina sopra.\nPer gli accompagnatori dei partecipanti attività culturali – dimostrative sul tema della lavorazione del formaggio Silter DOP e sull’estrazione della trementina.\nPartecipazione previo iscrizione sul sito: www.torrecavallo.it
URL:https://ioamomontecampione.it/event/torneo-semilampo-di-scacchi-al-rifugio-rosello-di-sopra-di-montecampione/
LOCATION:Rifugio Elena Tironi Rosello di Sopra\, Località Valgrigna\, Esine\, 25040\, Italia
END:VEVENT
END:VCALENDAR