BEGIN:VCALENDAR
VERSION:2.0
PRODID:-//I ♥ MONTECAMPIONE - ECPv6.15.20//NONSGML v1.0//EN
CALSCALE:GREGORIAN
METHOD:PUBLISH
X-ORIGINAL-URL:https://ioamomontecampione.it
X-WR-CALDESC:Eventi per I ♥ MONTECAMPIONE
REFRESH-INTERVAL;VALUE=DURATION:PT1H
X-Robots-Tag:noindex
X-PUBLISHED-TTL:PT1H
BEGIN:VTIMEZONE
TZID:Europe/San_Marino
BEGIN:DAYLIGHT
TZOFFSETFROM:+0100
TZOFFSETTO:+0200
TZNAME:CEST
DTSTART:20180325T010000
END:DAYLIGHT
BEGIN:STANDARD
TZOFFSETFROM:+0200
TZOFFSETTO:+0100
TZNAME:CET
DTSTART:20181028T010000
END:STANDARD
BEGIN:DAYLIGHT
TZOFFSETFROM:+0100
TZOFFSETTO:+0200
TZNAME:CEST
DTSTART:20190331T010000
END:DAYLIGHT
BEGIN:STANDARD
TZOFFSETFROM:+0200
TZOFFSETTO:+0100
TZNAME:CET
DTSTART:20191027T010000
END:STANDARD
BEGIN:DAYLIGHT
TZOFFSETFROM:+0100
TZOFFSETTO:+0200
TZNAME:CEST
DTSTART:20200329T010000
END:DAYLIGHT
BEGIN:STANDARD
TZOFFSETFROM:+0200
TZOFFSETTO:+0100
TZNAME:CET
DTSTART:20201025T010000
END:STANDARD
END:VTIMEZONE
BEGIN:VEVENT
DTSTART;TZID=Europe/San_Marino:20190811T140000
DTEND;TZID=Europe/San_Marino:20190811T180000
DTSTAMP:20260422T043235
CREATED:20190407T124057Z
LAST-MODIFIED:20190604T180734Z
UID:11025-1565532000-1565546400@ioamomontecampione.it
SUMMARY:Atuttazampa organizza il Primo evento a 6 zampe: MONTECAMPIONE DOG TALENT
DESCRIPTION:1° MONTECAMPIONE DOG TALENT\n11 Agosto ore 14 SAVE THE DATE!\nEsibizioni\, Attività\, Divertimento per adulti e pelosi!\nContinua a seguirci per scoprire assieme tutti i dettagli dell’evento e prenota il tuo posto inviando un messaggio al 391 325 9959\n\nDivertimento è assicurato per grandi\, piccini e sopratutto pelosi 🐶!\nS\niete curiosi? Allora seguite Atuttazampa.it per scoprire nelle prossime settimane nuove news sull’evento 😉
URL:https://ioamomontecampione.it/event/atuttazampa-organizza-il-primo-evento-a-6-zampe/
LOCATION:Billy Moda\, Via Plan di Montecampione 32\, Artogne\, 25040\, Italia
ORGANIZER;CN="A Tutta Zampa":MAILTO:info@atuttazampa.it
END:VEVENT
END:VCALENDAR