BEGIN:VCALENDAR
VERSION:2.0
PRODID:-//I ♥ MONTECAMPIONE - ECPv6.15.20//NONSGML v1.0//EN
CALSCALE:GREGORIAN
METHOD:PUBLISH
X-WR-CALNAME:I ♥ MONTECAMPIONE
X-ORIGINAL-URL:https://ioamomontecampione.it
X-WR-CALDESC:Eventi per I ♥ MONTECAMPIONE
REFRESH-INTERVAL;VALUE=DURATION:PT1H
X-Robots-Tag:noindex
X-PUBLISHED-TTL:PT1H
BEGIN:VTIMEZONE
TZID:Europe/San_Marino
BEGIN:DAYLIGHT
TZOFFSETFROM:+0100
TZOFFSETTO:+0200
TZNAME:CEST
DTSTART:20180325T010000
END:DAYLIGHT
BEGIN:STANDARD
TZOFFSETFROM:+0200
TZOFFSETTO:+0100
TZNAME:CET
DTSTART:20181028T010000
END:STANDARD
BEGIN:DAYLIGHT
TZOFFSETFROM:+0100
TZOFFSETTO:+0200
TZNAME:CEST
DTSTART:20190331T010000
END:DAYLIGHT
BEGIN:STANDARD
TZOFFSETFROM:+0200
TZOFFSETTO:+0100
TZNAME:CET
DTSTART:20191027T010000
END:STANDARD
BEGIN:DAYLIGHT
TZOFFSETFROM:+0100
TZOFFSETTO:+0200
TZNAME:CEST
DTSTART:20200329T010000
END:DAYLIGHT
BEGIN:STANDARD
TZOFFSETFROM:+0200
TZOFFSETTO:+0100
TZNAME:CET
DTSTART:20201025T010000
END:STANDARD
END:VTIMEZONE
BEGIN:VEVENT
DTSTART;TZID=Europe/San_Marino:20190829T173000
DTEND;TZID=Europe/San_Marino:20190829T183000
DTSTAMP:20260421T140314
CREATED:20190825T114302Z
LAST-MODIFIED:20190826T093640Z
UID:13371-1567099800-1567103400@ioamomontecampione.it
SUMMARY:Verticalmonte organizza una lezione di Feldenkrais con Elena Cerruto presso la Sala Mostre della Piazzetta di Montecampione
DESCRIPTION:
URL:https://ioamomontecampione.it/event/verticalmonte-organizza-una-lezione-di-feldenkreis-con-elena-cerruto-presso-la-sala-mostre-della-piazzetta-dimontecampione-2/
LOCATION:Piazzetta di Montecampione\, Via Pradosole di Montecampione 50\, Artogne\, 25040\, Italia
ORGANIZER;CN="VerticalMonte":MAILTO:info@consorziomontecampione.it
END:VEVENT
BEGIN:VEVENT
DTSTART;TZID=Europe/San_Marino:20190827T173000
DTEND;TZID=Europe/San_Marino:20190827T183000
DTSTAMP:20260421T140314
CREATED:20190825T114126Z
LAST-MODIFIED:20190826T093558Z
UID:13368-1566927000-1566930600@ioamomontecampione.it
SUMMARY:Verticalmonte organizza una lezione di Feldenkrais con Elena Cerruto presso la Sala Mostre della Piazzetta di Montecampione
DESCRIPTION:
URL:https://ioamomontecampione.it/event/verticalmonte-organizza-una-lezione-di-feldenkreis-con-elena-cerruto-presso-la-sala-mostre-della-piazzetta-dimontecampione/
LOCATION:Piazzetta di Montecampione\, Via Pradosole di Montecampione 50\, Artogne\, 25040\, Italia
ORGANIZER;CN="VerticalMonte":MAILTO:info@consorziomontecampione.it
END:VEVENT
BEGIN:VEVENT
DTSTART;TZID=Europe/San_Marino:20190823T180000
DTEND;TZID=Europe/San_Marino:20190823T190000
DTSTAMP:20260421T140314
CREATED:20190821T214050Z
LAST-MODIFIED:20190821T214058Z
UID:13323-1566583200-1566586800@ioamomontecampione.it
SUMMARY:Presentazione del libro Metodologia e pratica della Danza Terapeutica con Elena Cerruto presso la Sala Mostre della Piazzetta
DESCRIPTION:
URL:https://ioamomontecampione.it/event/presentazione-del-libro-metodologia-e-pratica-della-danza-terapeutica-con-elena-cerruto-presso-la-sala-mostre-della-piazzetta/
LOCATION:Piazzetta di Montecampione\, Via Pradosole di Montecampione 50\, Artogne\, 25040\, Italia
ORGANIZER;CN="Consorzio Montecampione":MAILTO:info@consorziomontecampione.it
END:VEVENT
BEGIN:VEVENT
DTSTART;TZID=Europe/San_Marino:20190817T103000
DTEND;TZID=Europe/San_Marino:20190817T113000
DTSTAMP:20260421T140314
CREATED:20190813T054212Z
LAST-MODIFIED:20190813T064159Z
UID:13227-1566037800-1566041400@ioamomontecampione.it
SUMMARY:Presentazione del libro Metodologia e pratica della Danza Terapeutica con Elena Cerruto presso la Sala del Residence La Splaza
DESCRIPTION:
URL:https://ioamomontecampione.it/event/presentazione-del-libro-metodologia-e-pratica-della-danza-terapeutica-con-elena-cerruto-presso-la-sala-del-residence-la-splaza/
LOCATION:Residence La Splaza\, Via Legazzuolo di Montecampione\, Artogne\, 25040\, Italia
ORGANIZER;CN="Animamonte":MAILTO:info@consorziomontecampione.it
END:VEVENT
END:VCALENDAR