BEGIN:VCALENDAR
VERSION:2.0
PRODID:-//I ♥ MONTECAMPIONE - ECPv6.15.20//NONSGML v1.0//EN
CALSCALE:GREGORIAN
METHOD:PUBLISH
X-WR-CALNAME:I ♥ MONTECAMPIONE
X-ORIGINAL-URL:https://ioamomontecampione.it
X-WR-CALDESC:Eventi per I ♥ MONTECAMPIONE
REFRESH-INTERVAL;VALUE=DURATION:PT1H
X-Robots-Tag:noindex
X-PUBLISHED-TTL:PT1H
BEGIN:VTIMEZONE
TZID:Europe/San_Marino
BEGIN:DAYLIGHT
TZOFFSETFROM:+0100
TZOFFSETTO:+0200
TZNAME:CEST
DTSTART:20170326T010000
END:DAYLIGHT
BEGIN:STANDARD
TZOFFSETFROM:+0200
TZOFFSETTO:+0100
TZNAME:CET
DTSTART:20171029T010000
END:STANDARD
BEGIN:DAYLIGHT
TZOFFSETFROM:+0100
TZOFFSETTO:+0200
TZNAME:CEST
DTSTART:20180325T010000
END:DAYLIGHT
BEGIN:STANDARD
TZOFFSETFROM:+0200
TZOFFSETTO:+0100
TZNAME:CET
DTSTART:20181028T010000
END:STANDARD
BEGIN:DAYLIGHT
TZOFFSETFROM:+0100
TZOFFSETTO:+0200
TZNAME:CEST
DTSTART:20190331T010000
END:DAYLIGHT
BEGIN:STANDARD
TZOFFSETFROM:+0200
TZOFFSETTO:+0100
TZNAME:CET
DTSTART:20191027T010000
END:STANDARD
BEGIN:DAYLIGHT
TZOFFSETFROM:+0100
TZOFFSETTO:+0200
TZNAME:CEST
DTSTART:20200329T010000
END:DAYLIGHT
BEGIN:STANDARD
TZOFFSETFROM:+0200
TZOFFSETTO:+0100
TZNAME:CET
DTSTART:20201025T010000
END:STANDARD
END:VTIMEZONE
BEGIN:VEVENT
DTSTART;TZID=Europe/San_Marino:20191102T211500
DTEND;TZID=Europe/San_Marino:20191102T233000
DTSTAMP:20260422T131530
CREATED:20191030T172812Z
LAST-MODIFIED:20191030T173150Z
UID:14222-1572729300-1572737400@ioamomontecampione.it
SUMMARY:SE MI VUOI BENE al Cinema di Montecampione
DESCRIPTION:
URL:https://ioamomontecampione.it/event/se-mi-vuoi-bene-al-cinema-di-montecampione-2/
LOCATION:Cinema di Montecampione\, Via Pradosole di Montecampione 36\, Artogne\, 25040\, Italia
ORGANIZER;CN="Consorzio Montecampione":MAILTO:info@consorziomontecampione.it
END:VEVENT
BEGIN:VEVENT
DTSTART;TZID=Europe/San_Marino:20191101T211500
DTEND;TZID=Europe/San_Marino:20191101T233000
DTSTAMP:20260422T131530
CREATED:20191030T172545Z
LAST-MODIFIED:20191030T172609Z
UID:14220-1572642900-1572651000@ioamomontecampione.it
SUMMARY:SE MI VUOI BENE al Cinema di Montecampione
DESCRIPTION:
URL:https://ioamomontecampione.it/event/se-mi-vuoi-bene-al-cinema-di-montecampione/
LOCATION:Cinema di Montecampione\, Via Pradosole di Montecampione 36\, Artogne\, 25040\, Italia
ORGANIZER;CN="Consorzio Montecampione":MAILTO:info@consorziomontecampione.it
END:VEVENT
BEGIN:VEVENT
DTSTART;TZID=Europe/San_Marino:20190824T211500
DTEND;TZID=Europe/San_Marino:20190824T230000
DTSTAMP:20260422T131530
CREATED:20190809T061631Z
LAST-MODIFIED:20190809T061631Z
UID:13129-1566681300-1566687600@ioamomontecampione.it
SUMMARY:MEN IN BLACK – INTERNATIONAL al Cinema di Montecampione
DESCRIPTION:
URL:https://ioamomontecampione.it/event/men-in-black-international-al-cinema-di-montecampione-4/
LOCATION:Cinema di Montecampione\, Via Pradosole di Montecampione 36\, Artogne\, 25040\, Italia
ORGANIZER;CN="Consorzio Montecampione":MAILTO:info@consorziomontecampione.it
END:VEVENT
BEGIN:VEVENT
DTSTART;TZID=Europe/San_Marino:20190823T211500
DTEND;TZID=Europe/San_Marino:20190823T233000
DTSTAMP:20260422T131530
CREATED:20190809T062628Z
LAST-MODIFIED:20190809T062628Z
UID:13139-1566594900-1566603000@ioamomontecampione.it
SUMMARY:SERENITY – L’ISOLA DELL’INGANNO al Cinema di Montecampione
DESCRIPTION:
URL:https://ioamomontecampione.it/event/serenity-lisola-dellinganno-al-cinema-di-montecampione-3/
LOCATION:Cinema di Montecampione\, Via Pradosole di Montecampione 36\, Artogne\, 25040\, Italia
ORGANIZER;CN="Consorzio Montecampione":MAILTO:info@consorziomontecampione.it
END:VEVENT
BEGIN:VEVENT
DTSTART;TZID=Europe/San_Marino:20190820T211500
DTEND;TZID=Europe/San_Marino:20190820T233000
DTSTAMP:20260422T131530
CREATED:20190809T063321Z
LAST-MODIFIED:20190809T063321Z
UID:13147-1566335700-1566343800@ioamomontecampione.it
SUMMARY:IL TRADITORE al Cinema di Montecampione
DESCRIPTION:
URL:https://ioamomontecampione.it/event/il-traditore-al-cinema-di-montecampione-4/
LOCATION:Cinema di Montecampione\, Via Pradosole di Montecampione 36\, Artogne\, 25040\, Italia
ORGANIZER;CN="Consorzio Montecampione":MAILTO:info@consorziomontecampione.it
END:VEVENT
BEGIN:VEVENT
DTSTART;TZID=Europe/San_Marino:20190816T211500
DTEND;TZID=Europe/San_Marino:20190816T233000
DTSTAMP:20260422T131530
CREATED:20190809T063227Z
LAST-MODIFIED:20190809T063227Z
UID:13145-1565990100-1565998200@ioamomontecampione.it
SUMMARY:IL TRADITORE al Cinema di Montecampione
DESCRIPTION:
URL:https://ioamomontecampione.it/event/il-traditore-al-cinema-di-montecampione-3/
LOCATION:Cinema di Montecampione\, Via Pradosole di Montecampione 36\, Artogne\, 25040\, Italia
ORGANIZER;CN="Consorzio Montecampione":MAILTO:info@consorziomontecampione.it
END:VEVENT
BEGIN:VEVENT
DTSTART;TZID=Europe/San_Marino:20190815T211500
DTEND;TZID=Europe/San_Marino:20190815T233000
DTSTAMP:20260422T131530
CREATED:20190809T061541Z
LAST-MODIFIED:20190809T061541Z
UID:13127-1565903700-1565911800@ioamomontecampione.it
SUMMARY:MEN IN BLACK – INTERNATIONAL al Cinema di Montecampione
DESCRIPTION:
URL:https://ioamomontecampione.it/event/men-in-black-international-al-cinema-di-montecampione-3/
LOCATION:Cinema di Montecampione\, Via Pradosole di Montecampione 36\, Artogne\, 25040\, Italia
ORGANIZER;CN="Consorzio Montecampione":MAILTO:info@consorziomontecampione.it
END:VEVENT
BEGIN:VEVENT
DTSTART;TZID=Europe/San_Marino:20190815T171500
DTEND;TZID=Europe/San_Marino:20190815T193000
DTSTAMP:20260422T131530
CREATED:20190809T062045Z
LAST-MODIFIED:20190809T062045Z
UID:13133-1565889300-1565897400@ioamomontecampione.it
SUMMARY:PETS 2: VITA DA ANIMALI al Cinema di Montecampione
DESCRIPTION:
URL:https://ioamomontecampione.it/event/pets-2-vita-da-animali-al-cinema-di-montecampione-2/
LOCATION:Cinema di Montecampione\, Via Pradosole di Montecampione 36\, Artogne\, 25040\, Italia
ORGANIZER;CN="Consorzio Montecampione":MAILTO:info@consorziomontecampione.it
END:VEVENT
BEGIN:VEVENT
DTSTART;TZID=Europe/San_Marino:20190814T211500
DTEND;TZID=Europe/San_Marino:20190814T233000
DTSTAMP:20260422T131530
CREATED:20190809T062533Z
LAST-MODIFIED:20190809T062533Z
UID:13137-1565817300-1565825400@ioamomontecampione.it
SUMMARY:SERENITY – L’ISOLA DELL’INGANNO al Cinema di Montecampione
DESCRIPTION:
URL:https://ioamomontecampione.it/event/serenity-lisola-dellinganno-al-cinema-di-montecampione-2/
LOCATION:Cinema di Montecampione\, Via Pradosole di Montecampione 36\, Artogne\, 25040\, Italia
ORGANIZER;CN="Consorzio Montecampione":MAILTO:info@consorziomontecampione.it
END:VEVENT
BEGIN:VEVENT
DTSTART;TZID=Europe/San_Marino:20190812T211500
DTEND;TZID=Europe/San_Marino:20190812T233000
DTSTAMP:20260422T131530
CREATED:20190809T061430Z
LAST-MODIFIED:20190809T061430Z
UID:13125-1565644500-1565652600@ioamomontecampione.it
SUMMARY:MEN IN BLACK – INTERNATIONAL al Cinema di Montecampione
DESCRIPTION:
URL:https://ioamomontecampione.it/event/men-in-black-international-al-cinema-di-montecampione-2/
LOCATION:Cinema di Montecampione\, Via Pradosole di Montecampione 36\, Artogne\, 25040\, Italia
ORGANIZER;CN="Consorzio Montecampione":MAILTO:info@consorziomontecampione.it
END:VEVENT
BEGIN:VEVENT
DTSTART;TZID=Europe/San_Marino:20190810T211500
DTEND;TZID=Europe/San_Marino:20190810T233000
DTSTAMP:20260422T131530
CREATED:20190809T063125Z
LAST-MODIFIED:20190809T063125Z
UID:13143-1565471700-1565479800@ioamomontecampione.it
SUMMARY:IL TRADITORE al Cinema di Montecampione
DESCRIPTION:
URL:https://ioamomontecampione.it/event/il-traditore-al-cinema-di-montecampione-2/
LOCATION:Cinema di Montecampione\, Via Pradosole di Montecampione 36\, Artogne\, 25040\, Italia
ORGANIZER;CN="Consorzio Montecampione":MAILTO:info@consorziomontecampione.it
END:VEVENT
BEGIN:VEVENT
DTSTART;TZID=Europe/San_Marino:20190808T211500
DTEND;TZID=Europe/San_Marino:20190808T233000
DTSTAMP:20260422T131530
CREATED:20190809T061303Z
LAST-MODIFIED:20190809T061303Z
UID:13123-1565298900-1565307000@ioamomontecampione.it
SUMMARY:MEN IN BLACK - INTERNATIONAL al Cinema di Montecampione
DESCRIPTION: 
URL:https://ioamomontecampione.it/event/men-in-black-international-al-cinema-di-montecampione/
LOCATION:Cinema di Montecampione\, Via Pradosole di Montecampione 36\, Artogne\, 25040\, Italia
ORGANIZER;CN="Consorzio Montecampione":MAILTO:info@consorziomontecampione.it
END:VEVENT
BEGIN:VEVENT
DTSTART;TZID=Europe/San_Marino:20190806T211500
DTEND;TZID=Europe/San_Marino:20190806T230000
DTSTAMP:20260422T131530
CREATED:20190809T061919Z
LAST-MODIFIED:20190809T061919Z
UID:13131-1565126100-1565132400@ioamomontecampione.it
SUMMARY:PETS 2: VITA DA ANIMALI al Cinema di Montecampione
DESCRIPTION: 
URL:https://ioamomontecampione.it/event/pets-2-vita-da-animali-al-cinema-di-montecampione/
LOCATION:Cinema di Montecampione\, Via Pradosole di Montecampione 36\, Artogne\, 25040\, Italia
ORGANIZER;CN="Consorzio Montecampione":MAILTO:info@consorziomontecampione.it
END:VEVENT
BEGIN:VEVENT
DTSTART;TZID=Europe/San_Marino:20190804T211500
DTEND;TZID=Europe/San_Marino:20190804T233000
DTSTAMP:20260422T131530
CREATED:20190809T062423Z
LAST-MODIFIED:20190809T062423Z
UID:13135-1564953300-1564961400@ioamomontecampione.it
SUMMARY:SERENITY - L'ISOLA DELL'INGANNO al Cinema di Montecampione
DESCRIPTION: 
URL:https://ioamomontecampione.it/event/serenity-lisola-dellinganno-al-cinema-di-montecampione/
LOCATION:Cinema di Montecampione\, Via Pradosole di Montecampione 36\, Artogne\, 25040\, Italia
ORGANIZER;CN="Consorzio Montecampione":MAILTO:info@consorziomontecampione.it
END:VEVENT
BEGIN:VEVENT
DTSTART;TZID=Europe/San_Marino:20190803T211500
DTEND;TZID=Europe/San_Marino:20190803T233000
DTSTAMP:20260422T131530
CREATED:20190809T063014Z
LAST-MODIFIED:20190809T063014Z
UID:13141-1564866900-1564875000@ioamomontecampione.it
SUMMARY:IL TRADITORE al Cinema di Montecampione
DESCRIPTION: 
URL:https://ioamomontecampione.it/event/il-traditore-al-cinema-di-montecampione/
LOCATION:Cinema di Montecampione\, Via Pradosole di Montecampione 36\, Artogne\, 25040\, Italia
ORGANIZER;CN="Consorzio Montecampione":MAILTO:info@consorziomontecampione.it
END:VEVENT
BEGIN:VEVENT
DTSTART;TZID=Europe/San_Marino:20190421T211500
DTEND;TZID=Europe/San_Marino:20190421T230000
DTSTAMP:20260422T131530
CREATED:20190416T132639Z
LAST-MODIFIED:20190418T103613Z
UID:11216-1555881300-1555887600@ioamomontecampione.it
SUMMARY:Al Cinema di Montecampione: Bentornato Presidente con Claudio Bisio
DESCRIPTION:
URL:https://ioamomontecampione.it/event/al-cinema-di-montecampione-benvenuto-presidente-con-claudio-bisio-2/
LOCATION:Cinema di Montecampione\, Via Pradosole di Montecampione 36\, Artogne\, 25040\, Italia
ORGANIZER;CN="Consorzio Montecampione":MAILTO:info@consorziomontecampione.it
END:VEVENT
BEGIN:VEVENT
DTSTART;TZID=Europe/San_Marino:20190420T211500
DTEND;TZID=Europe/San_Marino:20190420T230000
DTSTAMP:20260422T131530
CREATED:20190416T132216Z
LAST-MODIFIED:20190418T103557Z
UID:11214-1555794900-1555801200@ioamomontecampione.it
SUMMARY:Al Cinema di Montecampione: Bentornato Presidente con Claudio Bisio
DESCRIPTION:
URL:https://ioamomontecampione.it/event/al-cinema-di-montecampione-benvenuto-presidente-con-claudio-bisio/
LOCATION:Cinema di Montecampione\, Via Pradosole di Montecampione 36\, Artogne\, 25040\, Italia
ORGANIZER;CN="Consorzio Montecampione":MAILTO:info@consorziomontecampione.it
END:VEVENT
BEGIN:VEVENT
DTSTART;TZID=Europe/San_Marino:20190105T211500
DTEND;TZID=Europe/San_Marino:20190105T233000
DTSTAMP:20260422T131530
CREATED:20181221T190945Z
LAST-MODIFIED:20181221T192342Z
UID:8900-1546722900-1546731000@ioamomontecampione.it
SUMMARY:Al Cinema di Montecampione: Amici come prima
DESCRIPTION:Il duo comico\, composto da Massimo Boldi e Christian De Sica\, è protagonista di “Amici come prima” un film natalizio\, diretto proprio da De Sica. Nel cast figurano anche i nomi di Lunetta Savino e Maurizio Casagrande. La pellicola è distribuita da Medusa FilmB
URL:https://ioamomontecampione.it/event/al-cinema-di-montecampione-amici-come-prima-5/
LOCATION:Cinema di Montecampione\, Via Pradosole di Montecampione 36\, Artogne\, 25040\, Italia
ORGANIZER;CN="Consorzio Montecampione":MAILTO:info@consorziomontecampione.it
END:VEVENT
BEGIN:VEVENT
DTSTART;TZID=Europe/San_Marino:20190104T211500
DTEND;TZID=Europe/San_Marino:20190104T233000
DTSTAMP:20260422T131530
CREATED:20181221T191508Z
LAST-MODIFIED:20181221T191508Z
UID:8903-1546636500-1546644600@ioamomontecampione.it
SUMMARY:Al Cinema di Montecampione: Moschettieri del Re
DESCRIPTION:A un anno di distanza da “Non è un paese per giovani“\, Giovanni Veronesi torna alla regia con “Moschettieri del Re”\, commedia in costume dai toni fiabeschi. Il regista\, già noto per la trilogia “Manuale d’Amore” e per aver sceneggiato classici della risata (“Il ciclone“\, “Il paradiso all’improvviso“)\, rievoca il capolavoro di Alexandre Dumas con un cast d’eccezione.
URL:https://ioamomontecampione.it/event/al-cinema-di-montecampione-moschettieri-del-re/
LOCATION:Cinema di Montecampione\, Via Pradosole di Montecampione 36\, Artogne\, 25040\, Italia
ORGANIZER;CN="Consorzio Montecampione":MAILTO:info@consorziomontecampione.it
END:VEVENT
BEGIN:VEVENT
DTSTART;TZID=Europe/San_Marino:20190104T173000
DTEND;TZID=Europe/San_Marino:20190104T193000
DTSTAMP:20260422T131530
CREATED:20181221T225051Z
LAST-MODIFIED:20181221T225051Z
UID:8932-1546623000-1546630200@ioamomontecampione.it
SUMMARY:Al Cinema di Montecampione: Se son Rose
DESCRIPTION:“Se son rose” è una commedia diretta da Leonardo Pieraccioni\, che dopo “Il professor Cenerentolo” (2015)\, torna dietro e davanti alla macchina da presa\, per dirigere e interpretare la storia di Leonardo Giustini\, un giornalista che si occupa di tecnologia e innovazione per il web.
URL:https://ioamomontecampione.it/event/al-cinema-di-montecampione-se-son-rose-2/
LOCATION:Cinema di Montecampione\, Via Pradosole di Montecampione 36\, Artogne\, 25040\, Italia
ORGANIZER;CN="Consorzio Montecampione":MAILTO:info@consorziomontecampione.it
END:VEVENT
BEGIN:VEVENT
DTSTART;TZID=Europe/San_Marino:20190103T173000
DTEND;TZID=Europe/San_Marino:20190103T193000
DTSTAMP:20260422T131530
CREATED:20181221T225753Z
LAST-MODIFIED:20181221T225753Z
UID:8936-1546536600-1546543800@ioamomontecampione.it
SUMMARY:Al Cinema di Montecampione: Il Grinch
DESCRIPTION:La Illumination Entertainment firma questa trasposizione cinematografica del libro del Dr. Seuss\, “Il Grinch”\, precedentemente adattata per il grande schermo nell’omonimo film diretto da Ron Howard\, che vedeva Jim Carrey vestire i panni dell’iconico personaggio. La storia è sempre quella del Grinch\, il personaggio che vuole rubare il Natale\, ma che vedrà i suoi piani intralciati dalla tenerezza di una bambina.
URL:https://ioamomontecampione.it/event/al-cinema-di-montecampione-il-grinch-2/
LOCATION:Cinema di Montecampione\, Via Pradosole di Montecampione 36\, Artogne\, 25040\, Italia
ORGANIZER;CN="Consorzio Montecampione":MAILTO:info@consorziomontecampione.it
END:VEVENT
BEGIN:VEVENT
DTSTART;TZID=Europe/San_Marino:20190103T173000
DTEND;TZID=Europe/San_Marino:20190103T193000
DTSTAMP:20260422T131530
CREATED:20181221T193838Z
LAST-MODIFIED:20181221T193838Z
UID:8921-1546536600-1546543800@ioamomontecampione.it
SUMMARY:Al Cinema di Montecampione: Ben is back
DESCRIPTION:“Ben Is Back” racconta la storia di un ragazzo problematico che\, dopo un periodo trascorso in un centro di disintossicazione\, ritorna inaspettatamente a casa per la vigilia di Natale.
URL:https://ioamomontecampione.it/event/al-cinema-di-montecampione-ben-is-back-2/
LOCATION:Cinema di Montecampione\, Via Pradosole di Montecampione 36\, Artogne\, 25040\, Italia
ORGANIZER;CN="Consorzio Montecampione":MAILTO:info@consorziomontecampione.it
END:VEVENT
BEGIN:VEVENT
DTSTART;TZID=Europe/San_Marino:20190102T211500
DTEND;TZID=Europe/San_Marino:20190102T233000
DTSTAMP:20260422T131530
CREATED:20181221T194353Z
LAST-MODIFIED:20181221T194612Z
UID:8923-1546463700-1546471800@ioamomontecampione.it
SUMMARY:Al Cinema di Montecampione: Bohemian Rhapsody
DESCRIPTION:“Bohemian Rhapsody” è un biopic di una delle band inglesi di maggior successo di sempre\, i Queen. La pellicola è incentrata\, in particolare\, sui primi anni di formazione del gruppo fino all’incredibile concerto Live Aid del 1985 al Wembley Stadium\, in cui partecipò il frontman Freddy Mercury.
URL:https://ioamomontecampione.it/event/al-cinema-di-montecampione-bohemian-rhapsody/
LOCATION:Cinema di Montecampione\, Via Pradosole di Montecampione 36\, Artogne\, 25040\, Italia
ORGANIZER;CN="Consorzio Montecampione":MAILTO:info@consorziomontecampione.it
END:VEVENT
BEGIN:VEVENT
DTSTART;TZID=Europe/San_Marino:20190102T173000
DTEND;TZID=Europe/San_Marino:20190102T190000
DTSTAMP:20260422T131530
CREATED:20181221T190828Z
LAST-MODIFIED:20181221T190828Z
UID:8898-1546450200-1546455600@ioamomontecampione.it
SUMMARY:Al Cinema di Montecampione: Amici come prima
DESCRIPTION:
URL:https://ioamomontecampione.it/event/al-cinema-di-montecampione-amici-come-prima-4/
LOCATION:Cinema di Montecampione\, Via Pradosole di Montecampione 36\, Artogne\, 25040\, Italia
ORGANIZER;CN="Consorzio Montecampione":MAILTO:info@consorziomontecampione.it
END:VEVENT
BEGIN:VEVENT
DTSTART;TZID=Europe/San_Marino:20190101T211500
DTEND;TZID=Europe/San_Marino:20190101T233000
DTSTAMP:20260422T131530
CREATED:20181221T191642Z
LAST-MODIFIED:20181221T191733Z
UID:8905-1546377300-1546385400@ioamomontecampione.it
SUMMARY:Al Cinema di Montecampione: Moschettieri del Re
DESCRIPTION:A un anno di distanza da “Non è un paese per giovani“\, Giovanni Veronesi torna alla regia con “Moschettieri del Re”\, commedia in costume dai toni fiabeschi. Il regista\, già noto per la trilogia “Manuale d’Amore” e per aver sceneggiato classici della risata (“Il ciclone“\, “Il paradiso all’improvviso“)\, rievoca il capolavoro di Alexandre Dumas con un cast d’eccezione.
URL:https://ioamomontecampione.it/event/al-cinema-di-montecampione-moschettieri-del-re-2/
LOCATION:Cinema di Montecampione\, Via Pradosole di Montecampione 36\, Artogne\, 25040\, Italia
ORGANIZER;CN="Consorzio Montecampione":MAILTO:info@consorziomontecampione.it
END:VEVENT
BEGIN:VEVENT
DTSTART;TZID=Europe/San_Marino:20190101T173000
DTEND;TZID=Europe/San_Marino:20190101T193000
DTSTAMP:20260422T131530
CREATED:20181221T225621Z
LAST-MODIFIED:20181221T225621Z
UID:8934-1546363800-1546371000@ioamomontecampione.it
SUMMARY:Al Cinema di Montecampione: Il Grinch
DESCRIPTION:La Illumination Entertainment firma questa trasposizione cinematografica del libro del Dr. Seuss\, “Il Grinch”\, precedentemente adattata per il grande schermo nell’omonimo film diretto da Ron Howard\, che vedeva Jim Carrey vestire i panni dell’iconico personaggio. La storia è sempre quella del Grinch\, il personaggio che vuole rubare il Natale\, ma che vedrà i suoi piani intralciati dalla tenerezza di una bambina.
URL:https://ioamomontecampione.it/event/al-cinema-di-montecampione-il-grinch/
LOCATION:Cinema di Montecampione\, Via Pradosole di Montecampione 36\, Artogne\, 25040\, Italia
ORGANIZER;CN="Consorzio Montecampione":MAILTO:info@consorziomontecampione.it
END:VEVENT
BEGIN:VEVENT
DTSTART;TZID=Europe/San_Marino:20181231T173000
DTEND;TZID=Europe/San_Marino:20181231T193000
DTSTAMP:20260422T131530
CREATED:20181221T191910Z
LAST-MODIFIED:20181221T191910Z
UID:8907-1546277400-1546284600@ioamomontecampione.it
SUMMARY:Al Cinema di Montecampione: Moschettieri del Re
DESCRIPTION:A un anno di distanza da “Non è un paese per giovani“\, Giovanni Veronesi torna alla regia con “Moschettieri del Re”\, commedia in costume dai toni fiabeschi. Il regista\, già noto per la trilogia “Manuale d’Amore” e per aver sceneggiato classici della risata (“Il ciclone“\, “Il paradiso all’improvviso“)\, rievoca il capolavoro di Alexandre Dumas con un cast d’eccezione.
URL:https://ioamomontecampione.it/event/al-cinema-di-montecampione-moschettieri-del-re-3/
LOCATION:Cinema di Montecampione\, Via Pradosole di Montecampione 36\, Artogne\, 25040\, Italia
ORGANIZER;CN="Consorzio Montecampione":MAILTO:info@consorziomontecampione.it
END:VEVENT
BEGIN:VEVENT
DTSTART;TZID=Europe/San_Marino:20181230T211500
DTEND;TZID=Europe/San_Marino:20181230T233000
DTSTAMP:20260422T131530
CREATED:20181221T194718Z
LAST-MODIFIED:20181222T175053Z
UID:8926-1546204500-1546212600@ioamomontecampione.it
SUMMARY:Al Cinema di Montecampione: Bohemian Rhapsody
DESCRIPTION:“Bohemian Rhapsody” è un biopic di una delle band inglesi di maggior successo di sempre\, i Queen. La pellicola è incentrata\, in particolare\, sui primi anni di formazione del gruppo fino all’incredibile concerto Live Aid del 1985 al Wembley Stadium\, in cui partecipò il frontman Freddy Mercury.
URL:https://ioamomontecampione.it/event/al-cinema-di-montecampione-bohemian-rhapsody-2/
LOCATION:Cinema di Montecampione\, Via Pradosole di Montecampione 36\, Artogne\, 25040\, Italia
ORGANIZER;CN="Consorzio Montecampione":MAILTO:info@consorziomontecampione.it
END:VEVENT
BEGIN:VEVENT
DTSTART;TZID=Europe/San_Marino:20181230T173000
DTEND;TZID=Europe/San_Marino:20181230T193000
DTSTAMP:20260422T131530
CREATED:20181221T225917Z
LAST-MODIFIED:20181221T225917Z
UID:8938-1546191000-1546198200@ioamomontecampione.it
SUMMARY:Al Cinema di Montecampione: Il Grinch
DESCRIPTION:La Illumination Entertainment firma questa trasposizione cinematografica del libro del Dr. Seuss\, “Il Grinch”\, precedentemente adattata per il grande schermo nell’omonimo film diretto da Ron Howard\, che vedeva Jim Carrey vestire i panni dell’iconico personaggio. La storia è sempre quella del Grinch\, il personaggio che vuole rubare il Natale\, ma che vedrà i suoi piani intralciati dalla tenerezza di una bambina.
URL:https://ioamomontecampione.it/event/al-cinema-di-montecampione-il-grinch-3/
LOCATION:Cinema di Montecampione\, Via Pradosole di Montecampione 36\, Artogne\, 25040\, Italia
ORGANIZER;CN="Consorzio Montecampione":MAILTO:info@consorziomontecampione.it
END:VEVENT
BEGIN:VEVENT
DTSTART;TZID=Europe/San_Marino:20181228T211500
DTEND;TZID=Europe/San_Marino:20181228T233000
DTSTAMP:20260422T131530
CREATED:20181221T224817Z
LAST-MODIFIED:20181221T224817Z
UID:8929-1546031700-1546039800@ioamomontecampione.it
SUMMARY:Al Cinema di Montecampione: Se son Rose
DESCRIPTION:“Se son rose” è una commedia diretta da Leonardo Pieraccioni\, che dopo “Il professor Cenerentolo” (2015)\, torna dietro e davanti alla macchina da presa\, per dirigere e interpretare la storia di Leonardo Giustini\, un giornalista che si occupa di tecnologia e innovazione per il web.
URL:https://ioamomontecampione.it/event/al-cinema-di-montecampione-se-son-rose/
LOCATION:Cinema di Montecampione\, Via Pradosole di Montecampione 36\, Artogne\, 25040\, Italia
ORGANIZER;CN="Consorzio Montecampione":MAILTO:info@consorziomontecampione.it
END:VEVENT
END:VCALENDAR