BEGIN:VCALENDAR
VERSION:2.0
PRODID:-//I ♥ MONTECAMPIONE - ECPv6.15.20//NONSGML v1.0//EN
CALSCALE:GREGORIAN
METHOD:PUBLISH
X-WR-CALNAME:I ♥ MONTECAMPIONE
X-ORIGINAL-URL:https://ioamomontecampione.it
X-WR-CALDESC:Eventi per I ♥ MONTECAMPIONE
REFRESH-INTERVAL;VALUE=DURATION:PT1H
X-Robots-Tag:noindex
X-PUBLISHED-TTL:PT1H
BEGIN:VTIMEZONE
TZID:Europe/San_Marino
BEGIN:DAYLIGHT
TZOFFSETFROM:+0100
TZOFFSETTO:+0200
TZNAME:CEST
DTSTART:20170326T010000
END:DAYLIGHT
BEGIN:STANDARD
TZOFFSETFROM:+0200
TZOFFSETTO:+0100
TZNAME:CET
DTSTART:20171029T010000
END:STANDARD
BEGIN:DAYLIGHT
TZOFFSETFROM:+0100
TZOFFSETTO:+0200
TZNAME:CEST
DTSTART:20180325T010000
END:DAYLIGHT
BEGIN:STANDARD
TZOFFSETFROM:+0200
TZOFFSETTO:+0100
TZNAME:CET
DTSTART:20181028T010000
END:STANDARD
BEGIN:DAYLIGHT
TZOFFSETFROM:+0100
TZOFFSETTO:+0200
TZNAME:CEST
DTSTART:20190331T010000
END:DAYLIGHT
BEGIN:STANDARD
TZOFFSETFROM:+0200
TZOFFSETTO:+0100
TZNAME:CET
DTSTART:20191027T010000
END:STANDARD
END:VTIMEZONE
BEGIN:VEVENT
DTSTART;TZID=Europe/San_Marino:20181104T080000
DTEND;TZID=Europe/San_Marino:20181104T130000
DTSTAMP:20260422T020155
CREATED:20181101T092340Z
LAST-MODIFIED:20181101T125525Z
UID:7241-1541318400-1541336400@ioamomontecampione.it
SUMMARY:Divisione Zero organizza un evento MilSim a Montecampione: Simulazione tattica - Protocollo Zero
DESCRIPTION:A.S.D. Divisione Zero – Via Caprioli 25 – 25035 Ospitaletto BS \nN.B.: L’evento si svolgerà con equipaggiamento tattico e riproduzione di armi\, nel bosco limitrofo alle piste da sci (zona Nord della pista Intermedia). \nNell’area interessata saranno affissi cartelli per avvisare i turisti dell’evento in corso.
URL:https://ioamomontecampione.it/event/divisione-zero-organizza-un-evento-milsim-a-montecampione-simulazione-tattica-protocollo-zero/
LOCATION:Montecampione Ski Area\, Via Legazzuolo di Montecampione\, Artogne\, 25040\, Italia
END:VEVENT
END:VCALENDAR