BEGIN:VCALENDAR
VERSION:2.0
PRODID:-//I ♥ MONTECAMPIONE - ECPv6.15.20//NONSGML v1.0//EN
CALSCALE:GREGORIAN
METHOD:PUBLISH
X-WR-CALNAME:I ♥ MONTECAMPIONE
X-ORIGINAL-URL:https://ioamomontecampione.it
X-WR-CALDESC:Eventi per I ♥ MONTECAMPIONE
REFRESH-INTERVAL;VALUE=DURATION:PT1H
X-Robots-Tag:noindex
X-PUBLISHED-TTL:PT1H
BEGIN:VTIMEZONE
TZID:Europe/Rome
BEGIN:DAYLIGHT
TZOFFSETFROM:+0100
TZOFFSETTO:+0200
TZNAME:CEST
DTSTART:20170326T010000
END:DAYLIGHT
BEGIN:STANDARD
TZOFFSETFROM:+0200
TZOFFSETTO:+0100
TZNAME:CET
DTSTART:20171029T010000
END:STANDARD
BEGIN:DAYLIGHT
TZOFFSETFROM:+0100
TZOFFSETTO:+0200
TZNAME:CEST
DTSTART:20180325T010000
END:DAYLIGHT
BEGIN:STANDARD
TZOFFSETFROM:+0200
TZOFFSETTO:+0100
TZNAME:CET
DTSTART:20181028T010000
END:STANDARD
BEGIN:DAYLIGHT
TZOFFSETFROM:+0100
TZOFFSETTO:+0200
TZNAME:CEST
DTSTART:20190331T010000
END:DAYLIGHT
BEGIN:STANDARD
TZOFFSETFROM:+0200
TZOFFSETTO:+0100
TZNAME:CET
DTSTART:20191027T010000
END:STANDARD
END:VTIMEZONE
BEGIN:VEVENT
DTSTART;TZID=Europe/Rome:20180809T210000
DTEND;TZID=Europe/Rome:20180809T223000
DTSTAMP:20260422T053240
CREATED:20180717T100209Z
LAST-MODIFIED:20180717T100546Z
UID:3550-1533848400-1533853800@ioamomontecampione.it
SUMMARY:Dialoghi al chiaro di Luna allo Spazio Indomita di Montecampione: L'emigrante Argentino e Vita amore e morte a Filicudi con Giannno Botticchio
DESCRIPTION:
URL:https://ioamomontecampione.it/event/dialoghi-al-chiaro-di-luna-allo-spazioindomita-di-montecampione-lemigrante-argentino-e-vita-amore-e-morte-a-filicudi-con-giannno-botticchio/
LOCATION:Spazio Indomita\, Via Panoramica di Montecampione 71\, Pian Camuno\, 25050\, Italia
ORGANIZER;CN="Spazio Indomita":MAILTO:spazioindoita@gmail.com
END:VEVENT
BEGIN:VEVENT
DTSTART;TZID=Europe/Rome:20180719T210000
DTEND;TZID=Europe/Rome:20180719T223000
DTSTAMP:20260422T053240
CREATED:20180717T093847Z
LAST-MODIFIED:20180717T100433Z
UID:3539-1532034000-1532039400@ioamomontecampione.it
SUMMARY:Dialoghi al chiaro di Luna allo Spazio Indomita di Montecampione: La figlia del Sole con Giannino Botticchio e Dolores Laidelli
DESCRIPTION:
URL:https://ioamomontecampione.it/event/dialoghi-al-chiaro-di-luna-allo-spazioindomita-di-montecampione-la-figlia-del-sole-con-giannino-botticchio-e-dolores-laidelli/
LOCATION:Spazio Indomita\, Via Panoramica di Montecampione 71\, Pian Camuno\, 2505\, Italia
ORGANIZER;CN="Spazio Indomita":MAILTO:spazioindoita@gmail.com
END:VEVENT
END:VCALENDAR