BEGIN:VCALENDAR
VERSION:2.0
PRODID:-//I ♥ MONTECAMPIONE - ECPv6.15.20//NONSGML v1.0//EN
CALSCALE:GREGORIAN
METHOD:PUBLISH
X-WR-CALNAME:I ♥ MONTECAMPIONE
X-ORIGINAL-URL:https://ioamomontecampione.it
X-WR-CALDESC:Eventi per I ♥ MONTECAMPIONE
REFRESH-INTERVAL;VALUE=DURATION:PT1H
X-Robots-Tag:noindex
X-PUBLISHED-TTL:PT1H
BEGIN:VTIMEZONE
TZID:Europe/San_Marino
BEGIN:DAYLIGHT
TZOFFSETFROM:+0100
TZOFFSETTO:+0200
TZNAME:CEST
DTSTART:20190331T010000
END:DAYLIGHT
BEGIN:STANDARD
TZOFFSETFROM:+0200
TZOFFSETTO:+0100
TZNAME:CET
DTSTART:20191027T010000
END:STANDARD
BEGIN:DAYLIGHT
TZOFFSETFROM:+0100
TZOFFSETTO:+0200
TZNAME:CEST
DTSTART:20200329T010000
END:DAYLIGHT
BEGIN:STANDARD
TZOFFSETFROM:+0200
TZOFFSETTO:+0100
TZNAME:CET
DTSTART:20201025T010000
END:STANDARD
BEGIN:DAYLIGHT
TZOFFSETFROM:+0100
TZOFFSETTO:+0200
TZNAME:CEST
DTSTART:20210328T010000
END:DAYLIGHT
BEGIN:STANDARD
TZOFFSETFROM:+0200
TZOFFSETTO:+0100
TZNAME:CET
DTSTART:20211031T010000
END:STANDARD
BEGIN:DAYLIGHT
TZOFFSETFROM:+0100
TZOFFSETTO:+0200
TZNAME:CEST
DTSTART:20220327T010000
END:DAYLIGHT
BEGIN:STANDARD
TZOFFSETFROM:+0200
TZOFFSETTO:+0100
TZNAME:CET
DTSTART:20221030T010000
END:STANDARD
END:VTIMEZONE
BEGIN:VTIMEZONE
TZID:Europe/Rome
BEGIN:DAYLIGHT
TZOFFSETFROM:+0100
TZOFFSETTO:+0200
TZNAME:CEST
DTSTART:20170326T010000
END:DAYLIGHT
BEGIN:STANDARD
TZOFFSETFROM:+0200
TZOFFSETTO:+0100
TZNAME:CET
DTSTART:20171029T010000
END:STANDARD
BEGIN:DAYLIGHT
TZOFFSETFROM:+0100
TZOFFSETTO:+0200
TZNAME:CEST
DTSTART:20180325T010000
END:DAYLIGHT
BEGIN:STANDARD
TZOFFSETFROM:+0200
TZOFFSETTO:+0100
TZNAME:CET
DTSTART:20181028T010000
END:STANDARD
BEGIN:DAYLIGHT
TZOFFSETFROM:+0100
TZOFFSETTO:+0200
TZNAME:CEST
DTSTART:20190331T010000
END:DAYLIGHT
BEGIN:STANDARD
TZOFFSETFROM:+0200
TZOFFSETTO:+0100
TZNAME:CET
DTSTART:20191027T010000
END:STANDARD
END:VTIMEZONE
BEGIN:VEVENT
DTSTART;TZID=Europe/San_Marino:20210626T080000
DTEND;TZID=Europe/San_Marino:20210626T203000
DTSTAMP:20260422T132330
CREATED:20200305T100215Z
LAST-MODIFIED:20210703T164230Z
UID:16180-1624694400-1624739400@ioamomontecampione.it
SUMMARY:GOTo Valle Camonica – Inaugurazione della Statua di Marco Pantani al Plan di Montecampione
DESCRIPTION:Giro d’Italia. Il 4 Giugno del 1998 Marco Pantani entra per sempre nella storia. 20 anni dopo quella indimenticabile vittoria vogliamo celebrarlo così: con una statua alta circa 6 metri. Proprio lì\, a Montecampione\, a 1800 metri… dove il ciclista più amato d’Italia tagliò il traguardo 20 anni fa.  \nCon il benestare della famiglia pantani\, desideriamo immortalare il momento esatto del suo arrivo\, quel preciso attimo che lo ritrae con le braccia alzate e lo sguardo rivolto al cielo e che ha commosso milioni di telespettatori. \nL’opera sarà parte integrante dei progetti “La ciclovia dei Giganti” e “Italy Bike Resort” e contribuirà a rendere Montecampione la Mecca del ciclismo in Italia. \nPer realizzarla chiediamo anche il tuo aiuto e ti offriamo una possibilità: diventare immortale.\nSono a disposizione un numero limitato di targhe che andranno posizionate sulla base della statua.\nSu di essa potrai incidere il logo della tua azienda e il tuo nome. \nCompra la tua adesso! \nSorgente: GOTo Valle Camonica
URL:https://ioamomontecampione.it/event/goto-valle-camonica-inaugurazione-della-statua-di-marco-pantani-al-plan-di-montecampione/
LOCATION:Plan di Montecampione\, Via Plan di Montecampione\, Artogne\, 25040\, Italia
END:VEVENT
BEGIN:VEVENT
DTSTART;TZID=Europe/San_Marino:20200503T213000
DTEND;TZID=Europe/San_Marino:20200503T233000
DTSTAMP:20260422T132330
CREATED:20200501T065024Z
LAST-MODIFIED:20200510T222918Z
UID:17163-1588541400-1588548600@ioamomontecampione.it
SUMMARY:Radio Enjoy da Montecampione con Silvia Schiavini di GOTo Valcamonica e Tonina Pantani
DESCRIPTION:A partire dalle 21.30 di domenica 3 maggio 2020\, in diretta*\, potrete: \n– ascoltare (senza vedere) dal sito di Radio Enjoy\n– ascoltare e vedere dalla pagina facebook di Radio Enjoy official \n\nla musica che avrete richiesto via whatsapp al +39 392 153 4732 entro sabato\n\nSilvia Schiavini di GOTo Vallecamonica che fornirà gli ultimi aggiornameti sulla Statua del “Pirata” che verrà posizionata al Plan di Montecampione\n\nTonina Belletti che risponderà ad alcune domande sul suo grande figlio Marco Pantani\nThe Occasionals con il loro brano Montecampione.\napprofondimenti sul Ciclismo su strada\n\n\n\n\nSciVolando è un programma di musica a richiesta con notizie\, risultati\, classifiche ed approfondimenti dal mondo dello sport. \n\nLeggi anche: GOTo Vallecamonica – Da oggi potete prenotare anche presso il Consorzio Montecampione il vostro spazio sulla Statua dedicata a Marco Pantani! \n\n* Ovviamente sia la conduttrice che gli ospiti interverranno ognuno da casa propria.
URL:https://ioamomontecampione.it/event/radio-enjoy-da-montecampione-con-silvia-schiavini-di-goto-valcamonica-e-tonina-pantani/
LOCATION:Casa propria (causa covid -19)\, Italia
END:VEVENT
BEGIN:VEVENT
DTSTART;TZID=Europe/Rome:20180811T150000
DTEND;TZID=Europe/Rome:20180816T180000
DTSTAMP:20260422T132330
CREATED:20180809T082940Z
LAST-MODIFIED:20180809T082940Z
UID:4268-1533999600-1534442400@ioamomontecampione.it
SUMMARY:Esposizione della collezione Sigorini Alessio vicino alla Tabaccheria Arrigoni di Montecampione
DESCRIPTION:
URL:https://ioamomontecampione.it/event/esposizione-della-collezione-sigorini-alessio-vicino-alla-tabaccheria-arrigoni-di-montecampione/
LOCATION:Tabaccheria Arrigoni\, Via Panoramica di Montecampione 75\, Pian Camuno\, 25050\, Italia
ORGANIZER;CN="Alessio Sigorini":MAILTO:alessio.sigorini@libero.it
END:VEVENT
END:VCALENDAR