BEGIN:VCALENDAR
VERSION:2.0
PRODID:-//I ♥ MONTECAMPIONE - ECPv6.15.20//NONSGML v1.0//EN
CALSCALE:GREGORIAN
METHOD:PUBLISH
X-WR-CALNAME:I ♥ MONTECAMPIONE
X-ORIGINAL-URL:https://ioamomontecampione.it
X-WR-CALDESC:Eventi per I ♥ MONTECAMPIONE
REFRESH-INTERVAL;VALUE=DURATION:PT1H
X-Robots-Tag:noindex
X-PUBLISHED-TTL:PT1H
BEGIN:VTIMEZONE
TZID:Europe/San_Marino
BEGIN:DAYLIGHT
TZOFFSETFROM:+0100
TZOFFSETTO:+0200
TZNAME:CEST
DTSTART:20170326T010000
END:DAYLIGHT
BEGIN:STANDARD
TZOFFSETFROM:+0200
TZOFFSETTO:+0100
TZNAME:CET
DTSTART:20171029T010000
END:STANDARD
BEGIN:DAYLIGHT
TZOFFSETFROM:+0100
TZOFFSETTO:+0200
TZNAME:CEST
DTSTART:20180325T010000
END:DAYLIGHT
BEGIN:STANDARD
TZOFFSETFROM:+0200
TZOFFSETTO:+0100
TZNAME:CET
DTSTART:20181028T010000
END:STANDARD
BEGIN:DAYLIGHT
TZOFFSETFROM:+0100
TZOFFSETTO:+0200
TZNAME:CEST
DTSTART:20190331T010000
END:DAYLIGHT
BEGIN:STANDARD
TZOFFSETFROM:+0200
TZOFFSETTO:+0100
TZNAME:CET
DTSTART:20191027T010000
END:STANDARD
BEGIN:DAYLIGHT
TZOFFSETFROM:+0100
TZOFFSETTO:+0200
TZNAME:CEST
DTSTART:20200329T010000
END:DAYLIGHT
BEGIN:STANDARD
TZOFFSETFROM:+0200
TZOFFSETTO:+0100
TZNAME:CET
DTSTART:20201025T010000
END:STANDARD
BEGIN:DAYLIGHT
TZOFFSETFROM:+0100
TZOFFSETTO:+0200
TZNAME:CEST
DTSTART:20210328T010000
END:DAYLIGHT
BEGIN:STANDARD
TZOFFSETFROM:+0200
TZOFFSETTO:+0100
TZNAME:CET
DTSTART:20211031T010000
END:STANDARD
BEGIN:DAYLIGHT
TZOFFSETFROM:+0100
TZOFFSETTO:+0200
TZNAME:CEST
DTSTART:20220327T010000
END:DAYLIGHT
BEGIN:STANDARD
TZOFFSETFROM:+0200
TZOFFSETTO:+0100
TZNAME:CET
DTSTART:20221030T010000
END:STANDARD
END:VTIMEZONE
BEGIN:VEVENT
DTSTART;TZID=Europe/San_Marino:20211030T150000
DTEND;TZID=Europe/San_Marino:20211030T170000
DTSTAMP:20260422T103436
CREATED:20211018T064712Z
LAST-MODIFIED:20211018T064712Z
UID:21710-1635606000-1635613200@ioamomontecampione.it
SUMMARY:Tradizionale Castagnata in Valgrande a Montecampione
DESCRIPTION:
URL:https://ioamomontecampione.it/event/tradizionale-castagnata-in-valgrande-a-montecampione-3/
LOCATION:Market Valgrande\, Via Plan di Montecampione 72\, Artogne\, 25040\, Italia
END:VEVENT
BEGIN:VEVENT
DTSTART;TZID=Europe/San_Marino:20191102T150000
DTEND;TZID=Europe/San_Marino:20191102T170000
DTSTAMP:20260422T103436
CREATED:20191015T142421Z
LAST-MODIFIED:20191015T142421Z
UID:14060-1572706800-1572714000@ioamomontecampione.it
SUMMARY:Tradizionale Castagnata in Valgrande a Montecampione
DESCRIPTION:
URL:https://ioamomontecampione.it/event/tradizionale-castagnata-in-valgrande-a-montecampione-2/
LOCATION:Consorzio Montecampione\, Via Panoramica di Montecampione 61\, Pian Camuno\, 25050\, Italia
END:VEVENT
BEGIN:VEVENT
DTSTART;TZID=Europe/San_Marino:20181103T150000
DTEND;TZID=Europe/San_Marino:20181103T190000
DTSTAMP:20260422T103436
CREATED:20180917T132108Z
LAST-MODIFIED:20180917T132108Z
UID:5558-1541257200-1541271600@ioamomontecampione.it
SUMMARY:Tradizionale Castagnata in Valgrande a Montecampione
DESCRIPTION:
URL:https://ioamomontecampione.it/event/tradizionale-castagnata-in-valgrande-a-montecampione/
LOCATION:Consorzio Montecampione\, Via Panoramica di Montecampione 61\, Pian Camuno\, 25050\, Italia
END:VEVENT
END:VCALENDAR