BEGIN:VCALENDAR
VERSION:2.0
PRODID:-//I ♥ MONTECAMPIONE - ECPv6.15.20//NONSGML v1.0//EN
CALSCALE:GREGORIAN
METHOD:PUBLISH
X-WR-CALNAME:I ♥ MONTECAMPIONE
X-ORIGINAL-URL:https://ioamomontecampione.it
X-WR-CALDESC:Eventi per I ♥ MONTECAMPIONE
REFRESH-INTERVAL;VALUE=DURATION:PT1H
X-Robots-Tag:noindex
X-PUBLISHED-TTL:PT1H
BEGIN:VTIMEZONE
TZID:Europe/Rome
BEGIN:DAYLIGHT
TZOFFSETFROM:+0100
TZOFFSETTO:+0200
TZNAME:CEST
DTSTART:20170326T010000
END:DAYLIGHT
BEGIN:STANDARD
TZOFFSETFROM:+0200
TZOFFSETTO:+0100
TZNAME:CET
DTSTART:20171029T010000
END:STANDARD
BEGIN:DAYLIGHT
TZOFFSETFROM:+0100
TZOFFSETTO:+0200
TZNAME:CEST
DTSTART:20180325T010000
END:DAYLIGHT
BEGIN:STANDARD
TZOFFSETFROM:+0200
TZOFFSETTO:+0100
TZNAME:CET
DTSTART:20181028T010000
END:STANDARD
BEGIN:DAYLIGHT
TZOFFSETFROM:+0100
TZOFFSETTO:+0200
TZNAME:CEST
DTSTART:20190331T010000
END:DAYLIGHT
BEGIN:STANDARD
TZOFFSETFROM:+0200
TZOFFSETTO:+0100
TZNAME:CET
DTSTART:20191027T010000
END:STANDARD
END:VTIMEZONE
BEGIN:VEVENT
DTSTART;TZID=Europe/Rome:20180813T190000
DTEND;TZID=Europe/Rome:20180813T223000
DTSTAMP:20260422T232643
CREATED:20180809T074850Z
LAST-MODIFIED:20180809T075419Z
UID:4265-1534186800-1534199400@ioamomontecampione.it
SUMMARY:Al Laghetto di Montecampione Cena e degustazione di vino!
DESCRIPTION:
URL:https://ioamomontecampione.it/event/al-laghetto-di-montecampione-cena-e-degustazione-di-vino/
LOCATION:Bar Ristorante Il Laghetto Montecampione\, Via Panoramica di Montecampione\, Pian Camuno\, 25050\, Italia
ORGANIZER;CN="Bar Ristorante Il Laghetto":MAILTO:paolaafontanaa@gmail.com
END:VEVENT
END:VCALENDAR