BEGIN:VCALENDAR
VERSION:2.0
PRODID:-//I ♥ MONTECAMPIONE - ECPv6.15.20//NONSGML v1.0//EN
CALSCALE:GREGORIAN
METHOD:PUBLISH
X-WR-CALNAME:I ♥ MONTECAMPIONE
X-ORIGINAL-URL:https://ioamomontecampione.it
X-WR-CALDESC:Eventi per I ♥ MONTECAMPIONE
REFRESH-INTERVAL;VALUE=DURATION:PT1H
X-Robots-Tag:noindex
X-PUBLISHED-TTL:PT1H
BEGIN:VTIMEZONE
TZID:Europe/San_Marino
BEGIN:DAYLIGHT
TZOFFSETFROM:+0100
TZOFFSETTO:+0200
TZNAME:CEST
DTSTART:20180325T010000
END:DAYLIGHT
BEGIN:STANDARD
TZOFFSETFROM:+0200
TZOFFSETTO:+0100
TZNAME:CET
DTSTART:20181028T010000
END:STANDARD
BEGIN:DAYLIGHT
TZOFFSETFROM:+0100
TZOFFSETTO:+0200
TZNAME:CEST
DTSTART:20190331T010000
END:DAYLIGHT
BEGIN:STANDARD
TZOFFSETFROM:+0200
TZOFFSETTO:+0100
TZNAME:CET
DTSTART:20191027T010000
END:STANDARD
BEGIN:DAYLIGHT
TZOFFSETFROM:+0100
TZOFFSETTO:+0200
TZNAME:CEST
DTSTART:20200329T010000
END:DAYLIGHT
BEGIN:STANDARD
TZOFFSETFROM:+0200
TZOFFSETTO:+0100
TZNAME:CET
DTSTART:20201025T010000
END:STANDARD
BEGIN:DAYLIGHT
TZOFFSETFROM:+0100
TZOFFSETTO:+0200
TZNAME:CEST
DTSTART:20210328T010000
END:DAYLIGHT
BEGIN:STANDARD
TZOFFSETFROM:+0200
TZOFFSETTO:+0100
TZNAME:CET
DTSTART:20211031T010000
END:STANDARD
BEGIN:DAYLIGHT
TZOFFSETFROM:+0100
TZOFFSETTO:+0200
TZNAME:CEST
DTSTART:20220327T010000
END:DAYLIGHT
BEGIN:STANDARD
TZOFFSETFROM:+0200
TZOFFSETTO:+0100
TZNAME:CET
DTSTART:20221030T010000
END:STANDARD
END:VTIMEZONE
BEGIN:VEVENT
DTSTART;TZID=Europe/San_Marino:20210813T090000
DTEND;TZID=Europe/San_Marino:20210814T200000
DTSTAMP:20260424T192349
CREATED:20210803T102826Z
LAST-MODIFIED:20210803T102826Z
UID:20290-1628845200-1628971200@ioamomontecampione.it
SUMMARY:Consorzio Montecampione: Mostra Micologica presso la Sala Mostre della Piazzetta di Montecampione
DESCRIPTION:
URL:https://ioamomontecampione.it/event/consorzio-montecampione-mostra-micologica-presso-la-sala-mostre-della-piazzetta-di-montecampione-2/
LOCATION:Piazzetta di Montecampione\, Via Pradosole di Montecampione 50\, Artogne\, 25040\, Italia
ORGANIZER;CN="Consorzio Montecampione":MAILTO:info@consorziomontecampione.it
END:VEVENT
BEGIN:VEVENT
DTSTART;TZID=Europe/San_Marino:20200808T090000
DTEND;TZID=Europe/San_Marino:20200809T200000
DTSTAMP:20260424T192349
CREATED:20200715T133708Z
LAST-MODIFIED:20200715T133708Z
UID:18525-1596877200-1597003200@ioamomontecampione.it
SUMMARY:Consorzio Montecampione: Mostra Micologica presso la Sala Mostre della Piazzetta di Montecampione
DESCRIPTION:
URL:https://ioamomontecampione.it/event/consorzio-montecampione-mostra-micologica-presso-la-sala-mostre-della-piazzetta-di-montecampione/
LOCATION:Piazzetta di Montecampione\, Via Pradosole di Montecampione 50\, Artogne\, 25040\, Italia
ORGANIZER;CN="Consorzio Montecampione":MAILTO:info@consorziomontecampione.it
END:VEVENT
BEGIN:VEVENT
DTSTART;TZID=Europe/San_Marino:20191102T153000
DTEND;TZID=Europe/San_Marino:20191102T170000
DTSTAMP:20260424T192349
CREATED:20191004T155918Z
LAST-MODIFIED:20191023T062957Z
UID:13892-1572708600-1572714000@ioamomontecampione.it
SUMMARY:Il Granducato Valgrande organizza Giochiamo Merendando
DESCRIPTION:Un momento speciale dedicato al gioco\, all’arte ed al piacere di fare insieme\, arricchendo la relazione con i propri figli attraverso il canale della creatività. \nLiberate la vostra immaginazione e trascorriamo insieme qualche ora all’insegna della fantasia creando con gli Scooby Doo dei bellissimi braccialetti e portachiavi che poi conserverete come ricordo di questa giornata speciale.  Ai partecipanti verranno forniti fili colorati di materiale sintetico e verrà loro insegnato come intrecciarli. \nSi potrà inoltre assistere ad una dimostrazione di alcuni elementi decorativi in pirografia. La tecnica della pirografia è l’arte di incidere e/o disegnare con una punta metallica incandescente su legno. Per i più “intraprendenti” ci sarà la possibilità di provare!
URL:https://ioamomontecampione.it/event/il-granducato-valgrande-organizza-giochiamo-merendando/
LOCATION:Granducato Valgrande\, Via Plan di Montecampione 20\, Artogne\, 25040\, Italia
ORGANIZER;CN="Granducato Valgrande":MAILTO:info@granducatovalgrande.com
END:VEVENT
BEGIN:VEVENT
DTSTART;TZID=Europe/San_Marino:20190810T090000
DTEND;TZID=Europe/San_Marino:20190811T200000
DTSTAMP:20260424T192349
CREATED:20190809T071145Z
LAST-MODIFIED:20190809T071145Z
UID:13152-1565427600-1565553600@ioamomontecampione.it
SUMMARY:Mostra Micologica presso la Sala Mostre della Piazzetta di Montecampione
DESCRIPTION:
URL:https://ioamomontecampione.it/event/mostra-micologica-presso-la-sala-mostre-della-piazzetta-di-montecampione/
LOCATION:Piazzetta di Montecampione\, Via Pradosole di Montecampione 50\, Artogne\, 25040\, Italia
ORGANIZER;CN="Consorzio Montecampione":MAILTO:info@consorziomontecampione.it
END:VEVENT
BEGIN:VEVENT
DTSTART;TZID=Europe/San_Marino:20190810T090000
DTEND;TZID=Europe/San_Marino:20190811T200000
DTSTAMP:20260424T192349
CREATED:20190709T082453Z
LAST-MODIFIED:20190809T204333Z
UID:12531-1565427600-1565553600@ioamomontecampione.it
SUMMARY:Consorzio Montecampione: 1a MOSTRA MICOLOGICA a Montecampione presso la Piazzetta
DESCRIPTION:Sabato 10 e domenica 11 agosto\, orario 9.00-13.00 e 15.00-20.00 \n1a “MOSTRA MICOLOGICA a Montecampione” \ncurata dal Gruppo Micologico “Franco Colombi”\, Sezione di Lovere del Circolo Micologico G. Carini di Brescia. All’interno della mostra sarà presente la pregevole esposizione “Funghi in Legno” dell’Artista pisognese NILO LAZZAROTTO.
URL:https://ioamomontecampione.it/event/consorzio-montecampione-1a-mostra-micologica-a-montecampione-presso-la-piazzetta/
LOCATION:Piazzetta di Montecampione\, Via Pradosole di Montecampione 50\, Artogne\, 25040\, Italia
ORGANIZER;CN="Consorzio Montecampione":MAILTO:info@consorziomontecampione.it
END:VEVENT
END:VCALENDAR