BEGIN:VCALENDAR
VERSION:2.0
PRODID:-//I ♥ MONTECAMPIONE - ECPv6.15.20//NONSGML v1.0//EN
CALSCALE:GREGORIAN
METHOD:PUBLISH
X-ORIGINAL-URL:https://ioamomontecampione.it
X-WR-CALDESC:Eventi per I ♥ MONTECAMPIONE
REFRESH-INTERVAL;VALUE=DURATION:PT1H
X-Robots-Tag:noindex
X-PUBLISHED-TTL:PT1H
BEGIN:VTIMEZONE
TZID:Europe/San_Marino
BEGIN:DAYLIGHT
TZOFFSETFROM:+0100
TZOFFSETTO:+0200
TZNAME:CEST
DTSTART:20190331T010000
END:DAYLIGHT
BEGIN:STANDARD
TZOFFSETFROM:+0200
TZOFFSETTO:+0100
TZNAME:CET
DTSTART:20191027T010000
END:STANDARD
BEGIN:DAYLIGHT
TZOFFSETFROM:+0100
TZOFFSETTO:+0200
TZNAME:CEST
DTSTART:20200329T010000
END:DAYLIGHT
BEGIN:STANDARD
TZOFFSETFROM:+0200
TZOFFSETTO:+0100
TZNAME:CET
DTSTART:20201025T010000
END:STANDARD
BEGIN:DAYLIGHT
TZOFFSETFROM:+0100
TZOFFSETTO:+0200
TZNAME:CEST
DTSTART:20210328T010000
END:DAYLIGHT
BEGIN:STANDARD
TZOFFSETFROM:+0200
TZOFFSETTO:+0100
TZNAME:CET
DTSTART:20211031T010000
END:STANDARD
END:VTIMEZONE
BEGIN:VEVENT
DTSTART;TZID=Europe/San_Marino:20200802T103000
DTEND;TZID=Europe/San_Marino:20200802T160000
DTSTAMP:20260421T113428
CREATED:20200715T151152Z
LAST-MODIFIED:20200715T151152Z
UID:18534-1596364200-1596384000@ioamomontecampione.it
SUMMARY:Sapori Di Vallecamonica al Rifugio E.Tironi Rosello di Sopra di Montecampione
DESCRIPTION:
URL:https://ioamomontecampione.it/event/sapori-di-vallecamonica-al-rifugio-e-tironi-rosello-di-sopra-di-montecampione-2/
LOCATION:Rifugio Elena Tironi Rosello di Sopra\, Località Valgrigna\, Esine\, 25040\, Italia
ORGANIZER;CN="Consorzio per la Tutela del Formaggio Silter":MAILTO:consorziosilter@gmail.com
END:VEVENT
END:VCALENDAR