BEGIN:VCALENDAR
VERSION:2.0
PRODID:-//I ♥ MONTECAMPIONE - ECPv6.15.20//NONSGML v1.0//EN
CALSCALE:GREGORIAN
METHOD:PUBLISH
X-ORIGINAL-URL:https://ioamomontecampione.it
X-WR-CALDESC:Eventi per I ♥ MONTECAMPIONE
REFRESH-INTERVAL;VALUE=DURATION:PT1H
X-Robots-Tag:noindex
X-PUBLISHED-TTL:PT1H
BEGIN:VTIMEZONE
TZID:Europe/San_Marino
BEGIN:DAYLIGHT
TZOFFSETFROM:+0100
TZOFFSETTO:+0200
TZNAME:CEST
DTSTART:20180325T010000
END:DAYLIGHT
BEGIN:STANDARD
TZOFFSETFROM:+0200
TZOFFSETTO:+0100
TZNAME:CET
DTSTART:20181028T010000
END:STANDARD
BEGIN:DAYLIGHT
TZOFFSETFROM:+0100
TZOFFSETTO:+0200
TZNAME:CEST
DTSTART:20190331T010000
END:DAYLIGHT
BEGIN:STANDARD
TZOFFSETFROM:+0200
TZOFFSETTO:+0100
TZNAME:CET
DTSTART:20191027T010000
END:STANDARD
BEGIN:DAYLIGHT
TZOFFSETFROM:+0100
TZOFFSETTO:+0200
TZNAME:CEST
DTSTART:20200329T010000
END:DAYLIGHT
BEGIN:STANDARD
TZOFFSETFROM:+0200
TZOFFSETTO:+0100
TZNAME:CET
DTSTART:20201025T010000
END:STANDARD
END:VTIMEZONE
BEGIN:VEVENT
DTSTART;TZID=Europe/San_Marino:20191201T150000
DTEND;TZID=Europe/San_Marino:20191201T180000
DTSTAMP:20260421T115703
CREATED:20191130T164919Z
LAST-MODIFIED:20191130T165823Z
UID:14845-1575212400-1575223200@ioamomontecampione.it
SUMMARY:Inaugurazione di Lamaradolce nella Piazzetta di Montecampione
DESCRIPTION:Un nuovo negozio di maglierie nella Piazzetta di Montecampione!!!\n\nMara ed Elisa vi aspettano per l’inaugurazione a partire dalle ore 15.00\n\n\nDove? Nel locale che dagli anni ’70 ospitava la Sala Giochi!\n\nNon mancate.
URL:https://ioamomontecampione.it/event/inaugurazione-di-lamaradolce-nella-piazzetta-di-montecampione/
LOCATION:Lamaradolce\, Via Pradosole di Montecampione 34\, Artogne\, 25040\, Italia
ORGANIZER;CN="Lamaradolce":MAILTO:info@lamaradolce.com
END:VEVENT
END:VCALENDAR