BEGIN:VCALENDAR
VERSION:2.0
PRODID:-//I ♥ MONTECAMPIONE - ECPv6.15.20//NONSGML v1.0//EN
CALSCALE:GREGORIAN
METHOD:PUBLISH
X-ORIGINAL-URL:https://ioamomontecampione.it
X-WR-CALDESC:Eventi per I ♥ MONTECAMPIONE
REFRESH-INTERVAL;VALUE=DURATION:PT1H
X-Robots-Tag:noindex
X-PUBLISHED-TTL:PT1H
BEGIN:VTIMEZONE
TZID:Europe/San_Marino
BEGIN:DAYLIGHT
TZOFFSETFROM:+0100
TZOFFSETTO:+0200
TZNAME:CEST
DTSTART:20210328T010000
END:DAYLIGHT
BEGIN:STANDARD
TZOFFSETFROM:+0200
TZOFFSETTO:+0100
TZNAME:CET
DTSTART:20211031T010000
END:STANDARD
BEGIN:DAYLIGHT
TZOFFSETFROM:+0100
TZOFFSETTO:+0200
TZNAME:CEST
DTSTART:20220327T010000
END:DAYLIGHT
BEGIN:STANDARD
TZOFFSETFROM:+0200
TZOFFSETTO:+0100
TZNAME:CET
DTSTART:20221030T010000
END:STANDARD
BEGIN:DAYLIGHT
TZOFFSETFROM:+0100
TZOFFSETTO:+0200
TZNAME:CEST
DTSTART:20230326T010000
END:DAYLIGHT
BEGIN:STANDARD
TZOFFSETFROM:+0200
TZOFFSETTO:+0100
TZNAME:CET
DTSTART:20231029T010000
END:STANDARD
END:VTIMEZONE
BEGIN:VEVENT
DTSTART;TZID=Europe/San_Marino:20220825T090000
DTEND;TZID=Europe/San_Marino:20220825T150000
DTSTAMP:20260422T043234
CREATED:20220812T162351Z
LAST-MODIFIED:20220822T090515Z
UID:27632-1661418000-1661439600@ioamomontecampione.it
SUMMARY:Escursione Botanica nei Boschi di Montecampione con l’esperto Marco Biolo
DESCRIPTION:Ore 9.00: ritrovo presso l’Aperibar Il Faro (Piazza della Biglietteria della partenza degli impianti di 1200) \nOre 9.15: partenza per il bosco per conoscere e raccogliere le erbe. \nOre 12.00: rientro presso la Pizzeria Valgrande \nOre 12.30: pranzo facoltativo a prezzo convenzionato (euro 15.00) con prenotazione obbligatoria entro le ore 9.30 del medesimo giorno allo 0364 560515. \nOre 14.00: controllo delle erbe raccolte a cura dell’Ispettore Botanico Marco Biolo dell’ATS di Brescia
URL:https://ioamomontecampione.it/event/escursione-botanica-nei-boschi-di-montecampione-con-lesperto-marco-biolo-2/
LOCATION:Faro di Montecampione\, Via Legazzuolo di Montecampione\, Artogne\, 25040\, Italia
ORGANIZER;CN="Consorzio Montecampione":MAILTO:info@consorziomontecampione.it
END:VEVENT
BEGIN:VEVENT
DTSTART;TZID=Europe/San_Marino:20220808T090000
DTEND;TZID=Europe/San_Marino:20220808T150000
DTSTAMP:20260422T043234
CREATED:20220615T100639Z
LAST-MODIFIED:20220801T150432Z
UID:26975-1659949200-1659970800@ioamomontecampione.it
SUMMARY:Escursione Botanica nei Boschi di Montecampione con l’esperto Marco Biolo
DESCRIPTION:Ore 9.15: ritrovo presso l’Aperibar Il Faro (Piazza della Biglietteria della partenza degli impianti di 1200) \nOre 9.30: partenza per il bosco per conoscere e raccogliere le erbe. \nOre 12.00: rientro presso la Pizzeria Valgrande \nOre 12.30: pranzo facoltativo a prezzo convenzionato (euro 15.00) con prenotazione obbligatoria entro le ore 9.30 del medesimo giorno allo 0364 560515. \nOre 14.00: controllo delle erbe raccolte a cura dell’Ispettore Botanico Marco Biolo dell’ATS di Brescia
URL:https://ioamomontecampione.it/event/escursione-botanica-nei-boschi-di-montecampione-con-lesperto-marco-biolo/
LOCATION:Faro di Montecampione\, Via Legazzuolo di Montecampione\, Artogne\, 25040\, Italia
ORGANIZER;CN="Consorzio Montecampione":MAILTO:info@consorziomontecampione.it
END:VEVENT
BEGIN:VEVENT
DTSTART;TZID=Europe/San_Marino:20220605T090000
DTEND;TZID=Europe/San_Marino:20220605T150000
DTSTAMP:20260422T043234
CREATED:20220501T081711Z
LAST-MODIFIED:20220615T100623Z
UID:26481-1654419600-1654441200@ioamomontecampione.it
SUMMARY:Escursione Botanica nei Boschi di Montecampione con l'esperto Marco Biolo
DESCRIPTION:Non serve prenotare la gita\, basta presentarsi puntuali!!!\nIl pranzo può essere confermato anche agli organizzatori al momento dell’arrivo;\nè comunque consigliato chiamare lo 0364560515.
URL:https://ioamomontecampione.it/event/escursione-botanica-nei-boschi-di-montecampione-con-il-biologo-marco-biolo/
LOCATION:Faro di Montecampione\, Via Legazzuolo di Montecampione\, Artogne\, 25040\, Italia
ORGANIZER;CN="Consorzio Montecampione":MAILTO:info@consorziomontecampione.it
END:VEVENT
END:VCALENDAR