BEGIN:VCALENDAR
VERSION:2.0
PRODID:-//I ♥ MONTECAMPIONE - ECPv6.15.20//NONSGML v1.0//EN
CALSCALE:GREGORIAN
METHOD:PUBLISH
X-WR-CALNAME:I ♥ MONTECAMPIONE
X-ORIGINAL-URL:https://ioamomontecampione.it
X-WR-CALDESC:Eventi per I ♥ MONTECAMPIONE
REFRESH-INTERVAL;VALUE=DURATION:PT1H
X-Robots-Tag:noindex
X-PUBLISHED-TTL:PT1H
BEGIN:VTIMEZONE
TZID:Europe/San_Marino
BEGIN:DAYLIGHT
TZOFFSETFROM:+0100
TZOFFSETTO:+0200
TZNAME:CEST
DTSTART:20180325T010000
END:DAYLIGHT
BEGIN:STANDARD
TZOFFSETFROM:+0200
TZOFFSETTO:+0100
TZNAME:CET
DTSTART:20181028T010000
END:STANDARD
BEGIN:DAYLIGHT
TZOFFSETFROM:+0100
TZOFFSETTO:+0200
TZNAME:CEST
DTSTART:20190331T010000
END:DAYLIGHT
BEGIN:STANDARD
TZOFFSETFROM:+0200
TZOFFSETTO:+0100
TZNAME:CET
DTSTART:20191027T010000
END:STANDARD
BEGIN:DAYLIGHT
TZOFFSETFROM:+0100
TZOFFSETTO:+0200
TZNAME:CEST
DTSTART:20200329T010000
END:DAYLIGHT
BEGIN:STANDARD
TZOFFSETFROM:+0200
TZOFFSETTO:+0100
TZNAME:CET
DTSTART:20201025T010000
END:STANDARD
BEGIN:DAYLIGHT
TZOFFSETFROM:+0100
TZOFFSETTO:+0200
TZNAME:CEST
DTSTART:20210328T010000
END:DAYLIGHT
BEGIN:STANDARD
TZOFFSETFROM:+0200
TZOFFSETTO:+0100
TZNAME:CET
DTSTART:20211031T010000
END:STANDARD
END:VTIMEZONE
BEGIN:VEVENT
DTSTART;TZID=Europe/San_Marino:20200103T211500
DTEND;TZID=Europe/San_Marino:20200103T230000
DTSTAMP:20260422T131452
CREATED:20191219T162452Z
LAST-MODIFIED:20191219T162452Z
UID:15252-1578086100-1578092400@ioamomontecampione.it
SUMMARY:Il primo Natale al Cinema di Montecampione
DESCRIPTION:
URL:https://ioamomontecampione.it/event/il-primo-natale-al-cinema-di-montecampione/
LOCATION:Cinema di Montecampione\, Via Pradosole di Montecampione 36\, Artogne\, 25040\, Italia
ORGANIZER;CN="Consorzio Montecampione":MAILTO:info@consorziomontecampione.it
END:VEVENT
BEGIN:VEVENT
DTSTART;TZID=Europe/San_Marino:20191230T211500
DTEND;TZID=Europe/San_Marino:20191230T230000
DTSTAMP:20260422T131452
CREATED:20191219T162621Z
LAST-MODIFIED:20191219T162621Z
UID:15254-1577740500-1577746800@ioamomontecampione.it
SUMMARY:Il primo Natale al Cinema di Montecampione
DESCRIPTION:
URL:https://ioamomontecampione.it/event/il-primo-natale-al-cinema-di-montecampione-2/
LOCATION:Cinema di Montecampione\, Via Pradosole di Montecampione 36\, Artogne\, 25040\, Italia
ORGANIZER;CN="Consorzio Montecampione":MAILTO:info@consorziomontecampione.it
END:VEVENT
BEGIN:VEVENT
DTSTART;TZID=Europe/San_Marino:20191229T173000
DTEND;TZID=Europe/San_Marino:20191229T193000
DTSTAMP:20260422T131452
CREATED:20191219T162742Z
LAST-MODIFIED:20191219T162742Z
UID:15256-1577640600-1577647800@ioamomontecampione.it
SUMMARY:Il primo Natale al Cinema di Montecampione
DESCRIPTION:
URL:https://ioamomontecampione.it/event/il-primo-natale-al-cinema-di-montecampione-3/
LOCATION:Cinema di Montecampione\, Via Pradosole di Montecampione 36\, Artogne\, 25040\, Italia
ORGANIZER;CN="Consorzio Montecampione":MAILTO:info@consorziomontecampione.it
END:VEVENT
BEGIN:VEVENT
DTSTART;TZID=Europe/San_Marino:20191226T211500
DTEND;TZID=Europe/San_Marino:20191226T230000
DTSTAMP:20260422T131452
CREATED:20191219T163044Z
LAST-MODIFIED:20191219T163044Z
UID:15260-1577394900-1577401200@ioamomontecampione.it
SUMMARY:Il primo Natale al Cinema di Montecampione
DESCRIPTION:
URL:https://ioamomontecampione.it/event/il-primo-natale-al-cinema-di-montecampione-5/
LOCATION:Cinema di Montecampione\, Via Pradosole di Montecampione 36\, Artogne\, 25040\, Italia
ORGANIZER;CN="Consorzio Montecampione":MAILTO:info@consorziomontecampione.it
END:VEVENT
BEGIN:VEVENT
DTSTART;TZID=Europe/San_Marino:20191225T211500
DTEND;TZID=Europe/San_Marino:20191225T230000
DTSTAMP:20260422T131452
CREATED:20191219T162941Z
LAST-MODIFIED:20191219T162941Z
UID:15258-1577308500-1577314800@ioamomontecampione.it
SUMMARY:Il primo Natale al Cinema di Montecampione
DESCRIPTION:
URL:https://ioamomontecampione.it/event/il-primo-natale-al-cinema-di-montecampione-4/
LOCATION:Cinema di Montecampione\, Via Pradosole di Montecampione 36\, Artogne\, 25040\, Italia
ORGANIZER;CN="Consorzio Montecampione":MAILTO:info@consorziomontecampione.it
END:VEVENT
END:VCALENDAR