BEGIN:VCALENDAR
VERSION:2.0
PRODID:-//I ♥ MONTECAMPIONE - ECPv6.15.20//NONSGML v1.0//EN
CALSCALE:GREGORIAN
METHOD:PUBLISH
X-WR-CALNAME:I ♥ MONTECAMPIONE
X-ORIGINAL-URL:https://ioamomontecampione.it
X-WR-CALDESC:Eventi per I ♥ MONTECAMPIONE
REFRESH-INTERVAL;VALUE=DURATION:PT1H
X-Robots-Tag:noindex
X-PUBLISHED-TTL:PT1H
BEGIN:VTIMEZONE
TZID:Europe/Rome
BEGIN:DAYLIGHT
TZOFFSETFROM:+0100
TZOFFSETTO:+0200
TZNAME:CEST
DTSTART:20170326T010000
END:DAYLIGHT
BEGIN:STANDARD
TZOFFSETFROM:+0200
TZOFFSETTO:+0100
TZNAME:CET
DTSTART:20171029T010000
END:STANDARD
BEGIN:DAYLIGHT
TZOFFSETFROM:+0100
TZOFFSETTO:+0200
TZNAME:CEST
DTSTART:20180325T010000
END:DAYLIGHT
BEGIN:STANDARD
TZOFFSETFROM:+0200
TZOFFSETTO:+0100
TZNAME:CET
DTSTART:20181028T010000
END:STANDARD
BEGIN:DAYLIGHT
TZOFFSETFROM:+0100
TZOFFSETTO:+0200
TZNAME:CEST
DTSTART:20190331T010000
END:DAYLIGHT
BEGIN:STANDARD
TZOFFSETFROM:+0200
TZOFFSETTO:+0100
TZNAME:CET
DTSTART:20191027T010000
END:STANDARD
END:VTIMEZONE
BEGIN:VEVENT
DTSTART;TZID=Europe/Rome:20180715T120000
DTEND;TZID=Europe/Rome:20180715T220000
DTSTAMP:20260422T102543
CREATED:20180629T095923Z
LAST-MODIFIED:20180629T095923Z
UID:2876-1531656000-1531692000@ioamomontecampione.it
SUMMARY:SAGRA ENOGASTRONOMICA a pranzo o a cena\, in 6 ristoranti di Montecampione!
DESCRIPTION:
URL:https://ioamomontecampione.it/event/sagra-enogastronomica-a-pranzo-o-a-cena-in-6-ristoranti-di-montecampione-2/
LOCATION:Consorzio Montecampione\, Via Panoramica di Montecampione 61\, Pian Camuno\, 25050\, Italia
ORGANIZER;CN="Baita dello Sciatore Secondino":MAILTO:robertopeluchetti@virgilio.it
END:VEVENT
BEGIN:VEVENT
DTSTART;TZID=Europe/Rome:20180714T120000
DTEND;TZID=Europe/Rome:20180714T220000
DTSTAMP:20260422T102543
CREATED:20180629T095625Z
LAST-MODIFIED:20180629T095625Z
UID:2869-1531569600-1531605600@ioamomontecampione.it
SUMMARY:SAGRA ENOGASTRONOMICA a pranzo o a cena\, in 6 ristoranti di Montecampione!
DESCRIPTION:
URL:https://ioamomontecampione.it/event/sagra-enogastronomica-a-pranzo-o-a-cena-in-6-ristoranti-di-montecampione/
LOCATION:Consorzio Montecampione\, Via Panoramica di Montecampione 61\, Pian Camuno\, 25050\, Italia
ORGANIZER;CN="Rifugio Al Bait":MAILTO:rifugioilbait@libero.it
END:VEVENT
END:VCALENDAR