BEGIN:VCALENDAR
VERSION:2.0
PRODID:-//I ♥ MONTECAMPIONE - ECPv6.15.20//NONSGML v1.0//EN
CALSCALE:GREGORIAN
METHOD:PUBLISH
X-ORIGINAL-URL:https://ioamomontecampione.it
X-WR-CALDESC:Eventi per I ♥ MONTECAMPIONE
REFRESH-INTERVAL;VALUE=DURATION:PT1H
X-Robots-Tag:noindex
X-PUBLISHED-TTL:PT1H
BEGIN:VTIMEZONE
TZID:Europe/San_Marino
BEGIN:DAYLIGHT
TZOFFSETFROM:+0100
TZOFFSETTO:+0200
TZNAME:CEST
DTSTART:20180325T010000
END:DAYLIGHT
BEGIN:STANDARD
TZOFFSETFROM:+0200
TZOFFSETTO:+0100
TZNAME:CET
DTSTART:20181028T010000
END:STANDARD
BEGIN:DAYLIGHT
TZOFFSETFROM:+0100
TZOFFSETTO:+0200
TZNAME:CEST
DTSTART:20190331T010000
END:DAYLIGHT
BEGIN:STANDARD
TZOFFSETFROM:+0200
TZOFFSETTO:+0100
TZNAME:CET
DTSTART:20191027T010000
END:STANDARD
BEGIN:DAYLIGHT
TZOFFSETFROM:+0100
TZOFFSETTO:+0200
TZNAME:CEST
DTSTART:20200329T010000
END:DAYLIGHT
BEGIN:STANDARD
TZOFFSETFROM:+0200
TZOFFSETTO:+0100
TZNAME:CET
DTSTART:20201025T010000
END:STANDARD
BEGIN:DAYLIGHT
TZOFFSETFROM:+0100
TZOFFSETTO:+0200
TZNAME:CEST
DTSTART:20210328T010000
END:DAYLIGHT
BEGIN:STANDARD
TZOFFSETFROM:+0200
TZOFFSETTO:+0100
TZNAME:CET
DTSTART:20211031T010000
END:STANDARD
END:VTIMEZONE
BEGIN:VTIMEZONE
TZID:Europe/Rome
BEGIN:DAYLIGHT
TZOFFSETFROM:+0100
TZOFFSETTO:+0200
TZNAME:CEST
DTSTART:20170326T010000
END:DAYLIGHT
BEGIN:STANDARD
TZOFFSETFROM:+0200
TZOFFSETTO:+0100
TZNAME:CET
DTSTART:20171029T010000
END:STANDARD
BEGIN:DAYLIGHT
TZOFFSETFROM:+0100
TZOFFSETTO:+0200
TZNAME:CEST
DTSTART:20180325T010000
END:DAYLIGHT
BEGIN:STANDARD
TZOFFSETFROM:+0200
TZOFFSETTO:+0100
TZNAME:CET
DTSTART:20181028T010000
END:STANDARD
BEGIN:DAYLIGHT
TZOFFSETFROM:+0100
TZOFFSETTO:+0200
TZNAME:CEST
DTSTART:20190331T010000
END:DAYLIGHT
BEGIN:STANDARD
TZOFFSETFROM:+0200
TZOFFSETTO:+0100
TZNAME:CET
DTSTART:20191027T010000
END:STANDARD
END:VTIMEZONE
BEGIN:VEVENT
DTSTART;TZID=Europe/San_Marino:20200624T080000
DTEND;TZID=Europe/San_Marino:20200624T170000
DTSTAMP:20260424T205022
CREATED:20200312T094612Z
LAST-MODIFIED:20200312T094747Z
UID:16249-1592985600-1593018000@ioamomontecampione.it
SUMMARY:C.A.I. Darfo organizza la gita "SENTIERO DEI FIORI DEL MUFFETTO (m. 2060)" dal Plan di Montecampione
DESCRIPTION:Difficoltà: E = Sentiero Escursionistico\nPartenza: Plan di M.te Campione (m. 1700)\nAccompagnatori: Gino P. 347 508 1396 – Carlo R. 333 580 6391
URL:https://ioamomontecampione.it/event/c-a-i-darfo-organizza-la-gita-sentiero-dei-fiori-del-muffetto-m-2060-dal-plan-di-montecampione/
LOCATION:Plan di Montecampione\, Via Plan di Montecampione\, Artogne\, 25040\, Italia
ORGANIZER;CN="CAI Darfo":MAILTO:caidarfo@gmail.com
END:VEVENT
BEGIN:VEVENT
DTSTART;TZID=Europe/San_Marino:20190812T083000
DTEND;TZID=Europe/San_Marino:20190812T173000
DTSTAMP:20260424T205022
CREATED:20190709T141853Z
LAST-MODIFIED:20190709T141853Z
UID:12551-1565598600-1565631000@ioamomontecampione.it
SUMMARY:A Montecampione\, Stage di Arrampicata Sportiva con le Guide Alpine
DESCRIPTION:
URL:https://ioamomontecampione.it/event/a-montecampione-stage-di-arrampicata-sportiva-con-le-guide-alpine-6/
LOCATION:Consorzio Montecampione\, Via Panoramica di Montecampione 61\, Pian Camuno\, 25050\, Italia
ORGANIZER;CN="VerticalMonte":MAILTO:info@consorziomontecampione.it
END:VEVENT
BEGIN:VEVENT
DTSTART;TZID=Europe/San_Marino:20190806T083000
DTEND;TZID=Europe/San_Marino:20190806T173000
DTSTAMP:20260424T205022
CREATED:20190709T141758Z
LAST-MODIFIED:20190709T141758Z
UID:12549-1565080200-1565112600@ioamomontecampione.it
SUMMARY:A Montecampione\, Stage di Arrampicata Sportiva con le Guide Alpine
DESCRIPTION:
URL:https://ioamomontecampione.it/event/a-montecampione-stage-di-arrampicata-sportiva-con-le-guide-alpine-5/
LOCATION:Consorzio Montecampione\, Via Panoramica di Montecampione 61\, Pian Camuno\, 25050\, Italia
ORGANIZER;CN="VerticalMonte":MAILTO:info@consorziomontecampione.it
END:VEVENT
BEGIN:VEVENT
DTSTART;TZID=Europe/San_Marino:20190728T083000
DTEND;TZID=Europe/San_Marino:20190728T173000
DTSTAMP:20260424T205022
CREATED:20190709T141620Z
LAST-MODIFIED:20190709T141620Z
UID:12547-1564302600-1564335000@ioamomontecampione.it
SUMMARY:A Montecampione\, Stage di Arrampicata Sportiva con le Guide Alpine
DESCRIPTION:
URL:https://ioamomontecampione.it/event/a-montecampione-stage-di-arrampicata-sportiva-con-le-guide-alpine-4/
LOCATION:Consorzio Montecampione\, Via Panoramica di Montecampione 61\, Pian Camuno\, 25050\, Italia
ORGANIZER;CN="VerticalMonte":MAILTO:info@consorziomontecampione.it
END:VEVENT
BEGIN:VEVENT
DTSTART;TZID=Europe/San_Marino:20190516T083000
DTEND;TZID=Europe/San_Marino:20190516T163000
DTSTAMP:20260424T205022
CREATED:20190510T134418Z
LAST-MODIFIED:20190510T134418Z
UID:11659-1557995400-1558024200@ioamomontecampione.it
SUMMARY:A spasso per Boschi con Bettino – Gita n°2: Camminata sul Muffetto con pic-nic al Lago Rondeneto!
DESCRIPTION:Un giorno alla settimana fino a metà giugno una bella gita in compagnia!
URL:https://ioamomontecampione.it/event/a-spasso-per-boschi-con-bettino-gita-n2-camminata-sul-muffetto-con-pic-nic-al-lago-rondeneto/
LOCATION:Le Baite 1800\, Via Plan di Montecampione (4\,94 km)\, Artogne\, 25040\, Italia
ORGANIZER;CN="Ristorante Pizzeria Valgrande":MAILTO:pizzeriavalgrande.it@icloud.com
END:VEVENT
BEGIN:VEVENT
DTSTART;TZID=Europe/Rome:20180825T080000
DTEND;TZID=Europe/Rome:20180825T180000
DTSTAMP:20260424T205022
CREATED:20180702T112928Z
LAST-MODIFIED:20180702T113031Z
UID:3034-1535184000-1535220000@ioamomontecampione.it
SUMMARY:A Montecampione\, Stage di Arrampicata Sportiva con le Guide Alpine
DESCRIPTION:Informazioni\, date ed orari\, sulla locandina:
URL:https://ioamomontecampione.it/event/a-montecampione-stage-di-arrampicata-sportiva-con-le-guide-alpine-3/
LOCATION:Consorzio Montecampione\, Via Panoramica di Montecampione 61\, Pian Camuno\, 25050\, Italia
ORGANIZER;CN="VerticalMonte":MAILTO:info@consorziomontecampione.it
END:VEVENT
BEGIN:VEVENT
DTSTART;TZID=Europe/Rome:20180819T080000
DTEND;TZID=Europe/Rome:20180819T180000
DTSTAMP:20260424T205022
CREATED:20180702T112730Z
LAST-MODIFIED:20180702T112952Z
UID:3032-1534665600-1534701600@ioamomontecampione.it
SUMMARY:A Montecampione\, Stage di Arrampicata Sportiva con le Guide Alpine
DESCRIPTION:Informazioni\, date ed orari\, sulla locandina:
URL:https://ioamomontecampione.it/event/a-montecampione-stage-di-arrampicata-sportiva-con-le-guide-alpine-2/
LOCATION:Consorzio Montecampione\, Via Panoramica di Montecampione 61\, Pian Camuno\, 25050\, Italia
ORGANIZER;CN="VerticalMonte":MAILTO:info@consorziomontecampione.it
END:VEVENT
BEGIN:VEVENT
DTSTART;TZID=Europe/Rome:20180804T080000
DTEND;TZID=Europe/Rome:20180804T180000
DTSTAMP:20260424T205022
CREATED:20180702T111935Z
LAST-MODIFIED:20180702T112203Z
UID:3028-1533369600-1533405600@ioamomontecampione.it
SUMMARY:A Montecampione\, Stage di Arrampicata Sportiva con le Guide Alpine
DESCRIPTION:Informazioni\, date ed orari\, sulla locandina:
URL:https://ioamomontecampione.it/event/a-montecampione-stage-di-arrampicata-sportiva-con-le-guide-alpine/
LOCATION:Consorzio Montecampione\, Via Panoramica di Montecampione 61\, Pian Camuno\, 25050\, Italia
ORGANIZER;CN="VerticalMonte":MAILTO:info@consorziomontecampione.it
END:VEVENT
END:VCALENDAR