BEGIN:VCALENDAR
VERSION:2.0
PRODID:-//I ♥ MONTECAMPIONE - ECPv6.15.20//NONSGML v1.0//EN
CALSCALE:GREGORIAN
METHOD:PUBLISH
X-WR-CALNAME:I ♥ MONTECAMPIONE
X-ORIGINAL-URL:https://ioamomontecampione.it
X-WR-CALDESC:Eventi per I ♥ MONTECAMPIONE
REFRESH-INTERVAL;VALUE=DURATION:PT1H
X-Robots-Tag:noindex
X-PUBLISHED-TTL:PT1H
BEGIN:VTIMEZONE
TZID:Europe/San_Marino
BEGIN:DAYLIGHT
TZOFFSETFROM:+0100
TZOFFSETTO:+0200
TZNAME:CEST
DTSTART:20200329T010000
END:DAYLIGHT
BEGIN:STANDARD
TZOFFSETFROM:+0200
TZOFFSETTO:+0100
TZNAME:CET
DTSTART:20201025T010000
END:STANDARD
BEGIN:DAYLIGHT
TZOFFSETFROM:+0100
TZOFFSETTO:+0200
TZNAME:CEST
DTSTART:20210328T010000
END:DAYLIGHT
BEGIN:STANDARD
TZOFFSETFROM:+0200
TZOFFSETTO:+0100
TZNAME:CET
DTSTART:20211031T010000
END:STANDARD
BEGIN:DAYLIGHT
TZOFFSETFROM:+0100
TZOFFSETTO:+0200
TZNAME:CEST
DTSTART:20220327T010000
END:DAYLIGHT
BEGIN:STANDARD
TZOFFSETFROM:+0200
TZOFFSETTO:+0100
TZNAME:CET
DTSTART:20221030T010000
END:STANDARD
BEGIN:DAYLIGHT
TZOFFSETFROM:+0100
TZOFFSETTO:+0200
TZNAME:CEST
DTSTART:20230326T010000
END:DAYLIGHT
BEGIN:STANDARD
TZOFFSETFROM:+0200
TZOFFSETTO:+0100
TZNAME:CET
DTSTART:20231029T010000
END:STANDARD
END:VTIMEZONE
BEGIN:VEVENT
DTSTART;TZID=Europe/San_Marino:20220716T190000
DTEND;TZID=Europe/San_Marino:20220716T233000
DTSTAMP:20260422T044005
CREATED:20220711T180008Z
LAST-MODIFIED:20220711T180008Z
UID:27183-1657998000-1658014200@ioamomontecampione.it
SUMMARY:Al Bait di Montecampione si esibiscono gli Euro Zero!
DESCRIPTION:
URL:https://ioamomontecampione.it/event/al-bait-di-montecampione-si-esibiscono-gli-euro-zero-3/
LOCATION:Rifugio Al Bait\, Via Plan di Montecampione 86\, Artogne\, 25040\, Italia
ORGANIZER;CN="Rifugio Al Bait":MAILTO:rifugioilbait@libero.it
END:VEVENT
BEGIN:VEVENT
DTSTART;TZID=Europe/San_Marino:20220716T170000
DTEND;TZID=Europe/San_Marino:20220716T193000
DTSTAMP:20260422T044005
CREATED:20220711T175606Z
LAST-MODIFIED:20220711T175606Z
UID:27180-1657990800-1657999800@ioamomontecampione.it
SUMMARY:A Montecampione il Concerto Banda Musicale della Marina Militare
DESCRIPTION:
URL:https://ioamomontecampione.it/event/a-montecampione-il-concerto-banda-musicale-della-marina-militare-2/
LOCATION:Piazzetta di Montecampione\, Via Pradosole di Montecampione 50\, Artogne\, 25040\, Italia
ORGANIZER;CN="Consorzio Montecampione":MAILTO:info@consorziomontecampione.it
END:VEVENT
BEGIN:VEVENT
DTSTART;TZID=Europe/San_Marino:20220715T190000
DTEND;TZID=Europe/San_Marino:20220717T200000
DTSTAMP:20260422T044005
CREATED:20220713T101433Z
LAST-MODIFIED:20220713T101520Z
UID:27277-1657911600-1658088000@ioamomontecampione.it
SUMMARY:4a Festa di Bassinale al Plan di Montecampione
DESCRIPTION:
URL:https://ioamomontecampione.it/event/4a-festa-di-bassinale-al-plan-di-montecampione/
LOCATION:Le Baite 1800\, Via Plan di Montecampione (4\,94 km)\, Artogne\, 25040\, Italia
END:VEVENT
BEGIN:VEVENT
DTSTART;TZID=Europe/San_Marino:20220702T080000
DTEND;TZID=Europe/San_Marino:20220702T170000
DTSTAMP:20260422T044005
CREATED:20220622T080838Z
LAST-MODIFIED:20220622T100033Z
UID:27005-1656748800-1656781200@ioamomontecampione.it
SUMMARY:Riapre il Centro Tennis Ai Prati di Montecampione
DESCRIPTION:
URL:https://ioamomontecampione.it/event/dal-2-luglio-riapre-il-centro-tennis-ai-prati-di-montecampione/
LOCATION:Tennis Ai Prati\, Via Legazzuolo di Montecampione\, Artogne\, 25040\, Italia
END:VEVENT
BEGIN:VEVENT
DTSTART;TZID=Europe/San_Marino:20220626T100000
DTEND;TZID=Europe/San_Marino:20220626T143000
DTSTAMP:20260422T044005
CREATED:20220623T072248Z
LAST-MODIFIED:20220623T072248Z
UID:27030-1656237600-1656253800@ioamomontecampione.it
SUMMARY:Aperitivo in quota presso il Rifugio Elena Tironi Rosello di Sopra con degustazione vino della Cantina Agricola Valle Camonica
DESCRIPTION:
URL:https://ioamomontecampione.it/event/aperitivo-in-quota-presso-il-rifugio-elena-tironi-rosello-di-sopra-con-degustazione-vino-della-cantina-agricola-valle-camonica-2/
LOCATION:Rifugio Elena Tironi Rosello di Sopra\, Località Valgrigna\, Esine\, 25040\, Italia
END:VEVENT
BEGIN:VEVENT
DTSTART;TZID=Europe/San_Marino:20220106T150000
DTEND;TZID=Europe/San_Marino:20220106T173000
DTSTAMP:20260422T044005
CREATED:20211223T161559Z
LAST-MODIFIED:20211223T161652Z
UID:24761-1641481200-1641490200@ioamomontecampione.it
SUMMARY:Consorzio Montecampione – Assemblea del Consorzio Montecampione presso il Cinema
DESCRIPTION:Giovedì 6 gennaio\, ore 15.00 presso la Sala Cinema in Piazzetta\, si svolgerà l’Assemblea Ordinaria del Consorzio. In ottemperanza alle disposizioni atte al contenimento della diffusione del COVID-19\, l’accesso alla sala sarà contingentato\, ridotto nei posti disponibili e permesso ai consorziati ed autorità invitate in possesso di una delle seguenti certificazioni (c.d. greenpass): \na) certificazione verde COVID-19 per avvenuto ciclo vaccinale; \nb) certificazione verde per le persone guarite dal COVID-19 (validità sei mesi dall’avvenuta guarigione);\n \nc) certificazione verde COVID-19 per test antigenico rapido o molecolare con esito negativo al virus SARS-CoV-2 (validità 48 ore dall’esecuzione del test). \nPer partecipare è necessario prenotare il posto entro le 10.00 del giorno 06/01/22 via mail (info@consorziomontecampione.it) o whatsapp (n° 3500101685); sarà nostra cura inviare il codice della poltroncina assegnata. Poichè i posti sono ridotti\, potranno accedere alla sala  i consorziati nella misura di non più di uno per ogni unità immobiliare posseduta. \nLa riunione sarà disponibile sul canale Facebook ‘Io vado a Montecampione’ e ‘Consorzio Montecampione’. \nUfficio Stampa del Consorzio Montecampione \nvia Panoramica 61 – 25050 Pian Camuno (BS)\ntel. 0364/560188 – fax 560948\nweb: www.consorziomontecampione.it\nmail: ufficiostampa@consorziomontecampione.it
URL:https://ioamomontecampione.it/event/consorzio-montecampione-assemblea-del-consorzio-montecampione-presso-il-cinema-2/
LOCATION:Cinema di Montecampione\, Via Pradosole di Montecampione 36\, Artogne\, 25040\, Italia
ORGANIZER;CN="Consorzio Montecampione":MAILTO:info@consorziomontecampione.it
END:VEVENT
BEGIN:VEVENT
DTSTART;TZID=Europe/San_Marino:20220104T120000
DTEND;TZID=Europe/San_Marino:20220104T143000
DTSTAMP:20260422T044005
CREATED:20211226T082508Z
LAST-MODIFIED:20211226T082508Z
UID:24791-1641297600-1641306600@ioamomontecampione.it
SUMMARY:Fritto Misto al Ristorante Il Boccone di Montecampione
DESCRIPTION:
URL:https://ioamomontecampione.it/event/fritto-misto-al-ristorante-il-boccone-di-montecampione/
LOCATION:Ristorante Il Boccone\, Via Plan di Montecampione 24\, Artogne\, 25040\, Italia
ORGANIZER;CN="Ristorante Il Boccone":MAILTO:lauradefranceschi@libero.it
END:VEVENT
BEGIN:VEVENT
DTSTART;TZID=Europe/San_Marino:20211231T193000
DTEND;TZID=Europe/San_Marino:20220101T030000
DTSTAMP:20260422T044005
CREATED:20211210T083301Z
LAST-MODIFIED:20211210T083425Z
UID:24497-1640979000-1641006000@ioamomontecampione.it
SUMMARY:Cenone di Capodanno 2022 alla Pizzeria Valgrande
DESCRIPTION:
URL:https://ioamomontecampione.it/event/cenone-di-capodanno-2022-alla-pizzeria-valgrande/
LOCATION:Ristorante Pizzeria Valgrande\, Via Plan di Montecampione 58\, Artogne\, 25040\, Italia
ORGANIZER;CN="Ristorante Pizzeria Valgrande":MAILTO:pizzeriavalgrande.it@icloud.com
END:VEVENT
BEGIN:VEVENT
DTSTART;TZID=Europe/San_Marino:20211228T200000
DTEND;TZID=Europe/San_Marino:20211228T233000
DTSTAMP:20260422T044005
CREATED:20211226T082029Z
LAST-MODIFIED:20211226T082705Z
UID:24788-1640721600-1640734200@ioamomontecampione.it
SUMMARY:Paella con Sangria al Ristorante Boccone di Montecampione!
DESCRIPTION: 
URL:https://ioamomontecampione.it/event/paella-con-sangria-al-ristorante-boccone-di-montecampione/
LOCATION:Ristorante Il Boccone\, Via Plan di Montecampione 24\, Artogne\, 25040\, Italia
ORGANIZER;CN="Ristorante Il Boccone":MAILTO:lauradefranceschi@libero.it
END:VEVENT
BEGIN:VEVENT
DTSTART;TZID=Europe/San_Marino:20211225T120000
DTEND;TZID=Europe/San_Marino:20211225T153000
DTSTAMP:20260422T044005
CREATED:20211217T112351Z
LAST-MODIFIED:20211217T112351Z
UID:24656-1640433600-1640446200@ioamomontecampione.it
SUMMARY:Pranzo di Natale 2021 alla Pizzeria Valgrande di Montecampione
DESCRIPTION:
URL:https://ioamomontecampione.it/event/pranzo-di-natale-2021-alla-pizzeria-valgrande-di-montecampione/
LOCATION:Ristorante Pizzeria Valgrande\, Via Plan di Montecampione 58\, Artogne\, 25040\, Italia
ORGANIZER;CN="Ristorante Pizzeria Valgrande":MAILTO:pizzeriavalgrande.it@icloud.com
END:VEVENT
BEGIN:VEVENT
DTSTART;TZID=Europe/San_Marino:20211113T123000
DTEND;TZID=Europe/San_Marino:20211114T153000
DTSTAMP:20260422T044005
CREATED:20211026T184356Z
LAST-MODIFIED:20211026T184356Z
UID:21926-1636806600-1636903800@ioamomontecampione.it
SUMMARY:Spiedo "weekend" alla Pizzeria Valgrande
DESCRIPTION:
URL:https://ioamomontecampione.it/event/spiedo-weekend-alla-pizzeria-valgrande/
LOCATION:Ristorante Pizzeria Valgrande\, Via Plan di Montecampione 58\, Artogne\, 25040\, Italia
ORGANIZER;CN="Ristorante Pizzeria Valgrande":MAILTO:pizzeriavalgrande.it@icloud.com
END:VEVENT
BEGIN:VEVENT
DTSTART;TZID=Europe/San_Marino:20211113T120000
DTEND;TZID=Europe/San_Marino:20211114T220000
DTSTAMP:20260422T044005
CREATED:20211102T083154Z
LAST-MODIFIED:20211102T103038Z
UID:22128-1636804800-1636927200@ioamomontecampione.it
SUMMARY:Bier Fest presso il Ristorante Il Boccone di Montecampione
DESCRIPTION:
URL:https://ioamomontecampione.it/event/bier-fest-presso-il-ristorante-il-boccone-di-montecampione/
LOCATION:Ristorante Il Boccone\, Via Plan di Montecampione 24\, Artogne\, 25040\, Italia
ORGANIZER;CN="Ristorante Il Boccone":MAILTO:lauradefranceschi@libero.it
END:VEVENT
BEGIN:VEVENT
DTSTART;TZID=Europe/San_Marino:20211030T150000
DTEND;TZID=Europe/San_Marino:20211030T170000
DTSTAMP:20260422T044005
CREATED:20211018T064712Z
LAST-MODIFIED:20211018T064712Z
UID:21710-1635606000-1635613200@ioamomontecampione.it
SUMMARY:Tradizionale Castagnata in Valgrande a Montecampione
DESCRIPTION:
URL:https://ioamomontecampione.it/event/tradizionale-castagnata-in-valgrande-a-montecampione-3/
LOCATION:Market Valgrande\, Via Plan di Montecampione 72\, Artogne\, 25040\, Italia
END:VEVENT
BEGIN:VEVENT
DTSTART;TZID=Europe/San_Marino:20211008T091500
DTEND;TZID=Europe/San_Marino:20211008T170000
DTSTAMP:20260422T044005
CREATED:20211004T151604Z
LAST-MODIFIED:20211004T151604Z
UID:21346-1633684500-1633712400@ioamomontecampione.it
SUMMARY:Uscita nel bosco con gli amici dei “funghi di Kira” per la raccolta con possibilità di sottoporli poi al controllo dell’ATS!
DESCRIPTION:Grazie al Consorzio Montecampione\, sarà possibile:\n– uscire nel bosco per funghi con gli “Amici di Kira” con ritrovo alle 9.15 presso la partenza della seggiovia Corniolo\n– pranzare facoltativamente a menù convenzionato a 15 euro presso la Pizzeria Valgrande Montecampione alle 12.40.\n– sottoporre i funghi raccolti all’Ispettore dell’Ats della Regione Lombardia dalle ore 14.00 in Valgrande!\n\n\nN.B. Chi volesse solo pranzare senza effettuare la gita\, chiami entro le ore 10.00 lo 0364560515.\n\n\n\n\n\n 
URL:https://ioamomontecampione.it/event/uscita-nel-bosco-con-gli-amici-dei-funghi-di-kira-per-la-raccolta-con-possibilita-di-sottoporli-poi-al-controllo-dellats/
LOCATION:Residence La Splaza\, Via Legazzuolo di Montecampione\, Artogne\, 25040\, Italia
ORGANIZER;CN="Consorzio Montecampione":MAILTO:info@consorziomontecampione.it
END:VEVENT
BEGIN:VEVENT
DTSTART;TZID=Europe/San_Marino:20210925T091500
DTEND;TZID=Europe/San_Marino:20210925T170000
DTSTAMP:20260422T044005
CREATED:20210915T141943Z
LAST-MODIFIED:20210918T081334Z
UID:20983-1632561300-1632589200@ioamomontecampione.it
SUMMARY:Uscita nel bosco con gli amici dei “funghi di Kira” per la raccolta con possibilità di sottoporli poi al controllo dell’ATS Montagna!
DESCRIPTION:
URL:https://ioamomontecampione.it/event/uscita-nel-bosco-con-gli-amici-dei-funghi-di-kira-per-la-raccolta-con-possibilita-di-sottoporli-poi-al-controllo-dellats-montagna-17/
LOCATION:Residence La Splaza\, Via Legazzuolo di Montecampione\, Artogne\, 25040\, Italia
ORGANIZER;CN="Consorzio Montecampione":MAILTO:info@consorziomontecampione.it
END:VEVENT
BEGIN:VEVENT
DTSTART;TZID=Europe/San_Marino:20210918T193000
DTEND;TZID=Europe/San_Marino:20210918T220000
DTSTAMP:20260422T044005
CREATED:20210910T153107Z
LAST-MODIFIED:20210910T153107Z
UID:20953-1631993400-1632002400@ioamomontecampione.it
SUMMARY:Spiedo presso il Ristorante Pizzeria Valgrande
DESCRIPTION:
URL:https://ioamomontecampione.it/event/spiedo-presso-il-ristorante-pizzeria-valgrande-2/
LOCATION:Ristorante Pizzeria Valgrande\, Via Plan di Montecampione 58\, Artogne\, 25040\, Italia
ORGANIZER;CN="Ristorante Pizzeria Valgrande":MAILTO:pizzeriavalgrande.it@icloud.com
END:VEVENT
BEGIN:VEVENT
DTSTART;TZID=Europe/San_Marino:20210916T080000
DTEND;TZID=Europe/San_Marino:20210916T170000
DTSTAMP:20260422T044005
CREATED:20210908T083701Z
LAST-MODIFIED:20210915T141724Z
UID:20915-1631779200-1631811600@ioamomontecampione.it
SUMMARY:ATTENZIONE: Rinviata a sabato 25 settembre 2021. Uscita nel bosco con gli amici dei “funghi di Kira” per la raccolta con possibilità di sottoporli poi al controllo dell’ATS Montagna!
DESCRIPTION:
URL:https://ioamomontecampione.it/event/uscita-nel-bosco-con-gli-amici-dei-funghi-di-kira-per-la-raccolta-con-possibilita-di-sottoporli-poi-al-controllo-dellats-montagna-16/
LOCATION:Residence La Splaza\, Via Legazzuolo di Montecampione\, Artogne\, 25040\, Italia
ORGANIZER;CN="Consorzio Montecampione":MAILTO:info@consorziomontecampione.it
END:VEVENT
BEGIN:VEVENT
DTSTART;TZID=Europe/San_Marino:20210914T193000
DTEND;TZID=Europe/San_Marino:20210914T220000
DTSTAMP:20260422T044005
CREATED:20210908T083548Z
LAST-MODIFIED:20210908T083548Z
UID:20913-1631647800-1631656800@ioamomontecampione.it
SUMMARY:Pizza Party presso la Pizzeria Valgrande
DESCRIPTION:
URL:https://ioamomontecampione.it/event/pizza-party-presso-la-pizzeria-valgrande-11/
LOCATION:Ristorante Pizzeria Valgrande\, Via Plan di Montecampione 58\, Artogne\, 25040\, Italia
ORGANIZER;CN="Ristorante Pizzeria Valgrande":MAILTO:pizzeriavalgrande.it@icloud.com
END:VEVENT
BEGIN:VEVENT
DTSTART;TZID=Europe/San_Marino:20210912T120000
DTEND;TZID=Europe/San_Marino:20210912T160000
DTSTAMP:20260422T044005
CREATED:20210910T151717Z
LAST-MODIFIED:20210910T151717Z
UID:20949-1631448000-1631462400@ioamomontecampione.it
SUMMARY:Pro Loco Artogne - Artogne storica: Auto d'epoca alla Piazzetta di Montecampione
DESCRIPTION:
URL:https://ioamomontecampione.it/event/pro-loco-artogne-artogne-storica-auto-depoca-alla-piazzetta-di-montecampione/
LOCATION:Piazzetta di Montecampione\, Via Pradosole di Montecampione 50\, Artogne\, 25040\, Italia
ORGANIZER;CN="Pro Loco Artogne":MAILTO:proloco.artogne@outlook.it
END:VEVENT
BEGIN:VEVENT
DTSTART;TZID=Europe/San_Marino:20210909T080000
DTEND;TZID=Europe/San_Marino:20210909T170000
DTSTAMP:20260422T044005
CREATED:20210901T080628Z
LAST-MODIFIED:20210901T080628Z
UID:20763-1631174400-1631206800@ioamomontecampione.it
SUMMARY:Uscita nel bosco con gli amici dei “funghi di Kira” per la raccolta con possibilità di sottoporli poi al controllo dell’ATS Montagna!
DESCRIPTION:
URL:https://ioamomontecampione.it/event/uscita-nel-bosco-con-gli-amici-dei-funghi-di-kira-per-la-raccolta-con-possibilita-di-sottoporli-poi-al-controllo-dellats-montagna-15/
LOCATION:Residence La Splaza\, Via Legazzuolo di Montecampione\, Artogne\, 25040\, Italia
ORGANIZER;CN="Consorzio Montecampione":MAILTO:info@consorziomontecampione.it
END:VEVENT
BEGIN:VEVENT
DTSTART;TZID=Europe/San_Marino:20210907T193000
DTEND;TZID=Europe/San_Marino:20210907T220000
DTSTAMP:20260422T044005
CREATED:20210901T080431Z
LAST-MODIFIED:20210901T080431Z
UID:20761-1631043000-1631052000@ioamomontecampione.it
SUMMARY:Pizza Party presso la Pizzeria Valgrande
DESCRIPTION:
URL:https://ioamomontecampione.it/event/pizza-party-presso-la-pizzeria-valgrande-10/
LOCATION:Ristorante Pizzeria Valgrande\, Via Plan di Montecampione 58\, Artogne\, 25040\, Italia
ORGANIZER;CN="Ristorante Pizzeria Valgrande":MAILTO:pizzeriavalgrande.it@icloud.com
END:VEVENT
BEGIN:VEVENT
DTSTART;TZID=Europe/San_Marino:20210903T193000
DTEND;TZID=Europe/San_Marino:20210903T220000
DTSTAMP:20260422T044005
CREATED:20210828T081801Z
LAST-MODIFIED:20210828T081801Z
UID:20644-1630697400-1630706400@ioamomontecampione.it
SUMMARY:Hamburgati di gusto… presso la Pizzeria Valgrande
DESCRIPTION:
URL:https://ioamomontecampione.it/event/hamburgati-di-gusto-presso-la-pizzeria-valgrande-9/
LOCATION:Ristorante Pizzeria Valgrande\, Via Plan di Montecampione 58\, Artogne\, 25040\, Italia
ORGANIZER;CN="Ristorante Pizzeria Valgrande":MAILTO:pizzeriavalgrande.it@icloud.com
END:VEVENT
BEGIN:VEVENT
DTSTART;TZID=Europe/San_Marino:20210903T080000
DTEND;TZID=Europe/San_Marino:20210905T170000
DTSTAMP:20260422T044005
CREATED:20210903T094744Z
LAST-MODIFIED:20210903T094744Z
UID:20789-1630656000-1630861200@ioamomontecampione.it
SUMMARY:Miele di Vallecamonica a Montecampione in Valgrande
DESCRIPTION:
URL:https://ioamomontecampione.it/event/miele-di-vallecamonica-a-montecampione-in-valgrande-16/
LOCATION:Market Valgrande\, Via Plan di Montecampione 72\, Artogne\, 25040\, Italia
ORGANIZER;CN="Market Valgrande":MAILTO:gigirogno@gmail.com
END:VEVENT
BEGIN:VEVENT
DTSTART;TZID=Europe/San_Marino:20210902T080000
DTEND;TZID=Europe/San_Marino:20210902T170000
DTSTAMP:20260422T044005
CREATED:20210828T081440Z
LAST-MODIFIED:20210828T081440Z
UID:20642-1630569600-1630602000@ioamomontecampione.it
SUMMARY:Uscita nel bosco con gli amici dei “funghi di Kira” per la raccolta con possibilità di sottoporli poi al controllo dell’ATS Montagna!
DESCRIPTION:
URL:https://ioamomontecampione.it/event/uscita-nel-bosco-con-gli-amici-dei-funghi-di-kira-per-la-raccolta-con-possibilita-di-sottoporli-poi-al-controllo-dellats-montagna-14/
LOCATION:Residence La Splaza\, Via Legazzuolo di Montecampione\, Artogne\, 25040\, Italia
ORGANIZER;CN="Consorzio Montecampione":MAILTO:info@consorziomontecampione.it
END:VEVENT
BEGIN:VEVENT
DTSTART;TZID=Europe/San_Marino:20210831T193000
DTEND;TZID=Europe/San_Marino:20210831T220000
DTSTAMP:20260422T044005
CREATED:20210825T084418Z
LAST-MODIFIED:20210825T084418Z
UID:20629-1630438200-1630447200@ioamomontecampione.it
SUMMARY:Pizza Party presso la Pizzeria Valgrande
DESCRIPTION:val
URL:https://ioamomontecampione.it/event/pizza-party-presso-la-pizzeria-valgrande-9/
LOCATION:Ristorante Pizzeria Valgrande\, Via Plan di Montecampione 58\, Artogne\, 25040\, Italia
ORGANIZER;CN="Ristorante Pizzeria Valgrande":MAILTO:pizzeriavalgrande.it@icloud.com
END:VEVENT
BEGIN:VEVENT
DTSTART;TZID=Europe/San_Marino:20210827T193000
DTEND;TZID=Europe/San_Marino:20210827T223000
DTSTAMP:20260422T044005
CREATED:20210821T131349Z
LAST-MODIFIED:20210821T131349Z
UID:20565-1630092600-1630103400@ioamomontecampione.it
SUMMARY:Hamburgati di gusto… presso la Pizzeria Valgrande
DESCRIPTION:
URL:https://ioamomontecampione.it/event/hamburgati-di-gusto-presso-la-pizzeria-valgrande-8/
LOCATION:Ristorante Pizzeria Valgrande\, Via Plan di Montecampione 58\, Artogne\, 25040\, Italia
ORGANIZER;CN="Ristorante Pizzeria Valgrande":MAILTO:pizzeriavalgrande.it@icloud.com
END:VEVENT
BEGIN:VEVENT
DTSTART;TZID=Europe/San_Marino:20210827T080000
DTEND;TZID=Europe/San_Marino:20210829T170000
DTSTAMP:20260422T044005
CREATED:20210820T080637Z
LAST-MODIFIED:20210820T080637Z
UID:20530-1630051200-1630256400@ioamomontecampione.it
SUMMARY:Miele di Vallecamonica a Montecampione in Valgrande
DESCRIPTION:
URL:https://ioamomontecampione.it/event/miele-di-vallecamonica-a-montecampione-in-valgrande-15/
LOCATION:Market Valgrande\, Via Plan di Montecampione 72\, Artogne\, 25040\, Italia
ORGANIZER;CN="Market Valgrande":MAILTO:gigirogno@gmail.com
END:VEVENT
BEGIN:VEVENT
DTSTART;TZID=Europe/San_Marino:20210826T193000
DTEND;TZID=Europe/San_Marino:20210826T220000
DTSTAMP:20260422T044005
CREATED:20210820T081252Z
LAST-MODIFIED:20210820T081252Z
UID:20536-1630006200-1630015200@ioamomontecampione.it
SUMMARY:Al Fiocco di Neve di Montecampione\, Giropizza a volontà!
DESCRIPTION:
URL:https://ioamomontecampione.it/event/al-fiocco-di-neve-di-montecampione-giropizza-a-volonta-23/
LOCATION:Bar Pizzeria Fiocco di Neve\, Via Plan di Montecampione 64\, Artogne\, 25040\, Italia
ORGANIZER;CN="Bar Pizzeria Fiocco di Neve":MAILTO:martafontana@me.com
END:VEVENT
BEGIN:VEVENT
DTSTART;TZID=Europe/San_Marino:20210826T193000
DTEND;TZID=Europe/San_Marino:20210826T220000
DTSTAMP:20260422T044005
CREATED:20210820T081059Z
LAST-MODIFIED:20210820T081059Z
UID:20534-1630006200-1630015200@ioamomontecampione.it
SUMMARY:La Paella del giovedì presso il Ristorante Boccone di Montecampione!
DESCRIPTION:
URL:https://ioamomontecampione.it/event/la-paella-del-giovedi-presso-il-ristorante-boccone-di-montecampione-20/
LOCATION:Ristorante Il Boccone\, Via Plan di Montecampione 24\, Artogne\, 25040\, Italia
ORGANIZER;CN="Ristorante Il Boccone":MAILTO:lauradefranceschi@libero.it
END:VEVENT
BEGIN:VEVENT
DTSTART;TZID=Europe/San_Marino:20210826T091500
DTEND;TZID=Europe/San_Marino:20210826T153000
DTSTAMP:20260422T044005
CREATED:20210820T081514Z
LAST-MODIFIED:20210820T081514Z
UID:20539-1629969300-1629991800@ioamomontecampione.it
SUMMARY:Uscita nel bosco con gli amici dei “funghi di Kira” per la raccolta con possibilità di sottoporli poi al controllo dell’ATS Montagna!
DESCRIPTION:
URL:https://ioamomontecampione.it/event/uscita-nel-bosco-con-gli-amici-dei-funghi-di-kira-per-la-raccolta-con-possibilita-di-sottoporli-poi-al-controllo-dellats-montagna-13/
LOCATION:Residence La Splaza\, Via Legazzuolo di Montecampione\, Artogne\, 25040\, Italia
ORGANIZER;CN="Consorzio Montecampione":MAILTO:info@consorziomontecampione.it
END:VEVENT
END:VCALENDAR