BEGIN:VCALENDAR
VERSION:2.0
PRODID:-//I ♥ MONTECAMPIONE - ECPv6.15.20//NONSGML v1.0//EN
CALSCALE:GREGORIAN
METHOD:PUBLISH
X-ORIGINAL-URL:https://ioamomontecampione.it
X-WR-CALDESC:Eventi per I ♥ MONTECAMPIONE
REFRESH-INTERVAL;VALUE=DURATION:PT1H
X-Robots-Tag:noindex
X-PUBLISHED-TTL:PT1H
BEGIN:VTIMEZONE
TZID:Europe/San_Marino
BEGIN:DAYLIGHT
TZOFFSETFROM:+0100
TZOFFSETTO:+0200
TZNAME:CEST
DTSTART:20170326T010000
END:DAYLIGHT
BEGIN:STANDARD
TZOFFSETFROM:+0200
TZOFFSETTO:+0100
TZNAME:CET
DTSTART:20171029T010000
END:STANDARD
BEGIN:DAYLIGHT
TZOFFSETFROM:+0100
TZOFFSETTO:+0200
TZNAME:CEST
DTSTART:20180325T010000
END:DAYLIGHT
BEGIN:STANDARD
TZOFFSETFROM:+0200
TZOFFSETTO:+0100
TZNAME:CET
DTSTART:20181028T010000
END:STANDARD
BEGIN:DAYLIGHT
TZOFFSETFROM:+0100
TZOFFSETTO:+0200
TZNAME:CEST
DTSTART:20190331T010000
END:DAYLIGHT
BEGIN:STANDARD
TZOFFSETFROM:+0200
TZOFFSETTO:+0100
TZNAME:CET
DTSTART:20191027T010000
END:STANDARD
BEGIN:DAYLIGHT
TZOFFSETFROM:+0100
TZOFFSETTO:+0200
TZNAME:CEST
DTSTART:20200329T010000
END:DAYLIGHT
BEGIN:STANDARD
TZOFFSETFROM:+0200
TZOFFSETTO:+0100
TZNAME:CET
DTSTART:20201025T010000
END:STANDARD
END:VTIMEZONE
BEGIN:VTIMEZONE
TZID:Europe/Rome
BEGIN:DAYLIGHT
TZOFFSETFROM:+0100
TZOFFSETTO:+0200
TZNAME:CEST
DTSTART:20170326T010000
END:DAYLIGHT
BEGIN:STANDARD
TZOFFSETFROM:+0200
TZOFFSETTO:+0100
TZNAME:CET
DTSTART:20171029T010000
END:STANDARD
BEGIN:DAYLIGHT
TZOFFSETFROM:+0100
TZOFFSETTO:+0200
TZNAME:CEST
DTSTART:20180325T010000
END:DAYLIGHT
BEGIN:STANDARD
TZOFFSETFROM:+0200
TZOFFSETTO:+0100
TZNAME:CET
DTSTART:20181028T010000
END:STANDARD
BEGIN:DAYLIGHT
TZOFFSETFROM:+0100
TZOFFSETTO:+0200
TZNAME:CEST
DTSTART:20190331T010000
END:DAYLIGHT
BEGIN:STANDARD
TZOFFSETFROM:+0200
TZOFFSETTO:+0100
TZNAME:CET
DTSTART:20191027T010000
END:STANDARD
END:VTIMEZONE
BEGIN:VEVENT
DTSTART;TZID=Europe/San_Marino:20190731T093000
DTEND;TZID=Europe/San_Marino:20190731T163000
DTSTAMP:20260422T113916
CREATED:20190718T144453Z
LAST-MODIFIED:20190718T144453Z
UID:12761-1564565400-1564590600@ioamomontecampione.it
SUMMARY:Montecampione Ski Area apre lo Skill Park del Bike Park Montecampione
DESCRIPTION:Oltre ai fine settimana\, tutti i mercoledì e venerdì dalle 9.30 alle 12.30 e dalle 13.30 alle 16.30!\nCon un pass di soli 3\,00€ al giorno i vostri bambini si divertiranno un mondo!✌\nE’ possibile noleggiare e prenotare una lezione con un istruttore presso il Noleggio Dylan al numero 3202605079.
URL:https://ioamomontecampione.it/event/montecampione-ski-area-apre-lo-skill-park-del-bike-park-montecampione-7/
LOCATION:Montecampione Ski Area\, Via Legazzuolo di Montecampione\, Artogne\, 25040\, Italia
ORGANIZER;CN="Montecampione Ski Area":MAILTO:info@montecampioneskiarea.it
END:VEVENT
BEGIN:VEVENT
DTSTART;TZID=Europe/San_Marino:20190727T093000
DTEND;TZID=Europe/San_Marino:20190728T173000
DTSTAMP:20260422T113916
CREATED:20190718T143815Z
LAST-MODIFIED:20190718T144752Z
UID:12751-1564219800-1564335000@ioamomontecampione.it
SUMMARY:Montecampione Ski Area apre la pista DH Corniolo e lo Skill Park per il fine settimana
DESCRIPTION:Tutto aperto per il fine settimana. Ci sarà anche li Skill Park e la dh Corniolo avrà anche tutte le sue varianti. \nCon un pass di soli 3\,00€ al giorno i vostri bambini si divertiranno un mondo sullo Skill Park!✌\n\nE’ possibile noleggiare e prenotare una lezione con un istruttore presso il Noleggio Dylan al numero 3202605079.
URL:https://ioamomontecampione.it/event/montecampione-ski-area-apre-la-pista-dh-corniolo-e-lo-skill-park-per-il-fine-settimana-3/
LOCATION:Montecampione Ski Area\, Via Legazzuolo di Montecampione\, Artogne\, 25040\, Italia
ORGANIZER;CN="Montecampione Ski Area":MAILTO:info@montecampioneskiarea.it
END:VEVENT
BEGIN:VEVENT
DTSTART;TZID=Europe/San_Marino:20190726T093000
DTEND;TZID=Europe/San_Marino:20190726T163000
DTSTAMP:20260422T113916
CREATED:20190718T144349Z
LAST-MODIFIED:20190718T144349Z
UID:12759-1564133400-1564158600@ioamomontecampione.it
SUMMARY:Montecampione Ski Area apre lo Skill Park del Bike Park Montecampione
DESCRIPTION:Oltre ai fine settimana\, tutti i mercoledì e venerdì dalle 9.30 alle 12.30 e dalle 13.30 alle 16.30!\nCon un pass di soli 3\,00€ al giorno i vostri bambini si divertiranno un mondo!✌\nE’ possibile noleggiare e prenotare una lezione con un istruttore presso il Noleggio Dylan al numero 3202605079.
URL:https://ioamomontecampione.it/event/montecampione-ski-area-apre-lo-skill-park-del-bike-park-montecampione-6/
LOCATION:Montecampione Ski Area\, Via Legazzuolo di Montecampione\, Artogne\, 25040\, Italia
ORGANIZER;CN="Montecampione Ski Area":MAILTO:info@montecampioneskiarea.it
END:VEVENT
BEGIN:VEVENT
DTSTART;TZID=Europe/San_Marino:20190724T093000
DTEND;TZID=Europe/San_Marino:20190724T163000
DTSTAMP:20260422T113916
CREATED:20190718T144253Z
LAST-MODIFIED:20190718T144253Z
UID:12757-1563960600-1563985800@ioamomontecampione.it
SUMMARY:Montecampione Ski Area apre lo Skill Park del Bike Park Montecampione
DESCRIPTION:Oltre ai fine settimana\, tutti i mercoledì e venerdì dalle 9.30 alle 12.30 e dalle 13.30 alle 16.30!\nCon un pass di soli 3\,00€ al giorno i vostri bambini si divertiranno un mondo!✌\nE’ possibile noleggiare e prenotare una lezione con un istruttore presso il Noleggio Dylan al numero 3202605079.
URL:https://ioamomontecampione.it/event/montecampione-ski-area-apre-lo-skill-park-del-bike-park-montecampione-5/
LOCATION:Montecampione Ski Area\, Via Legazzuolo di Montecampione\, Artogne\, 25040\, Italia
ORGANIZER;CN="Montecampione Ski Area":MAILTO:info@montecampioneskiarea.it
END:VEVENT
BEGIN:VEVENT
DTSTART;TZID=Europe/San_Marino:20190720T093000
DTEND;TZID=Europe/San_Marino:20190721T163000
DTSTAMP:20260422T113916
CREATED:20190718T143651Z
LAST-MODIFIED:20190718T144654Z
UID:12749-1563615000-1563726600@ioamomontecampione.it
SUMMARY:Montecampione Ski Area apre la pista DH Corniolo e lo Skill Park per il fine settimana
DESCRIPTION:Tutto aperto per il fine settimana. Ci sarà anche li Skill Park e la dh Corniolo avrà anche tutte le sue varianti. \nCon un pass di soli 3\,00€ al giorno i vostri bambini si divertiranno un mondo sullo Skill Park!✌\n\nE’ possibile noleggiare e prenotare una lezione con un istruttore presso il Noleggio Dylan al numero 3202605079.
URL:https://ioamomontecampione.it/event/montecampione-ski-area-apre-la-pista-dh-corniolo-e-lo-skill-park-per-il-fine-settimana-2/
LOCATION:Montecampione Ski Area\, Via Legazzuolo di Montecampione\, Artogne\, 25040\, Italia
ORGANIZER;CN="Montecampione Ski Area":MAILTO:info@montecampioneskiarea.it
END:VEVENT
BEGIN:VEVENT
DTSTART;TZID=Europe/San_Marino:20190719T093000
DTEND;TZID=Europe/San_Marino:20190719T163000
DTSTAMP:20260422T113916
CREATED:20190718T144144Z
LAST-MODIFIED:20190718T144144Z
UID:12755-1563528600-1563553800@ioamomontecampione.it
SUMMARY:Montecampione Ski Area apre lo Skill Park del Bike Park Montecampione
DESCRIPTION:Oltre ai fine settimana\, tutti i mercoledì e venerdì dalle 9.30 alle 12.30 e dalle 13.30 alle 16.30!\nCon un pass di soli 3\,00€ al giorno i vostri bambini si divertiranno un mondo!✌\nE’ possibile noleggiare e prenotare una lezione con un istruttore presso il Noleggio Dylan al numero 3202605079.
URL:https://ioamomontecampione.it/event/montecampione-ski-area-apre-lo-skill-park-del-bike-park-montecampione-4/
LOCATION:Montecampione Ski Area\, Via Legazzuolo di Montecampione\, Artogne\, 25040\, Italia
ORGANIZER;CN="Montecampione Ski Area":MAILTO:info@montecampioneskiarea.it
END:VEVENT
BEGIN:VEVENT
DTSTART;TZID=Europe/San_Marino:20190717T093000
DTEND;TZID=Europe/San_Marino:20190717T163000
DTSTAMP:20260422T113916
CREATED:20190718T144049Z
LAST-MODIFIED:20190718T144049Z
UID:12753-1563355800-1563381000@ioamomontecampione.it
SUMMARY:Montecampione Ski Area apre lo Skill Park del Bike Park Montecampione
DESCRIPTION:Oltre ai fine settimana\, tutti i mercoledì e venerdì dalle 9.30 alle 12.30 e dalle 13.30 alle 16.30!\nCon un pass di soli 3\,00€ al giorno i vostri bambini si divertiranno un mondo!✌\nE’ possibile noleggiare e prenotare una lezione con un istruttore presso il Noleggio Dylan al numero 3202605079.
URL:https://ioamomontecampione.it/event/montecampione-ski-area-apre-lo-skill-park-del-bike-park-montecampione-3/
LOCATION:Montecampione Ski Area\, Via Legazzuolo di Montecampione\, Artogne\, 25040\, Italia
END:VEVENT
BEGIN:VEVENT
DTSTART;TZID=Europe/San_Marino:20190713T093000
DTEND;TZID=Europe/San_Marino:20190714T163000
DTSTAMP:20260422T113916
CREATED:20190705T120052Z
LAST-MODIFIED:20190718T143040Z
UID:12464-1563010200-1563121800@ioamomontecampione.it
SUMMARY:Montecampione Ski Area apre la pista DH Corniolo e lo Skill Park per il fine settimana
DESCRIPTION:Tutto aperto per il fine settimana. Ci sarà anche li Skill Park e la dh Corniolo avrà anche tutte le sue varianti.\nManchera solo una miglioria\, in ogni caso comunque ininfluente per l’utilizzo della pista\, che verrà realizzata la prossima settimana; si tratta della costruzione di un percorso vero e proprio per attraversare una quindicina di metri della pista da sci panoramica.
URL:https://ioamomontecampione.it/event/montecampione-ski-area-apre-la-pista-dh-corniolo-e-lo-skill-park-per-il-fine-settimana/
LOCATION:Montecampione Ski Area\, Via Legazzuolo di Montecampione\, Artogne\, 25040\, Italia
ORGANIZER;CN="Montecampione Ski Area":MAILTO:info@montecampioneskiarea.it
END:VEVENT
BEGIN:VEVENT
DTSTART;TZID=Europe/San_Marino:20190713T093000
DTEND;TZID=Europe/San_Marino:20190714T163000
DTSTAMP:20260422T113916
CREATED:20190702T142743Z
LAST-MODIFIED:20190702T142743Z
UID:12428-1563010200-1563121800@ioamomontecampione.it
SUMMARY:Seggiovia e Bike Park Montecampione aperti per il fine settimana!
DESCRIPTION:
URL:https://ioamomontecampione.it/event/seggiovia-e-bike-park-montecampione-aperti-per-il-fine-settimana-2/
LOCATION:Montecampione Ski Area\, Via Legazzuolo di Montecampione\, Artogne\, 25040\, Italia
ORGANIZER;CN="Montecampione Ski Area":MAILTO:info@montecampioneskiarea.it
END:VEVENT
BEGIN:VEVENT
DTSTART;TZID=Europe/San_Marino:20190712T083000
DTEND;TZID=Europe/San_Marino:20190712T163000
DTSTAMP:20260422T113916
CREATED:20190708T092013Z
LAST-MODIFIED:20190708T092013Z
UID:12509-1562920200-1562949000@ioamomontecampione.it
SUMMARY:Montecampione Ski Area apre lo Skill Park del Bike Park Montecampione
DESCRIPTION:Oltre ai fine settimana\, tutti i mercoledì e venerdì dalle 9.30 alle 12.30 e dalle 13.30 alle 16.30!\nCon un pass di soli 3\,00€ al giorno i vostri bambini si divertiranno un mondo!✌\nE’ possibile noleggiare e prenotare una lezione con un istruttore presso il Noleggio Dylan al numero 3202605079.
URL:https://ioamomontecampione.it/event/montecampione-ski-area-apre-lo-skill-park-del-bike-park-montecampione-2/
LOCATION:Montecampione Ski Area\, Via Legazzuolo di Montecampione\, Artogne\, 25040\, Italia
ORGANIZER;CN="Montecampione Ski Area":MAILTO:info@montecampioneskiarea.it
END:VEVENT
BEGIN:VEVENT
DTSTART;TZID=Europe/San_Marino:20190710T093000
DTEND;TZID=Europe/San_Marino:20190710T163000
DTSTAMP:20260422T113916
CREATED:20190708T091434Z
LAST-MODIFIED:20190708T091835Z
UID:12506-1562751000-1562776200@ioamomontecampione.it
SUMMARY:Montecampione Ski Area apre lo Skill Park del Bike Park Montecampione
DESCRIPTION:Oltre ai fine settimana\, tutti i mercoledì e venerdì dalle 9.30 alle 12.30 e dalle 13.30 alle 16.30!\nCon un pass di soli 3\,00€ al giorno i vostri bambini si divertiranno un mondo!✌\nE’ possibile noleggiare e prenotare una lezione con un istruttore presso il Noleggio Dylan al numero 3202605079.
URL:https://ioamomontecampione.it/event/montecampione-ski-area-apre-lo-skill-park-del-bike-park-montecampione/
LOCATION:Montecampione Ski Area\, Via Legazzuolo di Montecampione\, Artogne\, 25040\, Italia
ORGANIZER;CN="Montecampione Ski Area":MAILTO:info@montecampioneskiarea.it
END:VEVENT
BEGIN:VEVENT
DTSTART;TZID=Europe/San_Marino:20190706T093000
DTEND;TZID=Europe/San_Marino:20190707T163000
DTSTAMP:20260422T113916
CREATED:20190702T142623Z
LAST-MODIFIED:20190718T143126Z
UID:12426-1562405400-1562517000@ioamomontecampione.it
SUMMARY:Montecampione Ski Area apre la pista DH Corniolo e lo Skill Park per il fine settimana
DESCRIPTION:
URL:https://ioamomontecampione.it/event/seggiovia-e-bike-park-montecampione-aperti-per-il-fine-settimana/
LOCATION:Montecampione Ski Area\, Via Legazzuolo di Montecampione\, Artogne\, 25040\, Italia
ORGANIZER;CN="Montecampione Ski Area":MAILTO:info@montecampioneskiarea.it
END:VEVENT
BEGIN:VEVENT
DTSTART;TZID=Europe/San_Marino:20190706T080000
DTEND;TZID=Europe/San_Marino:20190706T140000
DTSTAMP:20260422T113916
CREATED:20190705T140633Z
LAST-MODIFIED:20190705T140633Z
UID:12480-1562400000-1562421600@ioamomontecampione.it
SUMMARY:Team Bike Almè in visita a Montecampione
DESCRIPTION:SABATO   \nore 8\,00  e ore 14\,00 \nPer chi vuole sabato mattina ore 7\,00 in bdc giro a Montecampione  km 180 rientro nel pomeriggio \nSia x chi vuole uscire in  BDC  o  in  MTB
URL:https://ioamomontecampione.it/event/team-bike-alme-in-visita-a-montecampione/
LOCATION:Montecampione Ski Area\, Via Legazzuolo di Montecampione\, Artogne\, 25040\, Italia
END:VEVENT
BEGIN:VEVENT
DTSTART;TZID=Europe/San_Marino:20190629T093000
DTEND;TZID=Europe/San_Marino:20190629T163000
DTSTAMP:20260422T113916
CREATED:20190624T205551Z
LAST-MODIFIED:20190626T142157Z
UID:12293-1561800600-1561825800@ioamomontecampione.it
SUMMARY:Inaugurazione Bike Park Montecampione
DESCRIPTION:
URL:https://ioamomontecampione.it/event/inaugurazione-bike-park-montecampione/
LOCATION:Montecampione Ski Area\, Via Legazzuolo di Montecampione\, Artogne\, 25040\, Italia
ORGANIZER;CN="Noleggio Dylan":MAILTO:dylanskiservice@gmail.com
END:VEVENT
BEGIN:VEVENT
DTSTART;TZID=Europe/San_Marino:20181208T153000
DTEND;TZID=Europe/San_Marino:20181208T193000
DTSTAMP:20260422T113916
CREATED:20181203T143432Z
LAST-MODIFIED:20181203T180910Z
UID:8275-1544283000-1544297400@ioamomontecampione.it
SUMMARY:Inaugurazione Scuola di Sci e Snowboard Sistema Sport
DESCRIPTION:La scuola di sci e snowboard Sistema vuole dare a tutti un caloroso benvenuto nella sede in via panoramica 71 ai Portici vicino alla tabaccheria.\nCi saranno i ragazzi della Sistema Sport a.s.d ad accoglievi con un buffet gratuito\, sarà inoltre possibile iscriversi all’associazione e prenotare corsi o lezioni di sci.\nVenite a trovarci per conoscerci meglio\, approfittatene per richiedere informazioni e per creare l’offerta migliore dedicata alle vostre necessità!!\nNoi siamo carichi vi aspettiamo!!!!
URL:https://ioamomontecampione.it/event/inaugurazione-scuola-di-sci-e-snowboard-sistema-sport/
LOCATION:Sistema Sport A.s.d.\, Via Panoramica di Montecampione 73\, Pian Camuno\, 25050\, Italia
ORGANIZER;CN="Sistema Sport A.s.d.":MAILTO:info@sistemasport.it
END:VEVENT
BEGIN:VEVENT
DTSTART;TZID=Europe/San_Marino:20180930T090000
DTEND;TZID=Europe/San_Marino:20180930T170000
DTSTAMP:20260422T113916
CREATED:20180927T142635Z
LAST-MODIFIED:20180927T142635Z
UID:5877-1538298000-1538326800@ioamomontecampione.it
SUMMARY:MonteBike e Skill Park aperti a Montecampione!
DESCRIPTION:
URL:https://ioamomontecampione.it/event/montebike-e-skill-park-aperti-a-montecampione-6/
LOCATION:Montecampione Ski Area\, Via Legazzuolo di Montecampione\, Artogne\, 25040\, Italia
ORGANIZER;CN="Montecampione Ski Area":MAILTO:info@montecampioneskiarea.it
END:VEVENT
BEGIN:VEVENT
DTSTART;TZID=Europe/San_Marino:20180929T090000
DTEND;TZID=Europe/San_Marino:20180929T170000
DTSTAMP:20260422T113916
CREATED:20180927T142531Z
LAST-MODIFIED:20180927T142531Z
UID:5875-1538211600-1538240400@ioamomontecampione.it
SUMMARY:MonteBike e Skill Park aperti a Montecampione!
DESCRIPTION:
URL:https://ioamomontecampione.it/event/montebike-e-skill-park-aperti-a-montecampione-5/
LOCATION:Montecampione Ski Area\, Via Legazzuolo di Montecampione\, Artogne\, 25040\, Italia
ORGANIZER;CN="Montecampione Ski Area":MAILTO:info@montecampioneskiarea.it
END:VEVENT
BEGIN:VEVENT
DTSTART;TZID=Europe/San_Marino:20180923T090000
DTEND;TZID=Europe/San_Marino:20180923T170000
DTSTAMP:20260422T113916
CREATED:20180921T131554Z
LAST-MODIFIED:20180921T131554Z
UID:5727-1537693200-1537722000@ioamomontecampione.it
SUMMARY:MonteBike e Skill Park aperti a Montecampione!
DESCRIPTION:
URL:https://ioamomontecampione.it/event/montebike-e-skill-park-aperti-a-montecampione-4/
LOCATION:Montecampione Ski Area\, Via Legazzuolo di Montecampione\, Artogne\, 25040\, Italia
ORGANIZER;CN="Montecampione Ski Area":MAILTO:info@montecampioneskiarea.it
END:VEVENT
BEGIN:VEVENT
DTSTART;TZID=Europe/San_Marino:20180922T090000
DTEND;TZID=Europe/San_Marino:20180922T170000
DTSTAMP:20260422T113916
CREATED:20180921T131456Z
LAST-MODIFIED:20180921T131456Z
UID:5725-1537606800-1537635600@ioamomontecampione.it
SUMMARY:MonteBike e Skill Park aperti a Montecampione!
DESCRIPTION:
URL:https://ioamomontecampione.it/event/montebike-e-skill-park-aperti-a-montecampione-3/
LOCATION:Montecampione Ski Area\, Via Legazzuolo di Montecampione\, Artogne\, 25040\, Italia
ORGANIZER;CN="Montecampione Ski Area":MAILTO:info@montecampioneskiarea.it
END:VEVENT
BEGIN:VEVENT
DTSTART;TZID=Europe/San_Marino:20180916T090000
DTEND;TZID=Europe/San_Marino:20180916T170000
DTSTAMP:20260422T113916
CREATED:20180914T160917Z
LAST-MODIFIED:20180914T160917Z
UID:5474-1537088400-1537117200@ioamomontecampione.it
SUMMARY:MonteBike e Skill Park aperti a Montecampione!
DESCRIPTION:
URL:https://ioamomontecampione.it/event/montebike-e-skill-park-aperti-a-montecampione-2/
LOCATION:Montecampione Ski Area\, Via Legazzuolo di Montecampione\, Artogne\, 25040\, Italia
ORGANIZER;CN="Montecampione Ski Area":MAILTO:info@montecampioneskiarea.it
END:VEVENT
BEGIN:VEVENT
DTSTART;TZID=Europe/San_Marino:20180915T090000
DTEND;TZID=Europe/San_Marino:20180915T170000
DTSTAMP:20260422T113916
CREATED:20180914T160714Z
LAST-MODIFIED:20180914T160745Z
UID:5472-1537002000-1537030800@ioamomontecampione.it
SUMMARY:MonteBike e Skill Park aperti a Montecampione!
DESCRIPTION:
URL:https://ioamomontecampione.it/event/montebike-e-skill-park-aperti-a-montecampione/
LOCATION:Montecampione Ski Area\, Via Legazzuolo di Montecampione\, Artogne\, 25040\, Italia
ORGANIZER;CN="Montecampione Ski Area":MAILTO:info@montecampioneskiarea.it
END:VEVENT
BEGIN:VEVENT
DTSTART;TZID=Europe/Rome:20180817T160000
DTEND;TZID=Europe/Rome:20180817T220000
DTSTAMP:20260422T113916
CREATED:20180815T102328Z
LAST-MODIFIED:20180815T102328Z
UID:4625-1534521600-1534543200@ioamomontecampione.it
SUMMARY:Uscita in Mountain Bike sulle creste di Montecampione con i Maestri della Scuola MTB
DESCRIPTION:
URL:https://ioamomontecampione.it/event/uscita-in-mountain-bike-sulle-creste-di-montecampione-con-i-maestri-della-scuola-mtb/
LOCATION:Noleggio Dylan\, Via Legazzuolo di Montecampione\, Artogne\, 25040\, Italia
ORGANIZER;CN="Noleggio Dylan":MAILTO:dylanskiservice@gmail.com
END:VEVENT
BEGIN:VEVENT
DTSTART;TZID=Europe/Rome:20180810T160000
DTEND;TZID=Europe/Rome:20180810T180000
DTSTAMP:20260422T113916
CREATED:20180809T073432Z
LAST-MODIFIED:20180809T075051Z
UID:4262-1533916800-1533924000@ioamomontecampione.it
SUMMARY:Open Day Gratuito di Montebike dalle 16.00 alle 18.00 presso Montecampione Ski Area!
DESCRIPTION:
URL:https://ioamomontecampione.it/event/open-day-gratuito-di-montebike-dalle-16-00-alle-18-00/
LOCATION:Montecampione Ski Area\, Via Legazzuolo di Montecampione\, Artogne\, 25040\, Italia
ORGANIZER;CN="Montecampione Ski Area":MAILTO:info@montecampioneskiarea.it
END:VEVENT
END:VCALENDAR