BEGIN:VCALENDAR
VERSION:2.0
PRODID:-//I ♥ MONTECAMPIONE - ECPv6.15.20//NONSGML v1.0//EN
CALSCALE:GREGORIAN
METHOD:PUBLISH
X-ORIGINAL-URL:https://ioamomontecampione.it
X-WR-CALDESC:Eventi per I ♥ MONTECAMPIONE
REFRESH-INTERVAL;VALUE=DURATION:PT1H
X-Robots-Tag:noindex
X-PUBLISHED-TTL:PT1H
BEGIN:VTIMEZONE
TZID:Europe/San_Marino
BEGIN:DAYLIGHT
TZOFFSETFROM:+0100
TZOFFSETTO:+0200
TZNAME:CEST
DTSTART:20170326T010000
END:DAYLIGHT
BEGIN:STANDARD
TZOFFSETFROM:+0200
TZOFFSETTO:+0100
TZNAME:CET
DTSTART:20171029T010000
END:STANDARD
BEGIN:DAYLIGHT
TZOFFSETFROM:+0100
TZOFFSETTO:+0200
TZNAME:CEST
DTSTART:20180325T010000
END:DAYLIGHT
BEGIN:STANDARD
TZOFFSETFROM:+0200
TZOFFSETTO:+0100
TZNAME:CET
DTSTART:20181028T010000
END:STANDARD
BEGIN:DAYLIGHT
TZOFFSETFROM:+0100
TZOFFSETTO:+0200
TZNAME:CEST
DTSTART:20190331T010000
END:DAYLIGHT
BEGIN:STANDARD
TZOFFSETFROM:+0200
TZOFFSETTO:+0100
TZNAME:CET
DTSTART:20191027T010000
END:STANDARD
BEGIN:DAYLIGHT
TZOFFSETFROM:+0100
TZOFFSETTO:+0200
TZNAME:CEST
DTSTART:20200329T010000
END:DAYLIGHT
BEGIN:STANDARD
TZOFFSETFROM:+0200
TZOFFSETTO:+0100
TZNAME:CET
DTSTART:20201025T010000
END:STANDARD
BEGIN:DAYLIGHT
TZOFFSETFROM:+0100
TZOFFSETTO:+0200
TZNAME:CEST
DTSTART:20210328T010000
END:DAYLIGHT
BEGIN:STANDARD
TZOFFSETFROM:+0200
TZOFFSETTO:+0100
TZNAME:CET
DTSTART:20211031T010000
END:STANDARD
END:VTIMEZONE
BEGIN:VEVENT
DTSTART;TZID=Europe/San_Marino:20200301T090000
DTEND;TZID=Europe/San_Marino:20200301T170000
DTSTAMP:20260424T175108
CREATED:20200204T183039Z
LAST-MODIFIED:20200310T093153Z
UID:15783-1583053200-1583082000@ioamomontecampione.it
SUMMARY:2° Winter Panda al Plan di Montecampione EVENTO ANNULLATO per COVID -19
DESCRIPTION:Montecampione non è solo piste da sci… \nMontecampione 1800\, il 1 marzo sarà il punto di riferimento per tutti gli appassionati del mitico panda 4×4.\nQuesto sarà possibile grazie ai Pandisti Camuni che hanno pensato ed organizzato il “2 winter panda”…\nIl “2 winter panda” è un raduno statico di panda 4×4\, ma non solo\, nel 3 piazzale\, quello innevato\, preparer \nanno un “pistino” così da dar modo ai partecipanti di provare le brezza di guidare e divertirsi sulla neve con i propri pandini.\nAl 2 winter panda\, parteciperanno l’originale PANDAKAR e altri 3 equipaggi che hanno effettuato dei raid nel deserto.\nLe iscrizioni sono aperte…\nChi non ha una panda 4×4 sarà comunque ben accetto al “2 winter panda” come spettatore…\nVi aspettiamo.
URL:https://ioamomontecampione.it/event/2-winter-panda-al-plan-di-montecampione/
LOCATION:Plan di Montecampione\, Via Plan di Montecampione\, Artogne\, 25040\, Italia
END:VEVENT
BEGIN:VEVENT
DTSTART;TZID=Europe/San_Marino:20190317T090000
DTEND;TZID=Europe/San_Marino:20190317T170000
DTSTAMP:20260424T175108
CREATED:20190220T192615Z
LAST-MODIFIED:20190225T133256Z
UID:10195-1552813200-1552842000@ioamomontecampione.it
SUMMARY:1° Winter Panda al Plan di Montecampione
DESCRIPTION:
URL:https://ioamomontecampione.it/event/1-winter-panda-al-plan-di-montecampione-2/
LOCATION:Plan di Montecampione\, Via Plan di Montecampione\, Artogne\, 25040\, Italia
END:VEVENT
BEGIN:VEVENT
DTSTART;TZID=Europe/San_Marino:20190309T193000
DTEND;TZID=Europe/San_Marino:20190309T213000
DTSTAMP:20260424T175108
CREATED:20190212T202229Z
LAST-MODIFIED:20190307T110605Z
UID:9957-1552159800-1552167000@ioamomontecampione.it
SUMMARY:Montecampione Ski Area – Apertura in notturna della pista Gardena (evento annullato a causa delle condizioni della neve)
DESCRIPTION:Apertura in notturna della pista Gardena dalle 19.30 alle 21.30. \nCosto per lo skipass serale 12€ adulti e 10€ bambini (chi possiede lo stagionale dovrà semplicemente passare dalla biglietteria a ritirare lo skipass omaggio).\n \nVi aspettiamo sugli sci ⛷! \n#montecampioneskiarea #montecampioneisback #montecampionesince1970
URL:https://ioamomontecampione.it/event/montecampione-ski-area-apertura-in-notturna-della-pista-gardena-5/
LOCATION:Montecampione Ski Area\, Via Legazzuolo di Montecampione\, Artogne\, 25040\, Italia
ORGANIZER;CN="Montecampione Ski Area":MAILTO:info@montecampioneskiarea.it
END:VEVENT
BEGIN:VEVENT
DTSTART;TZID=Europe/San_Marino:20190309T170000
DTEND;TZID=Europe/San_Marino:20190309T223000
DTSTAMP:20260424T175108
CREATED:20190228T180659Z
LAST-MODIFIED:20190307T110436Z
UID:10329-1552150800-1552170600@ioamomontecampione.it
SUMMARY:Festa di Carnevale presso il Residence La Splaza di Montecampione (White Night annullata)
DESCRIPTION:ATTENZIONE: La seconda parte è stata annullata\na causa delle avverse condizioni della neve.
URL:https://ioamomontecampione.it/event/festa-di-carnevale-e-white-night-presso-il-residence-la-splaza-di-montecampione/
LOCATION:Residence La Splaza\, Via Legazzuolo di Montecampione\, Artogne\, 25040\, Italia
ORGANIZER;CN="Consorzio Montecampione":MAILTO:info@consorziomontecampione.it
END:VEVENT
BEGIN:VEVENT
DTSTART;TZID=Europe/San_Marino:20190303T090000
DTEND;TZID=Europe/San_Marino:20190303T160000
DTSTAMP:20260424T175108
CREATED:20190222T180516Z
LAST-MODIFIED:20190222T180516Z
UID:10221-1551603600-1551628800@ioamomontecampione.it
SUMMARY:Verticalmonte organizza un corso di Telemark a Montecampione con Luciano Tousco
DESCRIPTION:Anche quest’anno Luciano Tousco lascia per un fine settimana il Monte Rosa per una giornata intera dedicata ai primi approcci e all’approfondimento della sciata Telemark a Montecampione (BS). \nLa giornata sarà divisa in due: \nDalle 9:00 alle 12:30 per i telemarker di medio/buon livello che vogliono perfezionare la tecnica e migliorare le proprie sensazioni.\nMassimo 8 persone. \nDalle 13:30 alle 16:00 per chi non ha mai provato questa tecnica: questo è il momento di farlo! Luciano ha a disposizione qualche scarpone e sci da prestare per le vostre prime curve\, ma probabilmente non per tutti: contattateci e vi confermeremo la disponibilità. Uno ogni caso vi potremo dare indicazione di dove reperirli.\nMassimo 6 persone. \nCosti per una delle due sessioni:\n1-2 persone: € 90\,00\n3-4 persone: € 130\,00\n5-6 persone: € 160\,00\n7-8 persone: € 200\,00\nIl prezzo è da dividere tra i partecipanti. \nCosto del materiale (sci\, attacchi e scarponi) per il corso del pomeriggio: 10 euro. \nPer info e prenotazioni:\nCristina 339 122 99 89\ncripenna@hotmail.com\nOppure messaggio privato
URL:https://ioamomontecampione.it/event/verticalmonte-organizza-un-corso-di-telemark-a-montecampione-con-luciano-tousco/
LOCATION:Montecampione Ski Area\, Via Legazzuolo di Montecampione\, Artogne\, 25040\, Italia
ORGANIZER;CN="VerticalMonte":MAILTO:info@consorziomontecampione.it
END:VEVENT
BEGIN:VEVENT
DTSTART;TZID=Europe/San_Marino:20190216T193000
DTEND;TZID=Europe/San_Marino:20190216T213000
DTSTAMP:20260424T175108
CREATED:20190212T175531Z
LAST-MODIFIED:20190212T175531Z
UID:9950-1550345400-1550352600@ioamomontecampione.it
SUMMARY:Montecampione Ski Area – Apertura in notturna della pista Gardena
DESCRIPTION:Apertura in notturna della pista Gardena dalle 19.30 alle 21.30. \nCosto per lo skipass serale 12€ adulti e 10€ bambini (chi possiede lo stagionale dovrà semplicemente passare dalla biglietteria a ritirare lo skipass omaggio).\n \nVi aspettiamo sugli sci ⛷! \n#montecampioneskiarea #montecampioneisback #montecampionesince1970
URL:https://ioamomontecampione.it/event/montecampione-ski-area-apertura-in-notturna-della-pista-gardena-2/
LOCATION:Montecampione Ski Area\, Via Legazzuolo di Montecampione\, Artogne\, 25040\, Italia
ORGANIZER;CN="Montecampione Ski Area":MAILTO:info@montecampioneskiarea.it
END:VEVENT
BEGIN:VEVENT
DTSTART;TZID=Europe/San_Marino:20190112T150000
DTEND;TZID=Europe/San_Marino:20190112T170000
DTSTAMP:20260424T175108
CREATED:20181205T140325Z
LAST-MODIFIED:20181209T201857Z
UID:8403-1547305200-1547312400@ioamomontecampione.it
SUMMARY:Sci Club Rongai – Corso per principianti e perfezionamento\, tutti i sabati dal 12/1 al 10/3 2019
DESCRIPTION:
URL:https://ioamomontecampione.it/event/sci-club-rongai-corso-per-principianti-e-perfezionamento-tutti-i-sabati-dal-12-1-al-10-3-2019/
LOCATION:Montecampione Ski Area\, Via Legazzuolo di Montecampione\, Artogne\, 25040\, Italia
ORGANIZER;CN="Sci Club Rongai":MAILTO:stampa@sciclubrongai.com
END:VEVENT
BEGIN:VEVENT
DTSTART;TZID=Europe/San_Marino:20190110T150000
DTEND;TZID=Europe/San_Marino:20190110T170000
DTSTAMP:20260424T175108
CREATED:20181205T140142Z
LAST-MODIFIED:20181209T201916Z
UID:8401-1547132400-1547139600@ioamomontecampione.it
SUMMARY:Sci Club Rongai – Corso per principianti e perfezionamento\, tutti i giovedì dal 10/1 al 7/3 2019
DESCRIPTION:
URL:https://ioamomontecampione.it/event/sci-club-rongai-corso-per-principianti-e-perfezionamento-tutti-i-giovedi-dal-10-1-al-7-3-2019/
LOCATION:Montecampione Ski Area\, Via Legazzuolo di Montecampione\, Artogne\, 25040\, Italia
ORGANIZER;CN="Sci Club Rongai":MAILTO:stampa@sciclubrongai.com
END:VEVENT
BEGIN:VEVENT
DTSTART;TZID=Europe/San_Marino:20190108T150000
DTEND;TZID=Europe/San_Marino:20190108T170000
DTSTAMP:20260424T175108
CREATED:20181205T135839Z
LAST-MODIFIED:20181209T201826Z
UID:8399-1546959600-1546966800@ioamomontecampione.it
SUMMARY:Sci Club Rongai – Corso per principianti e perfezionamento\, tutti i martedì dall'8/1 al 5/3 2019
DESCRIPTION:
URL:https://ioamomontecampione.it/event/sci-club-rongai-corso-per-principianti-e-perfezionamento-tutti-i-martedi-dall8-1-al-5-3-2019/
LOCATION:Montecampione Ski Area\, Via Legazzuolo di Montecampione\, Artogne\, 25040\, Italia
ORGANIZER;CN="Sci Club Rongai":MAILTO:stampa@sciclubrongai.com
END:VEVENT
BEGIN:VEVENT
DTSTART;TZID=Europe/San_Marino:20190102T090000
DTEND;TZID=Europe/San_Marino:20190102T110000
DTSTAMP:20260424T175108
CREATED:20181205T135559Z
LAST-MODIFIED:20181205T135646Z
UID:8396-1546419600-1546426800@ioamomontecampione.it
SUMMARY:Sci Club Rongai – Corso per principianti e perfezionamento dal 2/1 al 6/1 2019
DESCRIPTION:
URL:https://ioamomontecampione.it/event/sci-club-rongai-corso-per-principianti-e-perfezionamento-dal-2-1-al-6-1-2019/
LOCATION:Montecampione Ski Area\, Via Legazzuolo di Montecampione\, Artogne\, 25040\, Italia
ORGANIZER;CN="Sci Club Rongai":MAILTO:stampa@sciclubrongai.com
END:VEVENT
BEGIN:VEVENT
DTSTART;TZID=Europe/San_Marino:20181230T173000
DTEND;TZID=Europe/San_Marino:20181230T220000
DTSTAMP:20260424T175108
CREATED:20181228T181510Z
LAST-MODIFIED:20181230T211152Z
UID:9029-1546191000-1546207200@ioamomontecampione.it
SUMMARY:Montecampione Ski Area – Fiaccolata ed Apertura in notturna della pista Gardena (evento poi annullato per il forte vento)
DESCRIPTION:Ci siamo! Ecco l’ultimo weekend del #2018 e noi vi aspettiamo domani con l’apertura in notturna della pista Gardena dalle 19 alle 22. il 30/12 con la fiaccolata dei maestri di sci alle 17.30. A seguire fino alle 22.00 la pista Gardena sarà a disposizione di chi vorrà sciare in notturna. Buon weekend sulle nostre piste \n#ski #winterseason #skitime🎿 #montecampione #montecampioneskiarea #montecampioneisback #montecampionesince1970 \nCosto per lo skipass serale 12€ gli adulti e 10€ i bambini
URL:https://ioamomontecampione.it/event/montecampione-ski-area-fiaccolata-ed-apertura-in-notturna-della-pista-gardena/
LOCATION:Montecampione Ski Area\, Via Legazzuolo di Montecampione\, Artogne\, 25040\, Italia
ORGANIZER;CN="Montecampione Ski Area":MAILTO:info@montecampioneskiarea.it
END:VEVENT
BEGIN:VEVENT
DTSTART;TZID=Europe/San_Marino:20181229T190000
DTEND;TZID=Europe/San_Marino:20181229T220000
DTSTAMP:20260424T175108
CREATED:20181226T230910Z
LAST-MODIFIED:20190212T175328Z
UID:9004-1546110000-1546120800@ioamomontecampione.it
SUMMARY:Montecampione Ski Area – Apertura in notturna della pista Gardena
DESCRIPTION:Apertura in notturna della pista Gardena dalle 19 alle 22. \nCosto per lo skipass serale 12€ adulti e 10€ bambini. Vi aspettiamo sugli sci ⛷! \n#montecampioneskiarea #montecampioneisback #montecampionesince1970
URL:https://ioamomontecampione.it/event/montecampione-ski-area-apertura-in-notturna-della-pista-gardena/
LOCATION:Montecampione Ski Area\, Via Legazzuolo di Montecampione\, Artogne\, 25040\, Italia
ORGANIZER;CN="Montecampione Ski Area":MAILTO:info@montecampioneskiarea.it
END:VEVENT
BEGIN:VEVENT
DTSTART;TZID=Europe/San_Marino:20181227T090000
DTEND;TZID=Europe/San_Marino:20181227T110000
DTSTAMP:20260424T175108
CREATED:20181205T135341Z
LAST-MODIFIED:20181205T135341Z
UID:8392-1545901200-1545908400@ioamomontecampione.it
SUMMARY:Sci Club Rongai - Corso per principianti e perfezionamento dal 27/12 al 31/12 2018
DESCRIPTION:
URL:https://ioamomontecampione.it/event/sci-club-rongai-corso-per-principianti-e-perfezionamento-dal-27-12-al-31-12-2018/
LOCATION:Montecampione Ski Area\, Via Legazzuolo di Montecampione\, Artogne\, 25040\, Italia
ORGANIZER;CN="Sci Club Rongai":MAILTO:stampa@sciclubrongai.com
END:VEVENT
END:VCALENDAR