BEGIN:VCALENDAR
VERSION:2.0
PRODID:-//I ♥ MONTECAMPIONE - ECPv6.15.20//NONSGML v1.0//EN
CALSCALE:GREGORIAN
METHOD:PUBLISH
X-ORIGINAL-URL:https://ioamomontecampione.it
X-WR-CALDESC:Eventi per I ♥ MONTECAMPIONE
REFRESH-INTERVAL;VALUE=DURATION:PT1H
X-Robots-Tag:noindex
X-PUBLISHED-TTL:PT1H
BEGIN:VTIMEZONE
TZID:Europe/San_Marino
BEGIN:DAYLIGHT
TZOFFSETFROM:+0100
TZOFFSETTO:+0200
TZNAME:CEST
DTSTART:20170326T010000
END:DAYLIGHT
BEGIN:STANDARD
TZOFFSETFROM:+0200
TZOFFSETTO:+0100
TZNAME:CET
DTSTART:20171029T010000
END:STANDARD
BEGIN:DAYLIGHT
TZOFFSETFROM:+0100
TZOFFSETTO:+0200
TZNAME:CEST
DTSTART:20180325T010000
END:DAYLIGHT
BEGIN:STANDARD
TZOFFSETFROM:+0200
TZOFFSETTO:+0100
TZNAME:CET
DTSTART:20181028T010000
END:STANDARD
BEGIN:DAYLIGHT
TZOFFSETFROM:+0100
TZOFFSETTO:+0200
TZNAME:CEST
DTSTART:20190331T010000
END:DAYLIGHT
BEGIN:STANDARD
TZOFFSETFROM:+0200
TZOFFSETTO:+0100
TZNAME:CET
DTSTART:20191027T010000
END:STANDARD
BEGIN:DAYLIGHT
TZOFFSETFROM:+0100
TZOFFSETTO:+0200
TZNAME:CEST
DTSTART:20200329T010000
END:DAYLIGHT
BEGIN:STANDARD
TZOFFSETFROM:+0200
TZOFFSETTO:+0100
TZNAME:CET
DTSTART:20201025T010000
END:STANDARD
END:VTIMEZONE
BEGIN:VEVENT
DTSTART;TZID=Europe/San_Marino:20190104T173000
DTEND;TZID=Europe/San_Marino:20190104T193000
DTSTAMP:20260421T140305
CREATED:20181221T225051Z
LAST-MODIFIED:20181221T225051Z
UID:8932-1546623000-1546630200@ioamomontecampione.it
SUMMARY:Al Cinema di Montecampione: Se son Rose
DESCRIPTION:“Se son rose” è una commedia diretta da Leonardo Pieraccioni\, che dopo “Il professor Cenerentolo” (2015)\, torna dietro e davanti alla macchina da presa\, per dirigere e interpretare la storia di Leonardo Giustini\, un giornalista che si occupa di tecnologia e innovazione per il web.
URL:https://ioamomontecampione.it/event/al-cinema-di-montecampione-se-son-rose-2/
LOCATION:Cinema di Montecampione\, Via Pradosole di Montecampione 36\, Artogne\, 25040\, Italia
ORGANIZER;CN="Consorzio Montecampione":MAILTO:info@consorziomontecampione.it
END:VEVENT
BEGIN:VEVENT
DTSTART;TZID=Europe/San_Marino:20181228T211500
DTEND;TZID=Europe/San_Marino:20181228T233000
DTSTAMP:20260421T140305
CREATED:20181221T224817Z
LAST-MODIFIED:20181221T224817Z
UID:8929-1546031700-1546039800@ioamomontecampione.it
SUMMARY:Al Cinema di Montecampione: Se son Rose
DESCRIPTION:“Se son rose” è una commedia diretta da Leonardo Pieraccioni\, che dopo “Il professor Cenerentolo” (2015)\, torna dietro e davanti alla macchina da presa\, per dirigere e interpretare la storia di Leonardo Giustini\, un giornalista che si occupa di tecnologia e innovazione per il web.
URL:https://ioamomontecampione.it/event/al-cinema-di-montecampione-se-son-rose/
LOCATION:Cinema di Montecampione\, Via Pradosole di Montecampione 36\, Artogne\, 25040\, Italia
ORGANIZER;CN="Consorzio Montecampione":MAILTO:info@consorziomontecampione.it
END:VEVENT
END:VCALENDAR