BEGIN:VCALENDAR
VERSION:2.0
PRODID:-//I ♥ MONTECAMPIONE - ECPv6.15.20//NONSGML v1.0//EN
CALSCALE:GREGORIAN
METHOD:PUBLISH
X-WR-CALNAME:I ♥ MONTECAMPIONE
X-ORIGINAL-URL:https://ioamomontecampione.it
X-WR-CALDESC:Eventi per I ♥ MONTECAMPIONE
REFRESH-INTERVAL;VALUE=DURATION:PT1H
X-Robots-Tag:noindex
X-PUBLISHED-TTL:PT1H
BEGIN:VTIMEZONE
TZID:Europe/San_Marino
BEGIN:DAYLIGHT
TZOFFSETFROM:+0100
TZOFFSETTO:+0200
TZNAME:CEST
DTSTART:20170326T010000
END:DAYLIGHT
BEGIN:STANDARD
TZOFFSETFROM:+0200
TZOFFSETTO:+0100
TZNAME:CET
DTSTART:20171029T010000
END:STANDARD
BEGIN:DAYLIGHT
TZOFFSETFROM:+0100
TZOFFSETTO:+0200
TZNAME:CEST
DTSTART:20180325T010000
END:DAYLIGHT
BEGIN:STANDARD
TZOFFSETFROM:+0200
TZOFFSETTO:+0100
TZNAME:CET
DTSTART:20181028T010000
END:STANDARD
BEGIN:DAYLIGHT
TZOFFSETFROM:+0100
TZOFFSETTO:+0200
TZNAME:CEST
DTSTART:20190331T010000
END:DAYLIGHT
BEGIN:STANDARD
TZOFFSETFROM:+0200
TZOFFSETTO:+0100
TZNAME:CET
DTSTART:20191027T010000
END:STANDARD
BEGIN:DAYLIGHT
TZOFFSETFROM:+0100
TZOFFSETTO:+0200
TZNAME:CEST
DTSTART:20200329T010000
END:DAYLIGHT
BEGIN:STANDARD
TZOFFSETFROM:+0200
TZOFFSETTO:+0100
TZNAME:CET
DTSTART:20201025T010000
END:STANDARD
BEGIN:DAYLIGHT
TZOFFSETFROM:+0100
TZOFFSETTO:+0200
TZNAME:CEST
DTSTART:20210328T010000
END:DAYLIGHT
BEGIN:STANDARD
TZOFFSETFROM:+0200
TZOFFSETTO:+0100
TZNAME:CET
DTSTART:20211031T010000
END:STANDARD
END:VTIMEZONE
BEGIN:VTIMEZONE
TZID:Europe/Rome
BEGIN:DAYLIGHT
TZOFFSETFROM:+0100
TZOFFSETTO:+0200
TZNAME:CEST
DTSTART:20170326T010000
END:DAYLIGHT
BEGIN:STANDARD
TZOFFSETFROM:+0200
TZOFFSETTO:+0100
TZNAME:CET
DTSTART:20171029T010000
END:STANDARD
BEGIN:DAYLIGHT
TZOFFSETFROM:+0100
TZOFFSETTO:+0200
TZNAME:CEST
DTSTART:20180325T010000
END:DAYLIGHT
BEGIN:STANDARD
TZOFFSETFROM:+0200
TZOFFSETTO:+0100
TZNAME:CET
DTSTART:20181028T010000
END:STANDARD
BEGIN:DAYLIGHT
TZOFFSETFROM:+0100
TZOFFSETTO:+0200
TZNAME:CEST
DTSTART:20190331T010000
END:DAYLIGHT
BEGIN:STANDARD
TZOFFSETFROM:+0200
TZOFFSETTO:+0100
TZNAME:CET
DTSTART:20191027T010000
END:STANDARD
END:VTIMEZONE
BEGIN:VEVENT
DTSTART;TZID=Europe/San_Marino:20200809T213000
DTEND;TZID=Europe/San_Marino:20200809T233000
DTSTAMP:20260422T170504
CREATED:20200805T081014Z
LAST-MODIFIED:20200809T200046Z
UID:18718-1597008600-1597015800@ioamomontecampione.it
SUMMARY:Radio Enjoy trasmette da Montecampione (ed in diretta facebook): AnimaMonte con Delia ed Olivo Filippi e Federico Mattiacci
DESCRIPTION:A partire dalle 21.30 di domenica 9 agosto 2020\, in diretta\, potrete: \n– vedere ed ascoltare (senza la parte musicale) dalla pagina facebook di Radio Enjoy official \n\nil Direttore responsabile di AnimaMonte\, Olivo Filippi\nla Responsabile del Miniclub\, Delia Filippi\nil Responsabile della Animazione Sportiva per ragazzi\, Federico Mattiacci\n\n\noppure \n– ascoltare la trasmissione e la musica che avrete richiesto via whatsapp entro sabato al 392 153 4732 dal sito di Radio Enjoy (dopo le ore 21.30 aggiornate la pagina e non appena appare “SciVolando – Ep 31” cliccate sulla freccia sotto il logo a sinistra) \nAscolta “SciVolando – Ep 31 – AnimaMonte con Olivo e Delia Filippi e Federico Mattiacci” su Spreaker. \nSciVolando è un programma di musica a richiesta con notizie\, risultati\, classifiche ed approfondimenti dal mondo dello sport.
URL:https://ioamomontecampione.it/event/radio-enjoy-trasmette-da-montecampione-ed-in-diretta-facebook-animamonte-con-delia-ed-olivo-filippi-e-federico-mattiacci/
LOCATION:Casa propria (causa covid -19)\, Italia
END:VEVENT
BEGIN:VEVENT
DTSTART;TZID=Europe/San_Marino:20200720T090000
DTEND;TZID=Europe/San_Marino:20200725T173000
DTSTAMP:20260422T170504
CREATED:20200720T064751Z
LAST-MODIFIED:20200720T064751Z
UID:18598-1595235600-1595698200@ioamomontecampione.it
SUMMARY:Programma Settimanale AnimaMonte per i ragazzi e per i giovanissimi Consorziati di Montecampione ed i loro amici
DESCRIPTION:
URL:https://ioamomontecampione.it/event/programma-settimanale-animamonte-per-i-ragazzi-e-per-i-giovanissimi-consorziati-di-montecampione-ed-i-loro-amici-20/
END:VEVENT
BEGIN:VEVENT
DTSTART;TZID=Europe/San_Marino:20200713T090000
DTEND;TZID=Europe/San_Marino:20200718T173000
DTSTAMP:20260422T170504
CREATED:20200710T061452Z
LAST-MODIFIED:20200710T061452Z
UID:18322-1594630800-1595093400@ioamomontecampione.it
SUMMARY:Programma Settimanale AnimaMonte per i ragazzi e per i giovanissimi Consorziati di Montecampione ed i loro amici
DESCRIPTION: 
URL:https://ioamomontecampione.it/event/programma-settimanale-animamonte-per-i-ragazzi-e-per-i-giovanissimi-consorziati-di-montecampione-ed-i-loro-amici-19/
LOCATION:Consorzio Montecampione\, Via Panoramica di Montecampione 61\, Pian Camuno\, 25050\, Italia
ORGANIZER;CN="Animamonte":MAILTO:info@consorziomontecampione.it
END:VEVENT
BEGIN:VEVENT
DTSTART;TZID=Europe/San_Marino:20200706T093000
DTEND;TZID=Europe/San_Marino:20200711T173000
DTSTAMP:20260422T170504
CREATED:20200629T141623Z
LAST-MODIFIED:20200629T141623Z
UID:18114-1594027800-1594488600@ioamomontecampione.it
SUMMARY:Programma Settimanale AnimaMonte per i ragazzi e per i giovanissimi Consorziati di Montecampione ed i loro amici
DESCRIPTION:
URL:https://ioamomontecampione.it/event/programma-settimanale-animamonte-per-i-ragazzi-e-per-i-giovanissimi-consorziati-di-montecampione-ed-i-loro-amici-18/
END:VEVENT
BEGIN:VEVENT
DTSTART;TZID=Europe/San_Marino:20200701T093000
DTEND;TZID=Europe/San_Marino:20200704T173000
DTSTAMP:20260422T170504
CREATED:20200629T141004Z
LAST-MODIFIED:20200629T141004Z
UID:18112-1593595800-1593883800@ioamomontecampione.it
SUMMARY:Programma Settimanale AnimaMonte per i ragazzi e per i giovanissimi Consorziati di Montecampione ed i loro amici
DESCRIPTION:
URL:https://ioamomontecampione.it/event/programma-settimanale-animamonte-per-i-ragazzi-e-per-i-giovanissimi-consorziati-di-montecampione-ed-i-loro-amici-17/
LOCATION:Consorzio Montecampione\, Via Panoramica di Montecampione 61\, Pian Camuno\, 25050\, Italia
ORGANIZER;CN="Consorzio Montecampione":MAILTO:info@consorziomontecampione.it
END:VEVENT
BEGIN:VEVENT
DTSTART;TZID=Europe/San_Marino:20190826T083000
DTEND;TZID=Europe/San_Marino:20190831T183000
DTSTAMP:20260422T170504
CREATED:20190824T064214Z
LAST-MODIFIED:20190824T064225Z
UID:13361-1566808200-1567276200@ioamomontecampione.it
SUMMARY:Programma Settimanale AnimaMonte per i ragazzi e per i giovanissimi Consorziati di Montecampione ed i loro amici
DESCRIPTION:
URL:https://ioamomontecampione.it/event/programma-settimanale-animamonte-per-i-ragazzi-e-per-i-giovanissimi-consorziati-di-montecampione-ed-i-loro-amici-16/
LOCATION:Consorzio Montecampione\, Via Panoramica di Montecampione 61\, Pian Camuno\, 25050\, Italia
ORGANIZER;CN="Animamonte":MAILTO:info@consorziomontecampione.it
END:VEVENT
BEGIN:VEVENT
DTSTART;TZID=Europe/San_Marino:20190819T083000
DTEND;TZID=Europe/San_Marino:20190824T183000
DTSTAMP:20260422T170504
CREATED:20190824T063912Z
LAST-MODIFIED:20190824T064409Z
UID:13357-1566203400-1566671400@ioamomontecampione.it
SUMMARY:Programma Settimanale AnimaMonte per i ragazzi e per i giovanissimi Consorziati di Montecampione ed i loro amici
DESCRIPTION:
URL:https://ioamomontecampione.it/event/programma-settimanale-animamonte-per-i-ragazzi-e-per-i-giovanissimi-consorziati-di-montecampione-ed-i-loro-amici-15/
LOCATION:Consorzio Montecampione\, Via Panoramica di Montecampione 61\, Pian Camuno\, 25050\, Italia
ORGANIZER;CN="Animamonte":MAILTO:info@consorziomontecampione.it
END:VEVENT
BEGIN:VEVENT
DTSTART;TZID=Europe/San_Marino:20190812T083000
DTEND;TZID=Europe/San_Marino:20190817T183000
DTSTAMP:20260422T170504
CREATED:20190812T055505Z
LAST-MODIFIED:20190812T055505Z
UID:13199-1565598600-1566066600@ioamomontecampione.it
SUMMARY:Programma Settimanale AnimaMonte per i ragazzi e per i giovanissimi Consorziati di Montecampione ed i loro amici
DESCRIPTION:
URL:https://ioamomontecampione.it/event/programma-settimanale-animamonte-per-i-ragazzi-e-per-i-giovanissimi-consorziati-di-montecampione-ed-i-loro-amici-14/
LOCATION:Consorzio Montecampione\, Via Panoramica di Montecampione 61\, Pian Camuno\, 25050\, Italia
ORGANIZER;CN="Animamonte":MAILTO:info@consorziomontecampione.it
END:VEVENT
BEGIN:VEVENT
DTSTART;TZID=Europe/San_Marino:20190805T200000
DTEND;TZID=Europe/San_Marino:20190805T223000
DTSTAMP:20260422T170504
CREATED:20190721T182131Z
LAST-MODIFIED:20190721T183227Z
UID:12807-1565035200-1565044200@ioamomontecampione.it
SUMMARY:Animamonte organizza una Cena con Delitto presso la Pizzeria Valgrande!
DESCRIPTION:
URL:https://ioamomontecampione.it/event/animamonte-organizza-una-cena-con-delitto-presso-la-pizzeria-valgrande/
LOCATION:Ristorante Pizzeria Valgrande\, Via Plan di Montecampione 58\, Artogne\, 25040\, Italia
ORGANIZER;CN="Consorzio Montecampione":MAILTO:info@consorziomontecampione.it
END:VEVENT
BEGIN:VEVENT
DTSTART;TZID=Europe/San_Marino:20190805T083000
DTEND;TZID=Europe/San_Marino:20190810T183000
DTSTAMP:20260422T170504
CREATED:20190808T172229Z
LAST-MODIFIED:20190808T172229Z
UID:13079-1564993800-1565461800@ioamomontecampione.it
SUMMARY:Programma Settimanale AnimaMonte per i ragazzi e per i giovanissimi Consorziati di Montecampione ed i loro amici
DESCRIPTION:
URL:https://ioamomontecampione.it/event/programma-settimanale-animamonte-per-i-ragazzi-e-per-i-giovanissimi-consorziati-di-montecampione-ed-i-loro-amici-13/
LOCATION:Consorzio Montecampione\, Via Panoramica di Montecampione 61\, Pian Camuno\, 25050\, Italia
ORGANIZER;CN="Animamonte":MAILTO:info@consorziomontecampione.it
END:VEVENT
BEGIN:VEVENT
DTSTART;TZID=Europe/San_Marino:20190729T083000
DTEND;TZID=Europe/San_Marino:20190804T183000
DTSTAMP:20260422T170504
CREATED:20190728T205316Z
LAST-MODIFIED:20190728T205316Z
UID:12896-1564389000-1564943400@ioamomontecampione.it
SUMMARY:Programma Settimanale AnimaMonte per i ragazzi e per i giovanissimi Consorziati di Montecampione ed i loro amici
DESCRIPTION:
URL:https://ioamomontecampione.it/event/programma-settimanale-animamonte-per-i-ragazzi-e-per-i-giovanissimi-consorziati-di-montecampione-ed-i-loro-amici-12/
LOCATION:Consorzio Montecampione\, Via Panoramica di Montecampione 61\, Pian Camuno\, 25050\, Italia
ORGANIZER;CN="Animamonte":MAILTO:info@consorziomontecampione.it
END:VEVENT
BEGIN:VEVENT
DTSTART;TZID=Europe/San_Marino:20190726T210000
DTEND;TZID=Europe/San_Marino:20190726T230000
DTSTAMP:20260422T170504
CREATED:20190719T140839Z
LAST-MODIFIED:20190719T140839Z
UID:12799-1564174800-1564182000@ioamomontecampione.it
SUMMARY:Il Caos di Mezzanotte\, spettacolo teatrale al Cinema organizzato da Animamonte
DESCRIPTION:
URL:https://ioamomontecampione.it/event/il-caos-di-mezzanotte-spettacolo-teatrale-al-cinema-organizzato-da-animamonte/
LOCATION:Cinema di Montecampione\, Via Pradosole di Montecampione 36\, Artogne\, 25040\, Italia
ORGANIZER;CN="Animamonte":MAILTO:info@consorziomontecampione.it
END:VEVENT
BEGIN:VEVENT
DTSTART;TZID=Europe/San_Marino:20190725T210000
DTEND;TZID=Europe/San_Marino:20190725T230000
DTSTAMP:20260422T170504
CREATED:20190719T140638Z
LAST-MODIFIED:20190719T140638Z
UID:12797-1564088400-1564095600@ioamomontecampione.it
SUMMARY:"Fai la corte"\, spettacolo Teatrale al Cinema organizzato da Animamonte
DESCRIPTION:
URL:https://ioamomontecampione.it/event/fai-la-corte-spettacolo-teatrale-al-cinema-organizzato-da-animamonte/
LOCATION:Cinema di Montecampione\, Via Pradosole di Montecampione 36\, Artogne\, 25040\, Italia
ORGANIZER;CN="Animamonte":MAILTO:info@consorziomontecampione.it
END:VEVENT
BEGIN:VEVENT
DTSTART;TZID=Europe/San_Marino:20190722T093000
DTEND;TZID=Europe/San_Marino:20190722T173000
DTSTAMP:20260422T170504
CREATED:20190722T080755Z
LAST-MODIFIED:20190722T080755Z
UID:12816-1563787800-1563816600@ioamomontecampione.it
SUMMARY:Programma Settimanale AnimaMonte per i ragazzi e per i giovanissimi Consorziati di Montecampione ed i loro amici
DESCRIPTION:
URL:https://ioamomontecampione.it/event/programma-settimanale-animamonte-per-i-ragazzi-e-per-i-giovanissimi-consorziati-di-montecampione-ed-i-loro-amici-11/
END:VEVENT
BEGIN:VEVENT
DTSTART;TZID=Europe/San_Marino:20190715T093000
DTEND;TZID=Europe/San_Marino:20190720T173000
DTSTAMP:20260422T170504
CREATED:20190713T172005Z
LAST-MODIFIED:20190713T172005Z
UID:12664-1563183000-1563643800@ioamomontecampione.it
SUMMARY:Programma Settimanale AnimaMonte per i ragazzi e per i giovanissimi Consorziati di Montecampione ed i loro amici
DESCRIPTION:ATTENZIONE per il laboratorio di cucina di mercoledì 17 luglio PREISCRIZIONE OBBLIGATORIA. Non sarà possibile svolgere l’attività senza essersi pre-iscritti.
URL:https://ioamomontecampione.it/event/programma-settimanale-animamonte-per-i-ragazzi-e-per-i-giovanissimi-consorziati-di-montecampione-ed-i-loro-amici-10/
LOCATION:Consorzio Montecampione\, Via Panoramica di Montecampione 61\, Pian Camuno\, 25050\, Italia
ORGANIZER;CN="Animamonte":MAILTO:info@consorziomontecampione.it
END:VEVENT
BEGIN:VEVENT
DTSTART;TZID=Europe/San_Marino:20190708T093000
DTEND;TZID=Europe/San_Marino:20190713T173000
DTSTAMP:20260422T170504
CREATED:20190708T084244Z
LAST-MODIFIED:20190708T084244Z
UID:12504-1562578200-1563039000@ioamomontecampione.it
SUMMARY:Programma Settimanale AnimaMonte per i ragazzi e per i giovanissimi Consorziati di Montecampione ed i loro amici
DESCRIPTION:
URL:https://ioamomontecampione.it/event/programma-settimanale-animamonte-per-i-ragazzi-e-per-i-giovanissimi-consorziati-di-montecampione-ed-i-loro-amici-9/
LOCATION:Consorzio Montecampione\, Via Panoramica di Montecampione 61\, Pian Camuno\, 25050\, Italia
ORGANIZER;CN="Animamonte":MAILTO:info@consorziomontecampione.it
END:VEVENT
BEGIN:VEVENT
DTSTART;TZID=Europe/San_Marino:20190701T093000
DTEND;TZID=Europe/San_Marino:20190706T173000
DTSTAMP:20260422T170504
CREATED:20190701T160553Z
LAST-MODIFIED:20190708T084130Z
UID:12378-1561973400-1562434200@ioamomontecampione.it
SUMMARY:Programma Settimanale AnimaMonte per i ragazzi e per i giovanissimi Consorziati di Montecampione ed i loro amici
DESCRIPTION:
URL:https://ioamomontecampione.it/event/programma-settimanale-animamonte-per-i-ragazzi-e-per-i-giovanissimi-consorziati-di-montecampione-ed-i-loro-amici-8/
LOCATION:Consorzio Montecampione\, Via Panoramica di Montecampione 61\, Pian Camuno\, 25050\, Italia
ORGANIZER;CN="Animamonte":MAILTO:info@consorziomontecampione.it
END:VEVENT
BEGIN:VEVENT
DTSTART;TZID=Europe/San_Marino:20181124T203000
DTEND;TZID=Europe/San_Marino:20181124T230000
DTSTAMP:20260422T170504
CREATED:20181120T100538Z
LAST-MODIFIED:20181120T100632Z
UID:7805-1543091400-1543100400@ioamomontecampione.it
SUMMARY:Festival della Risata alla Sala Polifunzionale di Artogne con Delia Filippi di Animamonte!
DESCRIPTION:Gli Attori per caso di Delia Filippi\, che d’estate qui da noi è parte integrante dell’Animazione di Montecampione con suo fratello Olivo Filippi\, si esibiranno ad Artogne il 24 novembre. \nDivertimento assicurato!
URL:https://ioamomontecampione.it/event/festival-della-risata-alla-sala-polifunzionale-di-artogne-con-delia-filippi-di-animamonte/
LOCATION:Piazza Lorenzetti di Artogne\, Via Lorenzetti\, 25040\, 25040\, Italia
END:VEVENT
BEGIN:VEVENT
DTSTART;TZID=Europe/Rome:20180827T093000
DTEND;TZID=Europe/Rome:20180831T173000
DTSTAMP:20260422T170504
CREATED:20180826T180631Z
LAST-MODIFIED:20180826T180829Z
UID:5038-1535362200-1535736600@ioamomontecampione.it
SUMMARY:Programma Settimanale AnimaMonte per i ragazzi e per i giovanissimi Consorziati di Montecampione ed i loro amici
DESCRIPTION:
URL:https://ioamomontecampione.it/event/programma-settimanale-animamonte-per-i-ragazzi-e-per-i-giovanissimi-consorziati-di-montecampione-ed-i-loro-amici-7/
LOCATION:Consorzio Montecampione\, Via Panoramica di Montecampione 61\, Pian Camuno\, 25050\, Italia
ORGANIZER;CN="Animamonte":MAILTO:info@consorziomontecampione.it
END:VEVENT
BEGIN:VEVENT
DTSTART;TZID=Europe/Rome:20180820T093000
DTEND;TZID=Europe/Rome:20180825T173000
DTSTAMP:20260422T170504
CREATED:20180818T103141Z
LAST-MODIFIED:20180818T103141Z
UID:4682-1534757400-1535218200@ioamomontecampione.it
SUMMARY:Programma Settimanale AnimaMonte per i ragazzi e per i giovanissimi Consorziati di Montecampione ed i loro amici
DESCRIPTION:
URL:https://ioamomontecampione.it/event/programma-settimanale-animamonte-per-i-ragazzi-e-per-i-giovanissimi-consorziati-di-montecampione-ed-i-loro-amici-6/
LOCATION:Consorzio Montecampione\, Via Panoramica di Montecampione 61\, Pian Camuno\, 25050\, Italia
ORGANIZER;CN="Animamonte":MAILTO:info@consorziomontecampione.it
END:VEVENT
BEGIN:VEVENT
DTSTART;TZID=Europe/Rome:20180812T083000
DTEND;TZID=Europe/Rome:20180812T153000
DTSTAMP:20260422T170504
CREATED:20180810T102411Z
LAST-MODIFIED:20181120T094840Z
UID:4375-1534062600-1534087800@ioamomontecampione.it
SUMMARY:Escursione in Bassinale di Montecampione aperta a tutti (recupero della gita rinviata il 21 luglio)
DESCRIPTION:
URL:https://ioamomontecampione.it/event/escursione-in-bassinale-di-montecampione-aperta-a-tutti-recupero-della-gita-rinviata-il-21-luglio/
LOCATION:Plan di Montecampione\, Via Plan di Montecampione\, Artogne\, 25040\, Italia
ORGANIZER;CN="Pro Loco Artogne":MAILTO:proloco.artogne@outlook.it
END:VEVENT
BEGIN:VEVENT
DTSTART;TZID=Europe/Rome:20180812T080000
DTEND;TZID=Europe/Rome:20180818T180000
DTSTAMP:20260422T170504
CREATED:20180810T222341Z
LAST-MODIFIED:20180810T222421Z
UID:4444-1534060800-1534615200@ioamomontecampione.it
SUMMARY:Programma Settimanale AnimaMonte per i ragazzi e per i giovanissimi Consorziati di Montecampione ed i loro amici
DESCRIPTION:
URL:https://ioamomontecampione.it/event/programma-settimanale-animamonte-per-i-ragazzi-e-per-i-giovanissimi-consorziati-di-montecampione-ed-i-loro-amici-5/
LOCATION:Consorzio Montecampione\, Via Panoramica di Montecampione 61\, Pian Camuno\, 25050\, Italia
ORGANIZER;CN="Animamonte":MAILTO:info@consorziomontecampione.it
END:VEVENT
BEGIN:VEVENT
DTSTART;TZID=Europe/Rome:20180806T080000
DTEND;TZID=Europe/Rome:20180811T173000
DTSTAMP:20260422T170504
CREATED:20180805T081100Z
LAST-MODIFIED:20180805T081100Z
UID:4042-1533542400-1534008600@ioamomontecampione.it
SUMMARY:Programma Settimanale AnimaMonte per i ragazzi e per i giovanissimi Consorziati di Montecampione ed i loro amici
DESCRIPTION:
URL:https://ioamomontecampione.it/event/programma-settimanale-animamonte-per-i-ragazzi-e-per-i-giovanissimi-consorziati-di-montecampione-ed-i-loro-amici-4/
LOCATION:Consorzio Montecampione\, Via Panoramica di Montecampione 61\, Pian Camuno\, 25050\, Italia
ORGANIZER;CN="Animamonte":MAILTO:info@consorziomontecampione.it
END:VEVENT
BEGIN:VEVENT
DTSTART;TZID=Europe/Rome:20180801T200000
DTEND;TZID=Europe/Rome:20180802T003000
DTSTAMP:20260422T170504
CREATED:20180721T180854Z
LAST-MODIFIED:20180721T180854Z
UID:3636-1533153600-1533169800@ioamomontecampione.it
SUMMARY:In Pizzeria Valgrande CENA CON DELITTO!!!
DESCRIPTION:
URL:https://ioamomontecampione.it/event/in-pizzeria-valgrande-cena-con-delitto/
LOCATION:Ristorante Pizzeria Valgrande\, Via Plan di Montecampione 58\, Artogne\, 25040\, Italia
ORGANIZER;CN="Animamonte":MAILTO:info@consorziomontecampione.it
END:VEVENT
BEGIN:VEVENT
DTSTART;TZID=Europe/Rome:20180730T080000
DTEND;TZID=Europe/Rome:20180804T173000
DTSTAMP:20260422T170504
CREATED:20180729T054338Z
LAST-MODIFIED:20180729T054338Z
UID:3886-1532937600-1533403800@ioamomontecampione.it
SUMMARY:Programma Settimanale AnimaMonte per i ragazzi e per i giovanissimi Consorziati di Montecampione ed i loro amici
DESCRIPTION:
URL:https://ioamomontecampione.it/event/programma-settimanale-animamonte-per-i-ragazzi-e-per-i-giovanissimi-consorziati-di-montecampione-ed-i-loro-amici-3/
LOCATION:Consorzio Montecampione\, Via Panoramica di Montecampione 61\, Pian Camuno\, 25050\, Italia
ORGANIZER;CN="Animamonte":MAILTO:info@consorziomontecampione.it
END:VEVENT
BEGIN:VEVENT
DTSTART;TZID=Europe/Rome:20180723T080000
DTEND;TZID=Europe/Rome:20180728T180000
DTSTAMP:20260422T170504
CREATED:20180720T114952Z
LAST-MODIFIED:20180720T114952Z
UID:3593-1532332800-1532800800@ioamomontecampione.it
SUMMARY:Programma Settimanale AnimaMonte per i ragazzi e per i giovanissimi Consorziati di Montecampione ed i loro amici
DESCRIPTION:
URL:https://ioamomontecampione.it/event/programma-settimanale-animamonte-per-i-ragazzi-e-per-i-giovanissimi-consorziati-di-montecampione-ed-i-loro-amici-2/
LOCATION:Consorzio Montecampione\, Via Panoramica di Montecampione 61\, Pian Camuno\, 25050\, Italia
ORGANIZER;CN="Animamonte":MAILTO:info@consorziomontecampione.it
END:VEVENT
BEGIN:VEVENT
DTSTART;TZID=Europe/Rome:20180721T082500
DTEND;TZID=Europe/Rome:20180721T160000
DTSTAMP:20260422T170504
CREATED:20180716T113016Z
LAST-MODIFIED:20180721T053808Z
UID:3527-1532161500-1532188800@ioamomontecampione.it
SUMMARY:RINVIATA per maltempo l'Escursione in Bassinale di Montecampione aperta a tutti (per chi parte dal Plan)
DESCRIPTION:
URL:https://ioamomontecampione.it/event/escursione-in-bassinale-di-montecampione-aperta-a-tutti-per-chi-parte-dal-plan/
LOCATION:Plan di Montecampione\, Via Plan di Montecampione\, Artogne\, 25040\, Italia
ORGANIZER;CN="Pro Loco Artogne":MAILTO:proloco.artogne@outlook.it
END:VEVENT
BEGIN:VEVENT
DTSTART;TZID=Europe/Rome:20180721T080000
DTEND;TZID=Europe/Rome:20180721T170000
DTSTAMP:20260422T170504
CREATED:20180716T073839Z
LAST-MODIFIED:20180721T053649Z
UID:3478-1532160000-1532192400@ioamomontecampione.it
SUMMARY:RINVIATA per maltempo\, l'Escursione in Bassinale di Montecampione aperta a tutti (per chi parte dalla Splaza)
DESCRIPTION:
URL:https://ioamomontecampione.it/event/escursione-in-bassinale-di-montecampione-aperta-a-tutti/
LOCATION:Residence La Splaza\, Via Legazzuolo di Montecampione\, Artogne\, 25040\, Italia
ORGANIZER;CN="Consorzio Montecampione":MAILTO:info@consorziomontecampione.it
END:VEVENT
BEGIN:VEVENT
DTSTART;TZID=Europe/Rome:20180715T080000
DTEND;TZID=Europe/Rome:20180721T170000
DTSTAMP:20260422T170504
CREATED:20180716T074533Z
LAST-MODIFIED:20180716T074533Z
UID:3481-1531641600-1532192400@ioamomontecampione.it
SUMMARY:Programma Settimanale AnimaMonte per i ragazzi e per i giovanissimi Consorziati di Montecampione ed i loro amici
DESCRIPTION:
URL:https://ioamomontecampione.it/event/programma-settimanale-animamonte-per-i-ragazzi-e-per-i-giovanissimi-consorziati-di-montecampione-ed-i-loro-amici/
LOCATION:Consorzio Montecampione\, Via Panoramica di Montecampione 61\, Pian Camuno\, 25050\, Italia
ORGANIZER;CN="Animamonte":MAILTO:info@consorziomontecampione.it
END:VEVENT
BEGIN:VEVENT
DTSTART;TZID=Europe/Rome:20180708T093000
DTEND;TZID=Europe/Rome:20180714T173000
DTSTAMP:20260422T170504
CREATED:20180708T083859Z
LAST-MODIFIED:20180712T144033Z
UID:3227-1531042200-1531589400@ioamomontecampione.it
SUMMARY:Programma Settimanale AnimaMonte per i ragazzi e per i giovanissimi Consorziati di Montecampione ed i loro amici
DESCRIPTION:Orario Miniclub: 9.30 – 12.00 e 14.30 – 17.30.\n\nAnimazione sportiva: 10.00 – 12.00 e 15.30 – 17.30.\n\n\n\nIl Miniclub necessità di un iscrizione gratuita. \n\nAnimazione sportiva basta presentarsi.\n\n\n\n\n\n\nOgni settimana un programma che prevede anche una passeggiata.\n\nE’ sempre meglio tenere d’occhio la pagina apposita su facebook Animamonte 2018 per vedere le possibili variazioni o integrazioni del programma sopra esposto.\n\nBuon divertimento!
URL:https://ioamomontecampione.it/event/programma-animamonte-per-i-ragazzi-e-per-i-giovanissimi-consorziati-di-montecampione-ed-i-loro-amici/
LOCATION:Consorzio Montecampione\, Via Panoramica di Montecampione 61\, Pian Camuno\, 25050\, Italia
ORGANIZER;CN="Consorzio Montecampione":MAILTO:info@consorziomontecampione.it
END:VEVENT
END:VCALENDAR