BEGIN:VCALENDAR
VERSION:2.0
PRODID:-//I ♥ MONTECAMPIONE - ECPv6.15.20//NONSGML v1.0//EN
CALSCALE:GREGORIAN
METHOD:PUBLISH
X-ORIGINAL-URL:https://ioamomontecampione.it
X-WR-CALDESC:Eventi per I ♥ MONTECAMPIONE
REFRESH-INTERVAL;VALUE=DURATION:PT1H
X-Robots-Tag:noindex
X-PUBLISHED-TTL:PT1H
BEGIN:VTIMEZONE
TZID:Europe/San_Marino
BEGIN:DAYLIGHT
TZOFFSETFROM:+0100
TZOFFSETTO:+0200
TZNAME:CEST
DTSTART:20170326T010000
END:DAYLIGHT
BEGIN:STANDARD
TZOFFSETFROM:+0200
TZOFFSETTO:+0100
TZNAME:CET
DTSTART:20171029T010000
END:STANDARD
BEGIN:DAYLIGHT
TZOFFSETFROM:+0100
TZOFFSETTO:+0200
TZNAME:CEST
DTSTART:20180325T010000
END:DAYLIGHT
BEGIN:STANDARD
TZOFFSETFROM:+0200
TZOFFSETTO:+0100
TZNAME:CET
DTSTART:20181028T010000
END:STANDARD
BEGIN:DAYLIGHT
TZOFFSETFROM:+0100
TZOFFSETTO:+0200
TZNAME:CEST
DTSTART:20190331T010000
END:DAYLIGHT
BEGIN:STANDARD
TZOFFSETFROM:+0200
TZOFFSETTO:+0100
TZNAME:CET
DTSTART:20191027T010000
END:STANDARD
BEGIN:DAYLIGHT
TZOFFSETFROM:+0100
TZOFFSETTO:+0200
TZNAME:CEST
DTSTART:20200329T010000
END:DAYLIGHT
BEGIN:STANDARD
TZOFFSETFROM:+0200
TZOFFSETTO:+0100
TZNAME:CET
DTSTART:20201025T010000
END:STANDARD
BEGIN:DAYLIGHT
TZOFFSETFROM:+0100
TZOFFSETTO:+0200
TZNAME:CEST
DTSTART:20210328T010000
END:DAYLIGHT
BEGIN:STANDARD
TZOFFSETFROM:+0200
TZOFFSETTO:+0100
TZNAME:CET
DTSTART:20211031T010000
END:STANDARD
END:VTIMEZONE
BEGIN:VTIMEZONE
TZID:Europe/Rome
BEGIN:DAYLIGHT
TZOFFSETFROM:+0100
TZOFFSETTO:+0200
TZNAME:CEST
DTSTART:20170326T010000
END:DAYLIGHT
BEGIN:STANDARD
TZOFFSETFROM:+0200
TZOFFSETTO:+0100
TZNAME:CET
DTSTART:20171029T010000
END:STANDARD
BEGIN:DAYLIGHT
TZOFFSETFROM:+0100
TZOFFSETTO:+0200
TZNAME:CEST
DTSTART:20180325T010000
END:DAYLIGHT
BEGIN:STANDARD
TZOFFSETFROM:+0200
TZOFFSETTO:+0100
TZNAME:CET
DTSTART:20181028T010000
END:STANDARD
BEGIN:DAYLIGHT
TZOFFSETFROM:+0100
TZOFFSETTO:+0200
TZNAME:CEST
DTSTART:20190331T010000
END:DAYLIGHT
BEGIN:STANDARD
TZOFFSETFROM:+0200
TZOFFSETTO:+0100
TZNAME:CET
DTSTART:20191027T010000
END:STANDARD
END:VTIMEZONE
BEGIN:VEVENT
DTSTART;TZID=Europe/San_Marino:20200718T110000
DTEND;TZID=Europe/San_Marino:20200718T120000
DTSTAMP:20260423T200017
CREATED:20200717T180212Z
LAST-MODIFIED:20200717T180310Z
UID:18543-1595070000-1595073600@ioamomontecampione.it
SUMMARY:Consorzio Montecampione - Inaugurazione della nuova stazione di ricarica per auto elettriche
DESCRIPTION:Buongiorno\,\nsabato 18 luglio\, al Laghetto di Montecampione\, in presenza del Sindaco di Pian Camuno Giorgio Ramazzini\, dell’assessore all’ambiente Gianpietro Bianchi e del Presidente del Consorzio Paolo Birnbaum\, si terrà verso le ore 11.00\, l’inaugurazione della nuova stazione di ricarica per auto elettriche\, utilizzabile anche come punto di raccolta del servizio Car Sharing.\nIl servizio\, attivabile tramite l’apposita App per smartphone\, si appoggia a diverse stazioni di ricarica: si ricordano in particolare quelle di Pian Camuno – Stazione Ferroviaria\, Pian Camuno – Municipio e Montecampione – Laghetto. Per l’evento saranno utilizzate le auto elettriche Renault Zoe.\nAncora una volta si evidenzia l’importanza della cooperazione tra Consorzio ed Enti pubblici\, vera chiave per il rilancio di Montecampione a cui stiamo assistendo. La partecipazione all’evento è libera\, sempre nel rispetto delle norme di distanziamento sociale; saranno presenti vari emittenti TV e media. \nUn cordiale saluto. \nUfficio Stampa del Consorzio Montecampione\nvia Panoramica 61 – 25050 Pian Camuno (BS) \ntel. 0364/560188 – fax 560948 \nweb: www.consorziomontecampione.it\nmail: ufficiostampa@consorziomontecampione.it
URL:https://ioamomontecampione.it/event/consorzio-montecampione-inaugurazione-della-nuova-stazione-di-ricarica-per-auto-elettriche/
LOCATION:Bar Ristorante Il Laghetto Montecampione\, Via Panoramica di Montecampione\, Pian Camuno\, 25050\, Italia
ORGANIZER;CN="Consorzio Montecampione":MAILTO:info@consorziomontecampione.it
END:VEVENT
BEGIN:VEVENT
DTSTART;TZID=Europe/San_Marino:20200104T150000
DTEND;TZID=Europe/San_Marino:20200104T173000
DTSTAMP:20260423T200017
CREATED:20191125T092032Z
LAST-MODIFIED:20191219T095316Z
UID:14755-1578150000-1578159000@ioamomontecampione.it
SUMMARY:Assemblea Ordinaria del Consorzio Montecampione
DESCRIPTION:ASSEMBLEA DEL CONSORZIO MONTECAMPIONE \na norma dell’art. 12 dello Statuto Consortile viene convocata l’Assemblea\, in prima convocazione per le ore 7.00 del giorno 3 gennaio 2020 e\nin seconda convocazione \nSABATO 4 GENNAIO 2020 ALLE ORE 15.00 \npresso il Cinema Alpiaz in Montecampione con il seguente Ordine del Giorno: \n\n1 Introduzione;\n2 Relazione economico-finanziaria: informazione sui dati del bilancio consuntivo esercizio 2019 e presentazione bilancio preventivo 2020;\n3 Relazione Revisori dei Conti;\n4 Presentazione candidature per il Consiglio di Amministrazione ed il Revisore dei Conti per il triennio 2020-21-22;\n5 Discussione generale;\n6 Votazioni per l’elezione dei componenti del Consiglio di Amministrazione e del Revisore dei Conti per gli esercizi 2020-21-22; votazione bilancio consuntivo 2019 e preventivo 2020.\n\nIl Bilancio consuntivo anno 2019 sarà disponibile presso il Consorzio e pubblicato sul sito Internet dal giorno 20 dicembre. Per semplificare le operazioni di costituzione dell’Assemblea i seggi verranno aperti presso gli uffici del Consorzio\, nel condominio Portico\, dal giorno 29 dicembre. \nSi invita a prendere visione del Regolamento Elettorale approvato con delibera 130501PA ritirabile presso gli uffici del Consorzio o consultabile all’indirizzo Internet www.consorziomontecampione.it. \nConsiderata l’ampiezza e l’importanza degli argomenti posti all’O.d.G.\, è importante assicurare la propria presenza anche delegando un altro consorziato o famigliare di primo grado; sono ritenute valide solo le deleghe conferite firmando l’apposita delega in calce all’avviso di convocazione\, in conformità allo Statuto (Art. 12). \nSono ritenute valide anche le deleghe pervenute a mezzo fax e con posta elettronica\, giunte sia presso la sede del Consorzio (info@consorziomontecampione.it) che presso altri consorziati\, purché la lettera di convocazione sia compilata in ogni sua parte ed accompagnata dalla copia del documento di identità del delegante. \nSi raccomanda vivamente di partecipare o delegare
URL:https://ioamomontecampione.it/event/assemblea-ordinaria-del-consorzio-montecampione-2/
LOCATION:Cinema di Montecampione\, Via Pradosole di Montecampione 36\, Artogne\, 25040\, Italia
ORGANIZER;CN="Consorzio Montecampione":MAILTO:info@consorziomontecampione.it
END:VEVENT
BEGIN:VEVENT
DTSTART;TZID=Europe/San_Marino:20191207T170000
DTEND;TZID=Europe/San_Marino:20191207T183000
DTSTAMP:20260423T200017
CREATED:20191204T182737Z
LAST-MODIFIED:20191204T182737Z
UID:14953-1575738000-1575743400@ioamomontecampione.it
SUMMARY:Riunione Consultiva del Consorzio Montecampione
DESCRIPTION:Riunione consultiva con gli Amministratori del Consorzio.
URL:https://ioamomontecampione.it/event/riunione-consultiva-del-consorzio-montecampione/
LOCATION:Cinema di Montecampione\, Via Pradosole di Montecampione 36\, Artogne\, 25040\, Italia
ORGANIZER;CN="Consorzio Montecampione":MAILTO:info@consorziomontecampione.it
END:VEVENT
BEGIN:VEVENT
DTSTART;TZID=Europe/San_Marino:20191102T110000
DTEND;TZID=Europe/San_Marino:20191102T123000
DTSTAMP:20260423T200017
CREATED:20191015T142834Z
LAST-MODIFIED:20191030T091305Z
UID:14062-1572692400-1572697800@ioamomontecampione.it
SUMMARY:Riunione Consultiva Straordinaria del Consorzio Montecampione (con diretta su "Io vado a Montecampione")
DESCRIPTION:Riunione consultiva straordinaria per dare il quadro amministrativo corrente\, e per informare la residenza sull’attuale fase nella gestione territoriale e sugli odierni rapporti in essere con i comuni di Artogne e Pian Camuno. \nDiretta sul pagina Facebook del gruppo “Io vado a Montecampione” entro le 11.15 in un post dedicato.
URL:https://ioamomontecampione.it/event/assemblea-consultiva-del-consorzio-montecampione/
LOCATION:Cinema di Montecampione\, Via Pradosole di Montecampione 36\, Artogne\, 25040\, Italia
ORGANIZER;CN="Consorzio Montecampione":MAILTO:info@consorziomontecampione.it
END:VEVENT
BEGIN:VEVENT
DTSTART;TZID=Europe/San_Marino:20190105T150000
DTEND;TZID=Europe/San_Marino:20190105T173000
DTSTAMP:20260423T200017
CREATED:20181209T075747Z
LAST-MODIFIED:20181209T075747Z
UID:8522-1546700400-1546709400@ioamomontecampione.it
SUMMARY:Assemblea Ordinaria del Consorzio Montecampione
DESCRIPTION:Questo l’Ordine del Giorno: \n\nIntroduzione\nRelazione economico-finanziaria\nRelazione Revisori dei Conti\nDiscussione generale\nVotazione bilancio consultivo 2018 e preventivo 2019
URL:https://ioamomontecampione.it/event/assemblea-ordinaria-del-consorzio-montecampione/
LOCATION:Cinema di Montecampione\, Via Pradosole di Montecampione 36\, Artogne\, 25040\, Italia
ORGANIZER;CN="Consorzio Montecampione":MAILTO:info@consorziomontecampione.it
END:VEVENT
BEGIN:VEVENT
DTSTART;TZID=Europe/San_Marino:20181208T160000
DTEND;TZID=Europe/San_Marino:20181208T180000
DTSTAMP:20260423T200017
CREATED:20181126T141333Z
LAST-MODIFIED:20181209T075455Z
UID:8041-1544284800-1544292000@ioamomontecampione.it
SUMMARY:Riunione Consultiva del Consorzio Montecampione presso il Cinema
DESCRIPTION:Questi i principali argomenti che verranno trattati: \n\nrelazione al Bilancio Preventivo 2019 (con particolare attenzione alla voce ‘Rifiuti Solidi Urbani’);\nlavori sul territorio e gestione verde consortile anno 2018;\npresentazione del progetto nuovo sito www.consorziomontecampione.it.
URL:https://ioamomontecampione.it/event/riunione-consultiva-del-consorzio-montecampione-presso-il-cinema-2/
LOCATION:Cinema di Montecampione\, Via Pradosole di Montecampione 36\, Artogne\, 25040\, Italia
ORGANIZER;CN="Consorzio Montecampione":MAILTO:info@consorziomontecampione.it
END:VEVENT
BEGIN:VEVENT
DTSTART;TZID=Europe/Rome:20180908T111500
DTEND;TZID=Europe/Rome:20180908T123000
DTSTAMP:20260423T200017
CREATED:20180904T155538Z
LAST-MODIFIED:20180904T194245Z
UID:5269-1536405300-1536409800@ioamomontecampione.it
SUMMARY:Conferenza Stampa: Tari Montecampione (Comune di Artogne) al Cinema in Piazzetta
DESCRIPTION:
URL:https://ioamomontecampione.it/event/conferenza-stampa-tari-montecampione-comune-di-artogne-al-cinema-in-piazzetta/
LOCATION:Cinema di Montecampione\, Via Pradosole di Montecampione 36\, Artogne\, 25040\, Italia
ORGANIZER;CN="Consorzio Montecampione":MAILTO:info@consorziomontecampione.it
END:VEVENT
END:VCALENDAR