BEGIN:VCALENDAR
VERSION:2.0
PRODID:-//I ♥ MONTECAMPIONE - ECPv6.15.20//NONSGML v1.0//EN
CALSCALE:GREGORIAN
METHOD:PUBLISH
X-ORIGINAL-URL:https://ioamomontecampione.it
X-WR-CALDESC:Eventi per I ♥ MONTECAMPIONE
REFRESH-INTERVAL;VALUE=DURATION:PT1H
X-Robots-Tag:noindex
X-PUBLISHED-TTL:PT1H
BEGIN:VTIMEZONE
TZID:Europe/San_Marino
BEGIN:DAYLIGHT
TZOFFSETFROM:+0100
TZOFFSETTO:+0200
TZNAME:CEST
DTSTART:20180325T010000
END:DAYLIGHT
BEGIN:STANDARD
TZOFFSETFROM:+0200
TZOFFSETTO:+0100
TZNAME:CET
DTSTART:20181028T010000
END:STANDARD
BEGIN:DAYLIGHT
TZOFFSETFROM:+0100
TZOFFSETTO:+0200
TZNAME:CEST
DTSTART:20190331T010000
END:DAYLIGHT
BEGIN:STANDARD
TZOFFSETFROM:+0200
TZOFFSETTO:+0100
TZNAME:CET
DTSTART:20191027T010000
END:STANDARD
BEGIN:DAYLIGHT
TZOFFSETFROM:+0100
TZOFFSETTO:+0200
TZNAME:CEST
DTSTART:20200329T010000
END:DAYLIGHT
BEGIN:STANDARD
TZOFFSETFROM:+0200
TZOFFSETTO:+0100
TZNAME:CET
DTSTART:20201025T010000
END:STANDARD
END:VTIMEZONE
BEGIN:VTIMEZONE
TZID:Europe/Rome
BEGIN:DAYLIGHT
TZOFFSETFROM:+0100
TZOFFSETTO:+0200
TZNAME:CEST
DTSTART:20170326T010000
END:DAYLIGHT
BEGIN:STANDARD
TZOFFSETFROM:+0200
TZOFFSETTO:+0100
TZNAME:CET
DTSTART:20171029T010000
END:STANDARD
BEGIN:DAYLIGHT
TZOFFSETFROM:+0100
TZOFFSETTO:+0200
TZNAME:CEST
DTSTART:20180325T010000
END:DAYLIGHT
BEGIN:STANDARD
TZOFFSETFROM:+0200
TZOFFSETTO:+0100
TZNAME:CET
DTSTART:20181028T010000
END:STANDARD
BEGIN:DAYLIGHT
TZOFFSETFROM:+0100
TZOFFSETTO:+0200
TZNAME:CEST
DTSTART:20190331T010000
END:DAYLIGHT
BEGIN:STANDARD
TZOFFSETFROM:+0200
TZOFFSETTO:+0100
TZNAME:CET
DTSTART:20191027T010000
END:STANDARD
END:VTIMEZONE
BEGIN:VEVENT
DTSTART;TZID=Europe/San_Marino:20190818T090000
DTEND;TZID=Europe/San_Marino:20190818T170000
DTSTAMP:20260422T152619
CREATED:20190812T065125Z
LAST-MODIFIED:20190812T065221Z
UID:13217-1566118800-1566147600@ioamomontecampione.it
SUMMARY:A Montecampione la Giornata del Viver Montano
DESCRIPTION:
URL:https://ioamomontecampione.it/event/a-montecampione-la-giornata-del-viver-montano-2/
LOCATION:Residence La Splaza\, Via Legazzuolo di Montecampione\, Artogne\, 25040\, Italia
ORGANIZER;CN="Pro Loco Artogne":MAILTO:proloco.artogne@outlook.it
END:VEVENT
BEGIN:VEVENT
DTSTART;TZID=Europe/Rome:20180819T090000
DTEND;TZID=Europe/Rome:20180819T173000
DTSTAMP:20260422T152619
CREATED:20180720T204217Z
LAST-MODIFIED:20180720T204249Z
UID:3602-1534669200-1534699800@ioamomontecampione.it
SUMMARY:A Montecampione la Giornata del Viver Montano
DESCRIPTION:
URL:https://ioamomontecampione.it/event/a-montecampione-la-giornata-del-viver-montano/
LOCATION:Residence La Splaza\, Via Legazzuolo di Montecampione\, Artogne\, 25040\, Italia
ORGANIZER;CN="Pro Loco Artogne":MAILTO:proloco.artogne@outlook.it
END:VEVENT
BEGIN:VEVENT
DTSTART;TZID=Europe/Rome:20180729T150000
DTEND;TZID=Europe/Rome:20180729T163000
DTSTAMP:20260422T152619
CREATED:20180724T130646Z
LAST-MODIFIED:20180724T130706Z
UID:3742-1532876400-1532881800@ioamomontecampione.it
SUMMARY:Pecore\, Pascoli e Boschi al Rifugio Rosello di Montecampione
DESCRIPTION:
URL:https://ioamomontecampione.it/event/pecore-pascoli-e-boschi-al-rifugio-rosello-di-montecampione/
LOCATION:Rifugio Elena Tironi Rosello di Sopra\, Località Valgrigna\, Esine\, 25040\, Italia
END:VEVENT
END:VCALENDAR