BEGIN:VCALENDAR
VERSION:2.0
PRODID:-//I ♥ MONTECAMPIONE - ECPv6.15.20//NONSGML v1.0//EN
CALSCALE:GREGORIAN
METHOD:PUBLISH
X-WR-CALNAME:I ♥ MONTECAMPIONE
X-ORIGINAL-URL:https://ioamomontecampione.it
X-WR-CALDESC:Eventi per I ♥ MONTECAMPIONE
REFRESH-INTERVAL;VALUE=DURATION:PT1H
X-Robots-Tag:noindex
X-PUBLISHED-TTL:PT1H
BEGIN:VTIMEZONE
TZID:Europe/San_Marino
BEGIN:DAYLIGHT
TZOFFSETFROM:+0100
TZOFFSETTO:+0200
TZNAME:CEST
DTSTART:20180325T010000
END:DAYLIGHT
BEGIN:STANDARD
TZOFFSETFROM:+0200
TZOFFSETTO:+0100
TZNAME:CET
DTSTART:20181028T010000
END:STANDARD
BEGIN:DAYLIGHT
TZOFFSETFROM:+0100
TZOFFSETTO:+0200
TZNAME:CEST
DTSTART:20190331T010000
END:DAYLIGHT
BEGIN:STANDARD
TZOFFSETFROM:+0200
TZOFFSETTO:+0100
TZNAME:CET
DTSTART:20191027T010000
END:STANDARD
BEGIN:DAYLIGHT
TZOFFSETFROM:+0100
TZOFFSETTO:+0200
TZNAME:CEST
DTSTART:20200329T010000
END:DAYLIGHT
BEGIN:STANDARD
TZOFFSETFROM:+0200
TZOFFSETTO:+0100
TZNAME:CET
DTSTART:20201025T010000
END:STANDARD
BEGIN:DAYLIGHT
TZOFFSETFROM:+0100
TZOFFSETTO:+0200
TZNAME:CEST
DTSTART:20210328T010000
END:DAYLIGHT
BEGIN:STANDARD
TZOFFSETFROM:+0200
TZOFFSETTO:+0100
TZNAME:CET
DTSTART:20211031T010000
END:STANDARD
END:VTIMEZONE
BEGIN:VEVENT
DTSTART;TZID=Europe/San_Marino:20200725T163000
DTEND;TZID=Europe/San_Marino:20200725T235900
DTSTAMP:20260421T102623
CREATED:20200721T204224Z
LAST-MODIFIED:20200721T204224Z
UID:18628-1595694600-1595721540@ioamomontecampione.it
SUMMARY:Tattoo Henne al Faro di Montecampione
DESCRIPTION:
URL:https://ioamomontecampione.it/event/tattoo-henne-al-faro-di-montecampione/
LOCATION:Faro di Montecampione\, Via Legazzuolo di Montecampione\, Artogne\, 25040\, Italia
ORGANIZER;CN="Spazio Indomita":MAILTO:spazioindoita@gmail.com
END:VEVENT
BEGIN:VEVENT
DTSTART;TZID=Europe/San_Marino:20200426T220000
DTEND;TZID=Europe/San_Marino:20200427T003000
DTSTAMP:20260421T102623
CREATED:20200421T123948Z
LAST-MODIFIED:20200422T170054Z
UID:16932-1587938400-1587947400@ioamomontecampione.it
SUMMARY:Radio Enjoy trasmette da Montecampione (ed in diretta facebook) con le Sorelle Fanchini!
DESCRIPTION:Ascolterete: \n\nla musica che avrete richiesto\nElena e Nadia Fanchini in diretta\nnotizie sull’andamento delle aste a scopo benefico organizzate dal campione di regolarità Claudio Terruzzi.\nnotizie che vi faranno scoprire che il Braccio di ferro è uno sport con tanto di Campionati del Mondo e che l’Italia è campione in carica?\n\n\n\n  \nIn diretta su www.radioenjoy.net e su facebook* \nVuoi richiedere una canzone? \nInvia un messaggio whatsapp al +39 392 153 4732 entro sabato!!! \n\nSciVolando è un programma di musica a richiesta con notizie\, risultati\, classifiche dal mondo dello sport. \n* Link di riferimento anche da IO VADO A MONTECAMPIONE \n 
URL:https://ioamomontecampione.it/event/radio-enjoy-trasmette-da-montecampione-richiedi-il-tuo-brano-preferito-2/
LOCATION:Casa propria (causa covid -19)\, Italia
END:VEVENT
BEGIN:VEVENT
DTSTART;TZID=Europe/San_Marino:20200405T220000
DTEND;TZID=Europe/San_Marino:20200406T010000
DTSTAMP:20260421T102623
CREATED:20200402T173442Z
LAST-MODIFIED:20200402T173442Z
UID:16553-1586124000-1586134800@ioamomontecampione.it
SUMMARY:Per la 5a volta Radio Enjoy trasmette da Montecampione!!!
DESCRIPTION:In diretta su www.radioenjoy.net! \nVuoi richiedere una canzone? \nInvia un messaggio whatsapp al +39 392 153 4732 entro sabato!!!
URL:https://ioamomontecampione.it/event/per-la-5a-volta-radio-enjoy-trasmette-da-montecampione/
LOCATION:Residence La Splaza\, Via Legazzuolo di Montecampione\, Artogne\, 25040\, Italia
END:VEVENT
BEGIN:VEVENT
DTSTART;TZID=Europe/San_Marino:20200308T080000
DTEND;TZID=Europe/San_Marino:20200308T140000
DTSTAMP:20260421T102623
CREATED:20191125T085946Z
LAST-MODIFIED:20191125T090232Z
UID:14749-1583654400-1583676000@ioamomontecampione.it
SUMMARY:Campionato C.S.I. Vallecamonica – Lo Sci Club Rongai organizza la gara a Montecampione
DESCRIPTION:Per informazioni chiamate lo Sci Club Rongai al 3476415251 o vistate sciclurongai.com.
URL:https://ioamomontecampione.it/event/campionato-c-s-i-vallecamonica-lo-sci-club-rongai-organizza-la-gara-a-montecampione-2/
LOCATION:Montecampione Ski Area\, Via Legazzuolo di Montecampione\, Artogne\, 25040\, Italia
ORGANIZER;CN="Sci Club Rongai":MAILTO:stampa@sciclubrongai.com
END:VEVENT
BEGIN:VEVENT
DTSTART;TZID=Europe/San_Marino:20200229T083000
DTEND;TZID=Europe/San_Marino:20200229T143000
DTSTAMP:20260421T102623
CREATED:20200213T192431Z
LAST-MODIFIED:20200213T192431Z
UID:15942-1582965000-1582986600@ioamomontecampione.it
SUMMARY:13° Trofeo Fanchini – Gara di slalom gigante aperto a tutti
DESCRIPTION: 
URL:https://ioamomontecampione.it/event/13-trofeo-fanchini-gara-di-slalom-gigante-aperto-a-tutti/
LOCATION:Montecampione Ski Area\, Via Legazzuolo di Montecampione\, Artogne\, 25040\, Italia
ORGANIZER;CN="Sci Club 90 Montecampione":MAILTO:info@sciclubmontecampione.it
END:VEVENT
BEGIN:VEVENT
DTSTART;TZID=Europe/San_Marino:20200223T080000
DTEND;TZID=Europe/San_Marino:20200223T140000
DTSTAMP:20260421T102623
CREATED:20191125T085057Z
LAST-MODIFIED:20191125T085057Z
UID:14747-1582444800-1582466400@ioamomontecampione.it
SUMMARY:Campionato C.S.I. Vallecamonica – Lo Ski Fun Race organizza la gara a Montecampione
DESCRIPTION:Per informazioni chiamate lo Ski Fun Race allo 0364 560486
URL:https://ioamomontecampione.it/event/campionato-c-s-i-vallecamonica-lo-ski-fun-race-organizza-la-gara-a-montecampione-2/
LOCATION:Montecampione Ski Area\, Via Legazzuolo di Montecampione\, Artogne\, 25040\, Italia
ORGANIZER;CN="Scuola Sci Montecampione":MAILTO:info@scuolascimontecampione.com
END:VEVENT
BEGIN:VEVENT
DTSTART;TZID=Europe/San_Marino:20200126T080000
DTEND;TZID=Europe/San_Marino:20200126T140000
DTSTAMP:20260421T102623
CREATED:20191125T090143Z
LAST-MODIFIED:20191125T090143Z
UID:14751-1580025600-1580047200@ioamomontecampione.it
SUMMARY:Campionato C.S.I. Vallecamonica – Lo Sci Club Rongai organizza la gara a Montecampione
DESCRIPTION:Per informazioni chiamate lo Sci Club Rongai al 3476415251 o vistate sciclurongai.com.
URL:https://ioamomontecampione.it/event/campionato-c-s-i-vallecamonica-lo-sci-club-rongai-organizza-la-gara-a-montecampione-3/
LOCATION:Montecampione Ski Area\, Via Legazzuolo di Montecampione\, Artogne\, 25040\, Italia
ORGANIZER;CN="Sci Club Rongai":MAILTO:stampa@sciclubrongai.com
END:VEVENT
BEGIN:VEVENT
DTSTART;TZID=Europe/San_Marino:20200112T080000
DTEND;TZID=Europe/San_Marino:20200112T140000
DTSTAMP:20260421T102623
CREATED:20191125T090621Z
LAST-MODIFIED:20191125T090621Z
UID:14753-1578816000-1578837600@ioamomontecampione.it
SUMMARY:Campionato C.S.I. Vallecamonica – Lo Sci Club 90 organizza la gara a Montecampione
DESCRIPTION:Per informazioni chiamate lo Sci Club 90 allo 0364591060 o vistate www.sciclubmontecampione.it.
URL:https://ioamomontecampione.it/event/campionato-c-s-i-vallecamonica-lo-sci-club-90-organizza-la-gara-a-montecampione/
LOCATION:Montecampione Ski Area\, Via Legazzuolo di Montecampione\, Artogne\, 25040\, Italia
ORGANIZER;CN="Sci Club 90 Montecampione":MAILTO:info@sciclubmontecampione.it
END:VEVENT
BEGIN:VEVENT
DTSTART;TZID=Europe/San_Marino:20191226T150000
DTEND;TZID=Europe/San_Marino:20191226T220000
DTSTAMP:20260421T102623
CREATED:20191225T184917Z
LAST-MODIFIED:20191225T190334Z
UID:15361-1577372400-1577397600@ioamomontecampione.it
SUMMARY:APERISKI al Faro di Montecampione!
DESCRIPTION:
URL:https://ioamomontecampione.it/event/aperiski-al-faro-di-montecampione/
LOCATION:Faro di Montecampione\, Via Legazzuolo di Montecampione\, Artogne\, 25040\, Italia
END:VEVENT
BEGIN:VEVENT
DTSTART;TZID=Europe/San_Marino:20191221T170000
DTEND;TZID=Europe/San_Marino:20191221T220000
DTSTAMP:20260421T102623
CREATED:20191221T113414Z
LAST-MODIFIED:20191221T113414Z
UID:15293-1576947600-1576965600@ioamomontecampione.it
SUMMARY:Apre il Faro di Montecampione!!!
DESCRIPTION:
URL:https://ioamomontecampione.it/event/apre-il-faro-di-montecampione/
LOCATION:Faro di Montecampione\, Via Legazzuolo di Montecampione\, Artogne\, 25040\, Italia
END:VEVENT
BEGIN:VEVENT
DTSTART;TZID=Europe/San_Marino:20190929T090000
DTEND;TZID=Europe/San_Marino:20190929T170000
DTSTAMP:20260421T102623
CREATED:20190922T101032Z
LAST-MODIFIED:20190922T101032Z
UID:13731-1569747600-1569776400@ioamomontecampione.it
SUMMARY:Verticalmonte organizza: “Vieni a tracciare con noi partendo dalla Splaza di Montecampione”
DESCRIPTION:Domenica 29 settembre\nSentiero 4 dalla Splaza al Rifugio Dosso Rotondo.\nPartenza dalla Splaza ore 9.00.\nAperitivo al rifugio Dosso offerto ai partecipanti.\nPranzo facoltativo e rientro libero o in gruppo. \nPer dirci che ci siete: Cristina 339 122 99 89\nOppure scrivetelo qui sotto!
URL:https://ioamomontecampione.it/event/verticalmonte-organizza-vieni-a-tracciare-con-noi-partendo-dalla-splaza-di-montecampione/
LOCATION:Rifugio Dosso Rotondo\, Via Plan di Montecampione 24\, Artogne\, 25040\, Italia
ORGANIZER;CN="VerticalMonte":MAILTO:info@consorziomontecampione.it
END:VEVENT
BEGIN:VEVENT
DTSTART;TZID=Europe/San_Marino:20190831T180000
DTEND;TZID=Europe/San_Marino:20190831T190000
DTSTAMP:20260421T102623
CREATED:20190709T151938Z
LAST-MODIFIED:20190709T151938Z
UID:12583-1567274400-1567278000@ioamomontecampione.it
SUMMARY:Yoga sulla Terrazza panoramica del Residence La Splaza di Montecampione
DESCRIPTION:
URL:https://ioamomontecampione.it/event/yoga-sulla-terrazza-panoramica-del-residence-la-splaza-di-montecampione-7/
LOCATION:Residence La Splaza\, Via Legazzuolo di Montecampione\, Artogne\, 25040\, Italia
ORGANIZER;CN="VerticalMonte":MAILTO:info@consorziomontecampione.it
END:VEVENT
BEGIN:VEVENT
DTSTART;TZID=Europe/San_Marino:20190824T180000
DTEND;TZID=Europe/San_Marino:20190824T190000
DTSTAMP:20260421T102623
CREATED:20190709T151834Z
LAST-MODIFIED:20190709T151834Z
UID:12581-1566669600-1566673200@ioamomontecampione.it
SUMMARY:Yoga sulla Terrazza panoramica del Residence La Splaza di Montecampione
DESCRIPTION:
URL:https://ioamomontecampione.it/event/yoga-sulla-terrazza-panoramica-del-residence-la-splaza-di-montecampione-6/
LOCATION:Residence La Splaza\, Via Legazzuolo di Montecampione\, Artogne\, 25040\, Italia
ORGANIZER;CN="VerticalMonte":MAILTO:info@consorziomontecampione.it
END:VEVENT
BEGIN:VEVENT
DTSTART;TZID=Europe/San_Marino:20190824T170000
DTEND;TZID=Europe/San_Marino:20190824T180000
DTSTAMP:20260421T102623
CREATED:20190709T151739Z
LAST-MODIFIED:20190709T151739Z
UID:12579-1566666000-1566669600@ioamomontecampione.it
SUMMARY:Yoga per chi non l'ha mai fatto sulla Terrazza panoramica del Residence La Splaza di Montecampione
DESCRIPTION:
URL:https://ioamomontecampione.it/event/yoga-per-chi-non-lha-mai-fatto-sulla-terrazza-panoramica-del-residence-la-splaza-di-montecampione-3/
LOCATION:Residence La Splaza\, Via Legazzuolo di Montecampione\, Artogne\, 25040\, Italia
ORGANIZER;CN="VerticalMonte":MAILTO:info@consorziomontecampione.it
END:VEVENT
BEGIN:VEVENT
DTSTART;TZID=Europe/San_Marino:20190823T180000
DTEND;TZID=Europe/San_Marino:20190823T190000
DTSTAMP:20260421T102623
CREATED:20190821T214050Z
LAST-MODIFIED:20190821T214058Z
UID:13323-1566583200-1566586800@ioamomontecampione.it
SUMMARY:Presentazione del libro Metodologia e pratica della Danza Terapeutica con Elena Cerruto presso la Sala Mostre della Piazzetta
DESCRIPTION:
URL:https://ioamomontecampione.it/event/presentazione-del-libro-metodologia-e-pratica-della-danza-terapeutica-con-elena-cerruto-presso-la-sala-mostre-della-piazzetta/
LOCATION:Piazzetta di Montecampione\, Via Pradosole di Montecampione 50\, Artogne\, 25040\, Italia
ORGANIZER;CN="Consorzio Montecampione":MAILTO:info@consorziomontecampione.it
END:VEVENT
BEGIN:VEVENT
DTSTART;TZID=Europe/San_Marino:20190822T170000
DTEND;TZID=Europe/San_Marino:20190822T190000
DTSTAMP:20260421T102623
CREATED:20190729T215517Z
LAST-MODIFIED:20190729T215517Z
UID:13005-1566493200-1566500400@ioamomontecampione.it
SUMMARY:Lezione di E-Bike presso il Noleggio Dylan
DESCRIPTION:
URL:https://ioamomontecampione.it/event/lezione-di-e-bike-presso-il-noleggio-dylan-6/
LOCATION:Noleggio Dylan\, Via Legazzuolo di Montecampione\, Artogne\, 25040\, Italia
ORGANIZER;CN="Noleggio Dylan":MAILTO:dylanskiservice@gmail.com
END:VEVENT
BEGIN:VEVENT
DTSTART;TZID=Europe/San_Marino:20190820T170000
DTEND;TZID=Europe/San_Marino:20190820T190000
DTSTAMP:20260421T102623
CREATED:20190729T215418Z
LAST-MODIFIED:20190729T215418Z
UID:13003-1566320400-1566327600@ioamomontecampione.it
SUMMARY:Lezione di E-Bike presso il Noleggio Dylan
DESCRIPTION:
URL:https://ioamomontecampione.it/event/lezione-di-e-bike-presso-il-noleggio-dylan-5/
LOCATION:Noleggio Dylan\, Via Legazzuolo di Montecampione\, Artogne\, 25040\, Italia
ORGANIZER;CN="Noleggio Dylan":MAILTO:dylanskiservice@gmail.com
END:VEVENT
BEGIN:VEVENT
DTSTART;TZID=Europe/San_Marino:20190820T080000
DTEND;TZID=Europe/San_Marino:20190820T170000
DTSTAMP:20260421T102623
CREATED:20190709T151616Z
LAST-MODIFIED:20190709T151616Z
UID:12577-1566288000-1566320400@ioamomontecampione.it
SUMMARY:Yoga Fascia Flow sulla Terrazza panoramica del Residence La Splaza di Montecampione
DESCRIPTION:
URL:https://ioamomontecampione.it/event/yoga-fascia-flow-sulla-terrazza-panoramica-del-residence-la-splaza-di-montecampione-2/
LOCATION:Residence La Splaza\, Via Legazzuolo di Montecampione\, Artogne\, 25040\, Italia
ORGANIZER;CN="VerticalMonte":MAILTO:info@consorziomontecampione.it
END:VEVENT
BEGIN:VEVENT
DTSTART;TZID=Europe/San_Marino:20190819T180000
DTEND;TZID=Europe/San_Marino:20190819T190000
DTSTAMP:20260421T102623
CREATED:20190709T151513Z
LAST-MODIFIED:20190709T151513Z
UID:12575-1566237600-1566241200@ioamomontecampione.it
SUMMARY:Yoga sulla Terrazza panoramica del Residence La Splaza di Montecampione
DESCRIPTION:
URL:https://ioamomontecampione.it/event/yoga-sulla-terrazza-panoramica-del-residence-la-splaza-di-montecampione-5/
LOCATION:Residence La Splaza\, Via Legazzuolo di Montecampione\, Artogne\, 25040\, Italia
ORGANIZER;CN="VerticalMonte":MAILTO:info@consorziomontecampione.it
END:VEVENT
BEGIN:VEVENT
DTSTART;TZID=Europe/San_Marino:20190818T180000
DTEND;TZID=Europe/San_Marino:20190818T190000
DTSTAMP:20260421T102623
CREATED:20190709T151411Z
LAST-MODIFIED:20190709T151411Z
UID:12573-1566151200-1566154800@ioamomontecampione.it
SUMMARY:Yoga Warrior Soul sulla Terrazza panoramica del Residence La Splaza di Montecampione
DESCRIPTION:
URL:https://ioamomontecampione.it/event/yoga-warrior-soul-sulla-terrazza-panoramica-del-residence-la-splaza-di-montecampione-3/
LOCATION:Residence La Splaza\, Via Legazzuolo di Montecampione\, Artogne\, 25040\, Italia
ORGANIZER;CN="VerticalMonte":MAILTO:info@consorziomontecampione.it
END:VEVENT
BEGIN:VEVENT
DTSTART;TZID=Europe/San_Marino:20190818T090000
DTEND;TZID=Europe/San_Marino:20190818T170000
DTSTAMP:20260421T102623
CREATED:20190812T065125Z
LAST-MODIFIED:20190812T065221Z
UID:13217-1566118800-1566147600@ioamomontecampione.it
SUMMARY:A Montecampione la Giornata del Viver Montano
DESCRIPTION:
URL:https://ioamomontecampione.it/event/a-montecampione-la-giornata-del-viver-montano-2/
LOCATION:Residence La Splaza\, Via Legazzuolo di Montecampione\, Artogne\, 25040\, Italia
ORGANIZER;CN="Pro Loco Artogne":MAILTO:proloco.artogne@outlook.it
END:VEVENT
BEGIN:VEVENT
DTSTART;TZID=Europe/San_Marino:20190817T180000
DTEND;TZID=Europe/San_Marino:20190817T190000
DTSTAMP:20260421T102623
CREATED:20190709T151215Z
LAST-MODIFIED:20190709T151215Z
UID:12571-1566064800-1566068400@ioamomontecampione.it
SUMMARY:Yoga sulla Terrazza panoramica del Residence La Splaza di Montecampione
DESCRIPTION:
URL:https://ioamomontecampione.it/event/yoga-sulla-terrazza-panoramica-del-residence-la-splaza-di-montecampione-4/
LOCATION:Residence La Splaza\, Via Legazzuolo di Montecampione\, Artogne\, 25040\, Italia
ORGANIZER;CN="VerticalMonte":MAILTO:info@consorziomontecampione.it
END:VEVENT
BEGIN:VEVENT
DTSTART;TZID=Europe/San_Marino:20190817T103000
DTEND;TZID=Europe/San_Marino:20190817T113000
DTSTAMP:20260421T102623
CREATED:20190813T054212Z
LAST-MODIFIED:20190813T064159Z
UID:13227-1566037800-1566041400@ioamomontecampione.it
SUMMARY:Presentazione del libro Metodologia e pratica della Danza Terapeutica con Elena Cerruto presso la Sala del Residence La Splaza
DESCRIPTION:
URL:https://ioamomontecampione.it/event/presentazione-del-libro-metodologia-e-pratica-della-danza-terapeutica-con-elena-cerruto-presso-la-sala-del-residence-la-splaza/
LOCATION:Residence La Splaza\, Via Legazzuolo di Montecampione\, Artogne\, 25040\, Italia
ORGANIZER;CN="Animamonte":MAILTO:info@consorziomontecampione.it
END:VEVENT
BEGIN:VEVENT
DTSTART;TZID=Europe/San_Marino:20190816T213000
DTEND;TZID=Europe/San_Marino:20190816T233000
DTSTAMP:20260421T102623
CREATED:20190812T055153Z
LAST-MODIFIED:20190812T055153Z
UID:13197-1565991000-1565998200@ioamomontecampione.it
SUMMARY:Il Magico Zecchino d'Oro presso la Sala Teatro del Residence La Splaza
DESCRIPTION:
URL:https://ioamomontecampione.it/event/il-magico-zecchino-doro-presso-la-sala-teatro-del-residence-la-splaza/
LOCATION:Residence La Splaza\, Via Legazzuolo di Montecampione\, Artogne\, 25040\, Italia
ORGANIZER;CN="Animamonte":MAILTO:info@consorziomontecampione.it
END:VEVENT
BEGIN:VEVENT
DTSTART;TZID=Europe/San_Marino:20190816T173000
DTEND;TZID=Europe/San_Marino:20190816T230000
DTSTAMP:20260421T102623
CREATED:20190715T141257Z
LAST-MODIFIED:20190808T162123Z
UID:12686-1565976600-1565996400@ioamomontecampione.it
SUMMARY:Gita al Rifugio Elena Tironi Rosello di Sopra di Montecampione in E-Bike con gli Istruttori del Noleggio Dylan
DESCRIPTION:
URL:https://ioamomontecampione.it/event/gita-al-rifugio-elena-tironi-rosello-di-sopra-di-montecampione-in-e-bike-con-gli-istruttori-del-noleggio-dylan/
LOCATION:Rifugio Elena Tironi Rosello di Sopra\, Località Valgrigna\, Esine\, 25040\, Italia
ORGANIZER;CN="Noleggio Dylan":MAILTO:dylanskiservice@gmail.com
END:VEVENT
BEGIN:VEVENT
DTSTART;TZID=Europe/San_Marino:20190815T170000
DTEND;TZID=Europe/San_Marino:20190815T190000
DTSTAMP:20260421T102623
CREATED:20190729T215312Z
LAST-MODIFIED:20190730T081144Z
UID:13001-1565888400-1565895600@ioamomontecampione.it
SUMMARY:Lezione di E-Bike presso il Noleggio Dylan
DESCRIPTION:
URL:https://ioamomontecampione.it/event/lezione-di-e-bike-presso-il-noleggio-dylan-4/
LOCATION:Noleggio Dylan\, Via Legazzuolo di Montecampione\, Artogne\, 25040\, Italia
ORGANIZER;CN="Noleggio Dylan":MAILTO:dylanskiservice@gmail.com
END:VEVENT
BEGIN:VEVENT
DTSTART;TZID=Europe/San_Marino:20190814T180000
DTEND;TZID=Europe/San_Marino:20190814T190000
DTSTAMP:20260421T102623
CREATED:20190709T151108Z
LAST-MODIFIED:20190709T151108Z
UID:12569-1565805600-1565809200@ioamomontecampione.it
SUMMARY:Yoga Warrior Soul sulla Terrazza panoramica del Residence La Splaza di Montecampione
DESCRIPTION:
URL:https://ioamomontecampione.it/event/yoga-warrior-soul-sulla-terrazza-panoramica-del-residence-la-splaza-di-montecampione-2/
LOCATION:Residence La Splaza\, Via Legazzuolo di Montecampione\, Artogne\, 25040\, Italia
ORGANIZER;CN="VerticalMonte":MAILTO:info@consorziomontecampione.it
END:VEVENT
BEGIN:VEVENT
DTSTART;TZID=Europe/San_Marino:20190814T170000
DTEND;TZID=Europe/San_Marino:20190814T180000
DTSTAMP:20260421T102623
CREATED:20190709T150939Z
LAST-MODIFIED:20190709T150939Z
UID:12567-1565802000-1565805600@ioamomontecampione.it
SUMMARY:Yoga per chi non l'ha mai fatto sulla Terrazza panoramica del Residence La Splaza di Montecampione
DESCRIPTION:
URL:https://ioamomontecampione.it/event/yoga-per-chi-non-lha-mai-fatto-sulla-terrazza-panoramica-del-residence-la-splaza-di-montecampione-2/
LOCATION:Residence La Splaza\, Via Legazzuolo di Montecampione\, Artogne\, 25040\, Italia
ORGANIZER;CN="VerticalMonte":MAILTO:info@consorziomontecampione.it
END:VEVENT
BEGIN:VEVENT
DTSTART;TZID=Europe/San_Marino:20190814T140000
DTEND;TZID=Europe/San_Marino:20190814T153000
DTSTAMP:20260421T102623
CREATED:20190813T055220Z
LAST-MODIFIED:20190813T055310Z
UID:13232-1565791200-1565796600@ioamomontecampione.it
SUMMARY:Il Comune di Artogne convoca una Conferenza Stampa presso la Sala del Residence La Splaza di Montecampione
DESCRIPTION:
URL:https://ioamomontecampione.it/event/il-comune-di-artogne-convoca-una-conferenza-stampa-presso-la-sala-del-residence-la-splaza-di-montecampione/
LOCATION:Residence La Splaza\, Via Legazzuolo di Montecampione\, Artogne\, 25040\, Italia
END:VEVENT
BEGIN:VEVENT
DTSTART;TZID=Europe/San_Marino:20190814T100000
DTEND;TZID=Europe/San_Marino:20190814T183000
DTSTAMP:20260421T102623
CREATED:20190802T071631Z
LAST-MODIFIED:20190802T072053Z
UID:13033-1565776800-1565807400@ioamomontecampione.it
SUMMARY:Spazio Indomita organizza il 3° E…vento Aquiloni presso la Splaza di Montecampione
DESCRIPTION:
URL:https://ioamomontecampione.it/event/spspazio-indomita-organizza-il-3-evento-aquiloni-presso-la-splaza-di-montecampione/
LOCATION:Residence La Splaza\, Via Legazzuolo di Montecampione\, Artogne\, 25040\, Italia
ORGANIZER;CN="Spazio Indomita":MAILTO:spazioindoita@gmail.com
END:VEVENT
END:VCALENDAR