BEGIN:VCALENDAR
VERSION:2.0
PRODID:-//I ♥ MONTECAMPIONE - ECPv6.15.20//NONSGML v1.0//EN
CALSCALE:GREGORIAN
METHOD:PUBLISH
X-ORIGINAL-URL:https://ioamomontecampione.it
X-WR-CALDESC:Eventi per I ♥ MONTECAMPIONE
REFRESH-INTERVAL;VALUE=DURATION:PT1H
X-Robots-Tag:noindex
X-PUBLISHED-TTL:PT1H
BEGIN:VTIMEZONE
TZID:Europe/San_Marino
BEGIN:DAYLIGHT
TZOFFSETFROM:+0100
TZOFFSETTO:+0200
TZNAME:CEST
DTSTART:20170326T010000
END:DAYLIGHT
BEGIN:STANDARD
TZOFFSETFROM:+0200
TZOFFSETTO:+0100
TZNAME:CET
DTSTART:20171029T010000
END:STANDARD
BEGIN:DAYLIGHT
TZOFFSETFROM:+0100
TZOFFSETTO:+0200
TZNAME:CEST
DTSTART:20180325T010000
END:DAYLIGHT
BEGIN:STANDARD
TZOFFSETFROM:+0200
TZOFFSETTO:+0100
TZNAME:CET
DTSTART:20181028T010000
END:STANDARD
BEGIN:DAYLIGHT
TZOFFSETFROM:+0100
TZOFFSETTO:+0200
TZNAME:CEST
DTSTART:20190331T010000
END:DAYLIGHT
BEGIN:STANDARD
TZOFFSETFROM:+0200
TZOFFSETTO:+0100
TZNAME:CET
DTSTART:20191027T010000
END:STANDARD
BEGIN:DAYLIGHT
TZOFFSETFROM:+0100
TZOFFSETTO:+0200
TZNAME:CEST
DTSTART:20200329T010000
END:DAYLIGHT
BEGIN:STANDARD
TZOFFSETFROM:+0200
TZOFFSETTO:+0100
TZNAME:CET
DTSTART:20201025T010000
END:STANDARD
BEGIN:DAYLIGHT
TZOFFSETFROM:+0100
TZOFFSETTO:+0200
TZNAME:CEST
DTSTART:20210328T010000
END:DAYLIGHT
BEGIN:STANDARD
TZOFFSETFROM:+0200
TZOFFSETTO:+0100
TZNAME:CET
DTSTART:20211031T010000
END:STANDARD
END:VTIMEZONE
BEGIN:VTIMEZONE
TZID:Europe/Rome
BEGIN:DAYLIGHT
TZOFFSETFROM:+0100
TZOFFSETTO:+0200
TZNAME:CEST
DTSTART:20170326T010000
END:DAYLIGHT
BEGIN:STANDARD
TZOFFSETFROM:+0200
TZOFFSETTO:+0100
TZNAME:CET
DTSTART:20171029T010000
END:STANDARD
BEGIN:DAYLIGHT
TZOFFSETFROM:+0100
TZOFFSETTO:+0200
TZNAME:CEST
DTSTART:20180325T010000
END:DAYLIGHT
BEGIN:STANDARD
TZOFFSETFROM:+0200
TZOFFSETTO:+0100
TZNAME:CET
DTSTART:20181028T010000
END:STANDARD
BEGIN:DAYLIGHT
TZOFFSETFROM:+0100
TZOFFSETTO:+0200
TZNAME:CEST
DTSTART:20190331T010000
END:DAYLIGHT
BEGIN:STANDARD
TZOFFSETFROM:+0200
TZOFFSETTO:+0100
TZNAME:CET
DTSTART:20191027T010000
END:STANDARD
END:VTIMEZONE
BEGIN:VEVENT
DTSTART;TZID=Europe/San_Marino:20200222T174500
DTEND;TZID=Europe/San_Marino:20200222T220000
DTSTAMP:20260425T042749
CREATED:20200218T182243Z
LAST-MODIFIED:20200218T182243Z
UID:15975-1582393500-1582408800@ioamomontecampione.it
SUMMARY:Malaivista che Ciaspolata presso il Rifugio Alpini Monte Cimosco di Montecampione
DESCRIPTION:
URL:https://ioamomontecampione.it/event/malaivista-che-ciaspolata-presso-il-rifugio-alpini-monte-cimosco-di-montecampione/
LOCATION:Le Baite 1800\, Via Plan di Montecampione (4\,94 km)\, Artogne\, 25040\, Italia
END:VEVENT
BEGIN:VEVENT
DTSTART;TZID=Europe/San_Marino:20190830T193000
DTEND;TZID=Europe/San_Marino:20190830T220000
DTSTAMP:20260425T042749
CREATED:20190826T134549Z
LAST-MODIFIED:20190826T134605Z
UID:13414-1567193400-1567202400@ioamomontecampione.it
SUMMARY:A cena con... le Stelle presso il Rifugio Alpini Monte Cimosco di Montecampione
DESCRIPTION:n
URL:https://ioamomontecampione.it/event/a-cena-con-le-stelle-presso-il-rifugio-alpini-monte-cimosco-di-montecampione/
LOCATION:Rifugio Alpini Monte Cimosco\, Località Monte Cimosco\, Gianico\, 25040\, Italia
END:VEVENT
BEGIN:VEVENT
DTSTART;TZID=Europe/San_Marino:20190824T143000
DTEND;TZID=Europe/San_Marino:20190824T163000
DTSTAMP:20260425T042749
CREATED:20190619T182740Z
LAST-MODIFIED:20190619T182740Z
UID:12216-1566657000-1566664200@ioamomontecampione.it
SUMMARY:
DESCRIPTION:
URL:https://ioamomontecampione.it/event/12216/
LOCATION:Rifugio Alpini Monte Cimosco\, Località Monte Cimosco\, Gianico\, 25040\, Italia
END:VEVENT
BEGIN:VEVENT
DTSTART;TZID=Europe/San_Marino:20190816T170000
DTEND;TZID=Europe/San_Marino:20190816T180000
DTSTAMP:20260425T042749
CREATED:20190709T161216Z
LAST-MODIFIED:20190709T161216Z
UID:12627-1565974800-1565978400@ioamomontecampione.it
SUMMARY:Yoga Sunrise presso il Rifugio Alpini Monte Cimosco di Montecampione
DESCRIPTION:
URL:https://ioamomontecampione.it/event/yoga-sunrise-presso-il-rifugio-alpini-monte-cimosco-di-montecampione/
LOCATION:Rifugio Alpini Monte Cimosco\, Località Monte Cimosco\, Gianico\, 25040\, Italia
ORGANIZER;CN="VerticalMonte":MAILTO:info@consorziomontecampione.it
END:VEVENT
BEGIN:VEVENT
DTSTART;TZID=Europe/San_Marino:20190727T143000
DTEND;TZID=Europe/San_Marino:20190727T163000
DTSTAMP:20260425T042749
CREATED:20190619T182608Z
LAST-MODIFIED:20190619T182608Z
UID:12214-1564237800-1564245000@ioamomontecampione.it
SUMMARY:Al Rifugio Alpini Monte Cimosco “Ti racconto una storia!”
DESCRIPTION:
URL:https://ioamomontecampione.it/event/al-rifugio-alpini-monte-cimosco-ti-racconto-una-storia-2/
LOCATION:Rifugio Alpini Monte Cimosco\, Località Monte Cimosco\, Gianico\, 25040\, Italia
END:VEVENT
BEGIN:VEVENT
DTSTART;TZID=Europe/San_Marino:20190719T173000
DTEND;TZID=Europe/San_Marino:20190719T210000
DTSTAMP:20260425T042749
CREATED:20190714T193708Z
LAST-MODIFIED:20190714T193708Z
UID:12673-1563557400-1563570000@ioamomontecampione.it
SUMMARY:Gita al Rifugio Alpini Monte Cimosco in E-Bike con gli Istruttori del Noleggio Dylan
DESCRIPTION:
URL:https://ioamomontecampione.it/event/gita-al-rifugio-alpini-monte-cimosco-in-e-bike-con-gli-istruttori-del-noleggio-dylan/
LOCATION:Rifugio Alpini Monte Cimosco\, Località Monte Cimosco\, Gianico\, 25040\, Italia
ORGANIZER;CN="Noleggio Dylan":MAILTO:dylanskiservice@gmail.com
END:VEVENT
BEGIN:VEVENT
DTSTART;TZID=Europe/San_Marino:20190714T110000
DTEND;TZID=Europe/San_Marino:20190714T220000
DTSTAMP:20260425T042749
CREATED:20190709T172211Z
LAST-MODIFIED:20190709T172211Z
UID:12638-1563102000-1563141600@ioamomontecampione.it
SUMMARY:Tradizioni e sapori al Rifugio Alpini Monte Cimosco di Montecampione
DESCRIPTION:Domenica al rifugio si parla di viticoltura eroica di montagna!\nAvremo ospite Enrico Togni\, dell’azienda Togni-Rebaioli\, giovane vignaiolo\, che con tenacia\, grande competenza e passione\, produce vini eccellenti\, sfidando le pendenze sostenute dei vigneti della Valle Camonica. Enrico produce vini nel rispetto dell’ambiente e del territorio\, da uve Nebbiolo\, Merlot\, Barbera ed Erbanno\, un antico vitigno tradizionale che ha riscoperto e recuperato\, ottenendo risultati sorprendenti! \nDalle 11 alle 17 degustazione di calici aperta a tutti..\nDalle 19 cena a tema con degustazione guidati da Enrico e con piatti creati ad hoc per l’occasione. La cena è su prenotazione!\nVi aspettiamo!!!
URL:https://ioamomontecampione.it/event/tradizioni-e-sapori-al-rifugio-alpini-monte-cimosco-di-montecampione/
LOCATION:Rifugio Alpini Monte Cimosco\, Località Monte Cimosco\, Gianico\, 25040\, Italia
END:VEVENT
BEGIN:VEVENT
DTSTART;TZID=Europe/San_Marino:20190707T143000
DTEND;TZID=Europe/San_Marino:20190707T170000
DTSTAMP:20260425T042749
CREATED:20190701T160046Z
LAST-MODIFIED:20190701T160308Z
UID:12375-1562509800-1562518800@ioamomontecampione.it
SUMMARY:Presentazione del libro di Sergio Boem presso il Rifugio Alpini Monte Cimosco di Montecampione
DESCRIPTION:Domenica prossima vi aspettiamo per un pomeriggio super…Racconti sulle vicissitudini del Battaglione Alpini Vallecamonica durante la Guerra Bianca\, con accompagnamento musicale degli Artyciok!!!
URL:https://ioamomontecampione.it/event/presentazione-del-libro-di-sergio-boem-presso-il-rifugio-alpini-monte-cimosco-di-montecampione/
LOCATION:Rifugio Alpini Monte Cimosco\, Località Monte Cimosco\, Gianico\, 25040\, Italia
END:VEVENT
BEGIN:VEVENT
DTSTART;TZID=Europe/San_Marino:20190623T113000
DTEND;TZID=Europe/San_Marino:20190623T123000
DTSTAMP:20260425T042749
CREATED:20190615T075940Z
LAST-MODIFIED:20190615T075940Z
UID:12149-1561289400-1561293000@ioamomontecampione.it
SUMMARY:Verticalmonte propone una pratica di Yoga al Rifugio Alpini Monte Cimosco di Montecampione
DESCRIPTION:Praticare all’aria aperta\, lo sosteniamo da sempre\, è un’esperienza unica.\nSe siamo in montagna\, al fresco e con l’aria pulita è ancora meglio.\nSe dopo poi si mangia insieme in un bellissimo rifugio…beh\, allora la beatitudine è un po’ più vicina! \nYoga in rifugio con pratica fluida\, facile e accessibile a tutti per godere appieno delle nostre montagne in piena consapevolezza. \nTappetini disponibili gratuitamente presso il Consorzio di Montecampione.\nPer info: Cristina 339 1229989 \nChiunque può respirare\, dunque chiunque può praticare Yoga” T.K.V. Desikachar.
URL:https://ioamomontecampione.it/event/verticalmonte-propone-una-pratica-di-yoga-al-rifugio-alpini-monte-cimosco-di-montecampione/
LOCATION:Rifugio Alpini Monte Cimosco\, Località Monte Cimosco\, Gianico\, 25040\, Italia
ORGANIZER;CN="VerticalMonte":MAILTO:info@consorziomontecampione.it
END:VEVENT
BEGIN:VEVENT
DTSTART;TZID=Europe/San_Marino:20190622T143000
DTEND;TZID=Europe/San_Marino:20190622T163000
DTSTAMP:20260425T042749
CREATED:20190619T182453Z
LAST-MODIFIED:20190619T182453Z
UID:12212-1561213800-1561221000@ioamomontecampione.it
SUMMARY:Al Rifugio Alpini Monte Cimosco "Ti racconto una storia!"
DESCRIPTION:
URL:https://ioamomontecampione.it/event/al-rifugio-alpini-monte-cimosco-ti-racconto-una-storia/
LOCATION:Rifugio Alpini Monte Cimosco\, Località Monte Cimosco\, Gianico\, 25040\, Italia
END:VEVENT
BEGIN:VEVENT
DTSTART;TZID=Europe/San_Marino:20181231T200000
DTEND;TZID=Europe/San_Marino:20190101T020000
DTSTAMP:20260425T042749
CREATED:20181217T091834Z
LAST-MODIFIED:20181217T091834Z
UID:8717-1546286400-1546308000@ioamomontecampione.it
SUMMARY:Capodanno 2019 al Rifugio Cimosco di Montecampione
DESCRIPTION:
URL:https://ioamomontecampione.it/event/capodanno-2019-al-rifugio-cimosco-di-montecampione/
LOCATION:Rifugio Alpini Monte Cimosco\, Località Monte Cimosco\, Gianico\, 25040\, Italia
END:VEVENT
BEGIN:VEVENT
DTSTART;TZID=Europe/Rome:20180908T140000
DTEND;TZID=Europe/Rome:20180908T170000
DTSTAMP:20260425T042749
CREATED:20180904T080424Z
LAST-MODIFIED:20180904T080424Z
UID:5262-1536415200-1536426000@ioamomontecampione.it
SUMMARY:Petatina\, la Marmotta al Rifugio Monte Cimosco di Montecampione!
DESCRIPTION:
URL:https://ioamomontecampione.it/event/petatina-la-marmotta-al-rifugio-monte-cimosco-di-montecampione/
LOCATION:Rifugio Alpini Monte Cimosco\, Località Monte Cimosco\, Gianico\, 25040\, Italia
END:VEVENT
BEGIN:VEVENT
DTSTART;TZID=Europe/Rome:20180810T183000
DTEND;TZID=Europe/Rome:20180811T001500
DTSTAMP:20260425T042749
CREATED:20180805T085451Z
LAST-MODIFIED:20180805T085751Z
UID:4050-1533925800-1533946500@ioamomontecampione.it
SUMMARY:Articiòk Acoustic Trio al Rifugio Alpini Monte Cimosco sopra Montecampione
DESCRIPTION:
URL:https://ioamomontecampione.it/event/articiok-acoustic-trio-al-rifugio-alpini-monte-cimosco-sopra-montecampione/
LOCATION:Rifugio Alpini Monte Cimosco\, Località Monte Cimosco\, Gianico\, 25040\, Italia
END:VEVENT
END:VCALENDAR