BEGIN:VCALENDAR
VERSION:2.0
PRODID:-//I ♥ MONTECAMPIONE - ECPv6.15.20//NONSGML v1.0//EN
CALSCALE:GREGORIAN
METHOD:PUBLISH
X-ORIGINAL-URL:https://ioamomontecampione.it
X-WR-CALDESC:Eventi per I ♥ MONTECAMPIONE
REFRESH-INTERVAL;VALUE=DURATION:PT1H
X-Robots-Tag:noindex
X-PUBLISHED-TTL:PT1H
BEGIN:VTIMEZONE
TZID:Europe/San_Marino
BEGIN:DAYLIGHT
TZOFFSETFROM:+0100
TZOFFSETTO:+0200
TZNAME:CEST
DTSTART:20180325T010000
END:DAYLIGHT
BEGIN:STANDARD
TZOFFSETFROM:+0200
TZOFFSETTO:+0100
TZNAME:CET
DTSTART:20181028T010000
END:STANDARD
BEGIN:DAYLIGHT
TZOFFSETFROM:+0100
TZOFFSETTO:+0200
TZNAME:CEST
DTSTART:20190331T010000
END:DAYLIGHT
BEGIN:STANDARD
TZOFFSETFROM:+0200
TZOFFSETTO:+0100
TZNAME:CET
DTSTART:20191027T010000
END:STANDARD
BEGIN:DAYLIGHT
TZOFFSETFROM:+0100
TZOFFSETTO:+0200
TZNAME:CEST
DTSTART:20200329T010000
END:DAYLIGHT
BEGIN:STANDARD
TZOFFSETFROM:+0200
TZOFFSETTO:+0100
TZNAME:CET
DTSTART:20201025T010000
END:STANDARD
END:VTIMEZONE
BEGIN:VTIMEZONE
TZID:Europe/Rome
BEGIN:DAYLIGHT
TZOFFSETFROM:+0100
TZOFFSETTO:+0200
TZNAME:CEST
DTSTART:20170326T010000
END:DAYLIGHT
BEGIN:STANDARD
TZOFFSETFROM:+0200
TZOFFSETTO:+0100
TZNAME:CET
DTSTART:20171029T010000
END:STANDARD
BEGIN:DAYLIGHT
TZOFFSETFROM:+0100
TZOFFSETTO:+0200
TZNAME:CEST
DTSTART:20180325T010000
END:DAYLIGHT
BEGIN:STANDARD
TZOFFSETFROM:+0200
TZOFFSETTO:+0100
TZNAME:CET
DTSTART:20181028T010000
END:STANDARD
BEGIN:DAYLIGHT
TZOFFSETFROM:+0100
TZOFFSETTO:+0200
TZNAME:CEST
DTSTART:20190331T010000
END:DAYLIGHT
BEGIN:STANDARD
TZOFFSETFROM:+0200
TZOFFSETTO:+0100
TZNAME:CET
DTSTART:20191027T010000
END:STANDARD
END:VTIMEZONE
BEGIN:VEVENT
DTSTART;TZID=Europe/San_Marino:20190606T083000
DTEND;TZID=Europe/San_Marino:20190606T173000
DTSTAMP:20260422T081130
CREATED:20190530T171051Z
LAST-MODIFIED:20190530T171051Z
UID:11952-1559809800-1559842200@ioamomontecampione.it
SUMMARY:A spasso per Boschi con Bettino – Gita n°4: Camminata verso San Glisente con pic-nic al Bivacco Bassi
DESCRIPTION:
URL:https://ioamomontecampione.it/event/a-spasso-per-boschi-con-bettino-gita-n4-camminata-verso-san-glisente-con-pic-nic-al-bivacco-bassi/
LOCATION:Ristorante Pizzeria Valgrande\, Via Plan di Montecampione 58\, Artogne\, 25040\, Italia
ORGANIZER;CN="Ristorante Pizzeria Valgrande":MAILTO:pizzeriavalgrande.it@icloud.com
END:VEVENT
BEGIN:VEVENT
DTSTART;TZID=Europe/San_Marino:20190602T063000
DTEND;TZID=Europe/San_Marino:20190602T170000
DTSTAMP:20260422T081130
CREATED:20190521T152730Z
LAST-MODIFIED:20190521T153639Z
UID:11804-1559457000-1559494800@ioamomontecampione.it
SUMMARY:La sezione di Varese del C.A.I. visita la Val Grigna ed il Rifugio Rosello Elena Tironi di Montecampione
DESCRIPTION: Sentiero faunistico dei Roselli – Escursione TAM \nDomenica\, 02 Giugno 2019\, 6:30\n\n Luogo: Le Baite di Montecampione mt.1725 – Valcamonica – BS\nNella Foresta Regionale della Vagrigna\, dal 2004 divenuta anche Zona di Protezione Speciale Valgrigna (ZPS IT2070303)\, Sentiero faunistico dei Roselli da Le Baite di Montecampione mt.1725\, a Nicchia San Glisente mt.2001. Escursione valorizzata dalla presenza di un operatore della Tutela Ambiente Montano (TAM).\n \nIl Sentiero Faunistico dei Roselli si snoda all’interno della Foresta Regionale Valgrigna\, in provincia di Brescia\, un ambiente ricco di specie faunistiche di importanza comunitaria. E regalarci una passeggiata lungo il sentiero dei Roselli in estate\, il periodo migliore per ammirare fiori selvatici e piante\, è lo scopo della nostra escursione.\nSi parte dalla località Le Baite di Montecampione\, raggiungibile dalla statale del Tonale all’uscita Piancamuno\, e si lascia l’auto presso Malga Rosello (1.725 m)\, dove inizia la strada sterrata.\nDalla malga Rosello di mezzo (meritevole di nota per il pascolo di Rosello di Mezzo dove è stato realizzato il Centro di Formazione Faunistico)\, si scende a Malga Rosello di Sopra (1705 m) per raggiungere il Museo del Silter. Nel dialetto camuno “silter” è il tipico locale di stagionatura dei formaggi e il museo valorizza e promuove la conoscenza degli alpeggi.\nSi prosegue seguendo le indicazioni per Roselletto (1637 m)\, poi il sentiero diventa più ridotto e lo si percorre fino a raggiungere Malga Rosellino (1876m). Il percorso si sviluppa ad anello su sentiero\, sempre attraverso la Val Grigna\, tra boschi di larice e tracce nei pascoli\, passando per alcune malghe in ambienti di grande suggestione e tra i più ricchi di fauna della zona. Lungo l’itinerario si incontrano alcuni pannelli informativi che illustrano le peculiarità della fauna locale.\nRaggiunta la Malga si prosegue verso sinistra seguendo il sentiero in salita proseguendo fino a raggiungere la Nicchia di San Glisente dove\, dicono i racconti locali\, è stato temporaneamente deposto il corpo del santo dopo la sua morte. Qui regna la pace e ci si può fermare per il pasto. \n\nRitrovo e partenza ore: piazzale a lato di via Foresio ore 6\,30\nViaggio: in autobus\nQuote partecipazione: € 25\nDifficoltà: E\nDislivello: Sal-Disc. 300 mt\nTempo di percorrenza: Sal-Disc. ore 3 – 2\,30 – circa ore 6 h per l’intero anello\nInformazioni e iscrizioni presso: Eleonora Franzetti  339.7995923\nAttrezzatura e abbigliamento: da escursionismo in ambiente di media montagna adatto alla stagione\n\n \nContatto : Eleonora Franzetti 339.799592
URL:https://ioamomontecampione.it/event/la-sezione-di-varese-del-c-a-i-visita-la-val-grigna-ed-il-rifugio-rosello-elena-tironi-di-montecampione/
LOCATION:Rifugio Elena Tironi Rosello di Sopra\, Località Valgrigna\, Esine\, 25040\, Italia
END:VEVENT
BEGIN:VEVENT
DTSTART;TZID=Europe/Rome:20180805T110000
DTEND;TZID=Europe/Rome:20180805T163000
DTSTAMP:20260422T081130
CREATED:20180723T141350Z
LAST-MODIFIED:20180723T141519Z
UID:3730-1533466800-1533486600@ioamomontecampione.it
SUMMARY:A Montecampione Echi Antichi presso il Rifugio Rosello di Sopra
DESCRIPTION:
URL:https://ioamomontecampione.it/event/a-montecampione-echi-antichi-presso-il-rifugio-rosello-di-sopra/
LOCATION:Rifugio Elena Tironi Rosello di Sopra\, Località Valgrigna\, Esine\, 25040\, Italia
END:VEVENT
BEGIN:VEVENT
DTSTART;TZID=Europe/Rome:20180722T110000
DTEND;TZID=Europe/Rome:20180722T160000
DTSTAMP:20260422T081130
CREATED:20180711T155648Z
LAST-MODIFIED:20180723T141310Z
UID:3256-1532257200-1532275200@ioamomontecampione.it
SUMMARY:Alphorn Group al Rifugio Rosello di Sopra di Montecampione
DESCRIPTION:
URL:https://ioamomontecampione.it/event/alphorn-group-al-rifugio-rosello-di-sopra-di-montecampione/
LOCATION:Rifugio Elena Tironi Rosello di Sopra\, Località Valgrigna\, Esine\, 25040\, Italia
END:VEVENT
END:VCALENDAR