BEGIN:VCALENDAR
VERSION:2.0
PRODID:-//I ♥ MONTECAMPIONE - ECPv6.15.20//NONSGML v1.0//EN
CALSCALE:GREGORIAN
METHOD:PUBLISH
X-ORIGINAL-URL:https://ioamomontecampione.it
X-WR-CALDESC:Eventi per I ♥ MONTECAMPIONE
REFRESH-INTERVAL;VALUE=DURATION:PT1H
X-Robots-Tag:noindex
X-PUBLISHED-TTL:PT1H
BEGIN:VTIMEZONE
TZID:Europe/San_Marino
BEGIN:DAYLIGHT
TZOFFSETFROM:+0100
TZOFFSETTO:+0200
TZNAME:CEST
DTSTART:20180325T010000
END:DAYLIGHT
BEGIN:STANDARD
TZOFFSETFROM:+0200
TZOFFSETTO:+0100
TZNAME:CET
DTSTART:20181028T010000
END:STANDARD
BEGIN:DAYLIGHT
TZOFFSETFROM:+0100
TZOFFSETTO:+0200
TZNAME:CEST
DTSTART:20190331T010000
END:DAYLIGHT
BEGIN:STANDARD
TZOFFSETFROM:+0200
TZOFFSETTO:+0100
TZNAME:CET
DTSTART:20191027T010000
END:STANDARD
BEGIN:DAYLIGHT
TZOFFSETFROM:+0100
TZOFFSETTO:+0200
TZNAME:CEST
DTSTART:20200329T010000
END:DAYLIGHT
BEGIN:STANDARD
TZOFFSETFROM:+0200
TZOFFSETTO:+0100
TZNAME:CET
DTSTART:20201025T010000
END:STANDARD
BEGIN:DAYLIGHT
TZOFFSETFROM:+0100
TZOFFSETTO:+0200
TZNAME:CEST
DTSTART:20210328T010000
END:DAYLIGHT
BEGIN:STANDARD
TZOFFSETFROM:+0200
TZOFFSETTO:+0100
TZNAME:CET
DTSTART:20211031T010000
END:STANDARD
BEGIN:DAYLIGHT
TZOFFSETFROM:+0100
TZOFFSETTO:+0200
TZNAME:CEST
DTSTART:20220327T010000
END:DAYLIGHT
BEGIN:STANDARD
TZOFFSETFROM:+0200
TZOFFSETTO:+0100
TZNAME:CET
DTSTART:20221030T010000
END:STANDARD
BEGIN:DAYLIGHT
TZOFFSETFROM:+0100
TZOFFSETTO:+0200
TZNAME:CEST
DTSTART:20230326T010000
END:DAYLIGHT
BEGIN:STANDARD
TZOFFSETFROM:+0200
TZOFFSETTO:+0100
TZNAME:CET
DTSTART:20231029T010000
END:STANDARD
END:VTIMEZONE
BEGIN:VEVENT
DTSTART;TZID=Europe/San_Marino:20220715T190000
DTEND;TZID=Europe/San_Marino:20220717T200000
DTSTAMP:20260422T090100
CREATED:20220713T101433Z
LAST-MODIFIED:20220713T101520Z
UID:27277-1657911600-1658088000@ioamomontecampione.it
SUMMARY:4a Festa di Bassinale al Plan di Montecampione
DESCRIPTION:
URL:https://ioamomontecampione.it/event/4a-festa-di-bassinale-al-plan-di-montecampione/
LOCATION:Le Baite 1800\, Via Plan di Montecampione (4\,94 km)\, Artogne\, 25040\, Italia
END:VEVENT
BEGIN:VEVENT
DTSTART;TZID=Europe/San_Marino:20200726T110000
DTEND;TZID=Europe/San_Marino:20200726T120000
DTSTAMP:20260422T090100
CREATED:20200701T141319Z
LAST-MODIFIED:20200701T141319Z
UID:18197-1595761200-1595764800@ioamomontecampione.it
SUMMARY:Santa Messa alla Chiesa della Trasfigurazione di Montecampione
DESCRIPTION:
URL:https://ioamomontecampione.it/event/santa-messa-alla-chiesa-della-trasfigurazione-di-montecampione-60/
LOCATION:Chiesa della Trasfigurazoine\, Via Panoramica di Montecampione\, Pian Camuno\, 25050\, Italia
END:VEVENT
BEGIN:VEVENT
DTSTART;TZID=Europe/San_Marino:20200725T170000
DTEND;TZID=Europe/San_Marino:20200725T180000
DTSTAMP:20260422T090100
CREATED:20200701T140822Z
LAST-MODIFIED:20200701T140822Z
UID:18186-1595696400-1595700000@ioamomontecampione.it
SUMMARY:Santa Messa alla Chiesa della Trasfigurazione di Montecampione
DESCRIPTION:
URL:https://ioamomontecampione.it/event/santa-messa-alla-chiesa-della-trasfigurazione-di-montecampione-56/
LOCATION:Chiesa della Trasfigurazoine\, Via Panoramica di Montecampione\, Pian Camuno\, 25050\, Italia
END:VEVENT
BEGIN:VEVENT
DTSTART;TZID=Europe/San_Marino:20200719T110000
DTEND;TZID=Europe/San_Marino:20200719T120000
DTSTAMP:20260422T090100
CREATED:20200701T141204Z
LAST-MODIFIED:20200701T141204Z
UID:18192-1595156400-1595160000@ioamomontecampione.it
SUMMARY:Santa Messa alla Chiesa della Trasfigurazione di Montecampione
DESCRIPTION:
URL:https://ioamomontecampione.it/event/santa-messa-alla-chiesa-della-trasfigurazione-di-montecampione-59/
LOCATION:Chiesa della Trasfigurazoine\, Via Panoramica di Montecampione\, Pian Camuno\, 25050\, Italia
END:VEVENT
BEGIN:VEVENT
DTSTART;TZID=Europe/San_Marino:20200718T170000
DTEND;TZID=Europe/San_Marino:20200718T180000
DTSTAMP:20260422T090100
CREATED:20200701T140258Z
LAST-MODIFIED:20200701T140711Z
UID:18184-1595091600-1595095200@ioamomontecampione.it
SUMMARY:Santa Messa alla Chiesa della Trasfigurazione di Montecampione
DESCRIPTION:
URL:https://ioamomontecampione.it/event/santa-messa-alla-chiesa-della-trasfigurazione-di-montecampione-55/
LOCATION:Chiesa della Trasfigurazoine\, Via Panoramica di Montecampione\, Pian Camuno\, 25050\, Italia
END:VEVENT
BEGIN:VEVENT
DTSTART;TZID=Europe/San_Marino:20200712T110000
DTEND;TZID=Europe/San_Marino:20200712T120000
DTSTAMP:20260422T090100
CREATED:20200701T141048Z
LAST-MODIFIED:20200701T141048Z
UID:18190-1594551600-1594555200@ioamomontecampione.it
SUMMARY:Santa Messa alla Chiesa della Trasfigurazione di Montecampione
DESCRIPTION:
URL:https://ioamomontecampione.it/event/santa-messa-alla-chiesa-della-trasfigurazione-di-montecampione-58/
LOCATION:Chiesa della Trasfigurazoine\, Via Panoramica di Montecampione\, Pian Camuno\, 25050\, Italia
END:VEVENT
BEGIN:VEVENT
DTSTART;TZID=Europe/San_Marino:20200711T170000
DTEND;TZID=Europe/San_Marino:20200711T180000
DTSTAMP:20260422T090100
CREATED:20200701T140110Z
LAST-MODIFIED:20200701T140110Z
UID:18182-1594486800-1594490400@ioamomontecampione.it
SUMMARY:Santa Messa alla Chiesa della Trasfigurazione di Montecampione
DESCRIPTION:
URL:https://ioamomontecampione.it/event/santa-messa-alla-chiesa-della-trasfigurazione-di-montecampione-54/
LOCATION:Chiesa della Trasfigurazoine\, Via Panoramica di Montecampione\, Pian Camuno\, 25050\, Italia
END:VEVENT
BEGIN:VEVENT
DTSTART;TZID=Europe/San_Marino:20200705T110000
DTEND;TZID=Europe/San_Marino:20200705T120000
DTSTAMP:20260422T090100
CREATED:20200701T140937Z
LAST-MODIFIED:20200701T140937Z
UID:18188-1593946800-1593950400@ioamomontecampione.it
SUMMARY:Santa Messa alla Chiesa della Trasfigurazione di Montecampione
DESCRIPTION:
URL:https://ioamomontecampione.it/event/santa-messa-alla-chiesa-della-trasfigurazione-di-montecampione-57/
LOCATION:Chiesa della Trasfigurazoine\, Via Panoramica di Montecampione\, Pian Camuno\, 25050\, Italia
END:VEVENT
BEGIN:VEVENT
DTSTART;TZID=Europe/San_Marino:20200704T170000
DTEND;TZID=Europe/San_Marino:20200704T180000
DTSTAMP:20260422T090100
CREATED:20200701T135927Z
LAST-MODIFIED:20200701T135927Z
UID:18180-1593882000-1593885600@ioamomontecampione.it
SUMMARY:Santa Messa alla Chiesa della Trasfigurazione di Montecampione
DESCRIPTION:
URL:https://ioamomontecampione.it/event/santa-messa-alla-chiesa-della-trasfigurazione-di-montecampione-53/
LOCATION:Chiesa della Trasfigurazoine\, Via Panoramica di Montecampione\, Pian Camuno\, 25050\, Italia
END:VEVENT
BEGIN:VEVENT
DTSTART;TZID=Europe/San_Marino:20200106T110000
DTEND;TZID=Europe/San_Marino:20200106T120000
DTSTAMP:20260422T090100
CREATED:20191219T084722Z
LAST-MODIFIED:20191219T084722Z
UID:15183-1578308400-1578312000@ioamomontecampione.it
SUMMARY:Santa Messa alla Chiesa della Trasfigurazione di Montecampione
DESCRIPTION:
URL:https://ioamomontecampione.it/event/santa-messa-alla-chiesa-della-trasfigurazione-di-montecampione-41/
LOCATION:Chiesa della Trasfigurazoine\, Via Panoramica di Montecampione\, Pian Camuno\, 25050\, Italia
ORGANIZER;CN="Consorzio Montecampione":MAILTO:info@consorziomontecampione.it
END:VEVENT
BEGIN:VEVENT
DTSTART;TZID=Europe/San_Marino:20200105T170000
DTEND;TZID=Europe/San_Marino:20200105T180000
DTSTAMP:20260422T090100
CREATED:20191219T084837Z
LAST-MODIFIED:20191219T084837Z
UID:15185-1578243600-1578247200@ioamomontecampione.it
SUMMARY:Santa Messa alla Chiesa della Trasfigurazione di Montecampione
DESCRIPTION:
URL:https://ioamomontecampione.it/event/santa-messa-alla-chiesa-della-trasfigurazione-di-montecampione-42/
LOCATION:Chiesa della Trasfigurazoine\, Via Panoramica di Montecampione\, Pian Camuno\, 25050\, Italia
ORGANIZER;CN="Consorzio Montecampione":MAILTO:info@consorziomontecampione.it
END:VEVENT
BEGIN:VEVENT
DTSTART;TZID=Europe/San_Marino:20200105T110000
DTEND;TZID=Europe/San_Marino:20200105T120000
DTSTAMP:20260422T090100
CREATED:20191219T084940Z
LAST-MODIFIED:20191219T084940Z
UID:15187-1578222000-1578225600@ioamomontecampione.it
SUMMARY:Santa Messa alla Chiesa della Trasfigurazione di Montecampione
DESCRIPTION:
URL:https://ioamomontecampione.it/event/santa-messa-alla-chiesa-della-trasfigurazione-di-montecampione-43/
LOCATION:Chiesa della Trasfigurazoine\, Via Panoramica di Montecampione\, Pian Camuno\, 25050\, Italia
ORGANIZER;CN="Consorzio Montecampione":MAILTO:info@consorziomontecampione.it
END:VEVENT
BEGIN:VEVENT
DTSTART;TZID=Europe/San_Marino:20200104T170000
DTEND;TZID=Europe/San_Marino:20200104T180000
DTSTAMP:20260422T090100
CREATED:20191219T085117Z
LAST-MODIFIED:20191219T085117Z
UID:15189-1578157200-1578160800@ioamomontecampione.it
SUMMARY:Santa Messa alla Chiesa della Trasfigurazione di Montecampione
DESCRIPTION:
URL:https://ioamomontecampione.it/event/santa-messa-alla-chiesa-della-trasfigurazione-di-montecampione-44/
LOCATION:Chiesa della Trasfigurazoine\, Via Panoramica di Montecampione\, Pian Camuno\, 25050\, Italia
ORGANIZER;CN="Consorzio Montecampione":MAILTO:info@consorziomontecampione.it
END:VEVENT
BEGIN:VEVENT
DTSTART;TZID=Europe/San_Marino:20200101T170000
DTEND;TZID=Europe/San_Marino:20200101T180000
DTSTAMP:20260422T090100
CREATED:20191219T085220Z
LAST-MODIFIED:20191219T085220Z
UID:15191-1577898000-1577901600@ioamomontecampione.it
SUMMARY:Santa Messa alla Chiesa della Trasfigurazione di Montecampione
DESCRIPTION:
URL:https://ioamomontecampione.it/event/santa-messa-alla-chiesa-della-trasfigurazione-di-montecampione-45/
LOCATION:Chiesa della Trasfigurazoine\, Via Panoramica di Montecampione\, Pian Camuno\, 25050\, Italia
ORGANIZER;CN="Consorzio Montecampione":MAILTO:info@consorziomontecampione.it
END:VEVENT
BEGIN:VEVENT
DTSTART;TZID=Europe/San_Marino:20191231T170000
DTEND;TZID=Europe/San_Marino:20191231T180000
DTSTAMP:20260422T090100
CREATED:20191219T085316Z
LAST-MODIFIED:20191219T085316Z
UID:15193-1577811600-1577815200@ioamomontecampione.it
SUMMARY:Santa Messa alla Chiesa della Trasfigurazione di Montecampione
DESCRIPTION:
URL:https://ioamomontecampione.it/event/santa-messa-alla-chiesa-della-trasfigurazione-di-montecampione-46/
LOCATION:Chiesa della Trasfigurazoine\, Via Panoramica di Montecampione\, Pian Camuno\, 25050\, Italia
ORGANIZER;CN="Consorzio Montecampione":MAILTO:info@consorziomontecampione.it
END:VEVENT
BEGIN:VEVENT
DTSTART;TZID=Europe/San_Marino:20191229T110000
DTEND;TZID=Europe/San_Marino:20191229T120000
DTSTAMP:20260422T090100
CREATED:20191219T085422Z
LAST-MODIFIED:20191219T085422Z
UID:15195-1577617200-1577620800@ioamomontecampione.it
SUMMARY:Santa Messa alla Chiesa della Trasfigurazione di Montecampione
DESCRIPTION:
URL:https://ioamomontecampione.it/event/santa-messa-alla-chiesa-della-trasfigurazione-di-montecampione-47/
LOCATION:Chiesa della Trasfigurazoine\, Via Panoramica di Montecampione\, Pian Camuno\, 25050\, Italia
ORGANIZER;CN="Consorzio Montecampione":MAILTO:info@consorziomontecampione.it
END:VEVENT
BEGIN:VEVENT
DTSTART;TZID=Europe/San_Marino:20191228T170000
DTEND;TZID=Europe/San_Marino:20191228T180000
DTSTAMP:20260422T090100
CREATED:20191219T085520Z
LAST-MODIFIED:20191219T085520Z
UID:15197-1577552400-1577556000@ioamomontecampione.it
SUMMARY:Santa Messa alla Chiesa della Trasfigurazione di Montecampione
DESCRIPTION:
URL:https://ioamomontecampione.it/event/santa-messa-alla-chiesa-della-trasfigurazione-di-montecampione-48/
LOCATION:Chiesa della Trasfigurazoine\, Via Panoramica di Montecampione\, Pian Camuno\, 25050\, Italia
ORGANIZER;CN="Consorzio Montecampione":MAILTO:info@consorziomontecampione.it
END:VEVENT
BEGIN:VEVENT
DTSTART;TZID=Europe/San_Marino:20191225T170000
DTEND;TZID=Europe/San_Marino:20191225T180000
DTSTAMP:20260422T090100
CREATED:20191219T085625Z
LAST-MODIFIED:20191219T085625Z
UID:15199-1577293200-1577296800@ioamomontecampione.it
SUMMARY:Santa Messa alla Chiesa della Trasfigurazione di Montecampione
DESCRIPTION:
URL:https://ioamomontecampione.it/event/santa-messa-alla-chiesa-della-trasfigurazione-di-montecampione-49/
LOCATION:Chiesa della Trasfigurazoine\, Via Panoramica di Montecampione\, Pian Camuno\, 25050\, Italia
ORGANIZER;CN="Consorzio Montecampione":MAILTO:info@consorziomontecampione.it
END:VEVENT
BEGIN:VEVENT
DTSTART;TZID=Europe/San_Marino:20191225T110000
DTEND;TZID=Europe/San_Marino:20191225T120000
DTSTAMP:20260422T090100
CREATED:20191219T085759Z
LAST-MODIFIED:20191219T085759Z
UID:15202-1577271600-1577275200@ioamomontecampione.it
SUMMARY:Santa Messa alla Chiesa della Trasfigurazione di Montecampione
DESCRIPTION:
URL:https://ioamomontecampione.it/event/santa-messa-alla-chiesa-della-trasfigurazione-di-montecampione-50/
LOCATION:Chiesa della Trasfigurazoine\, Via Panoramica di Montecampione\, Pian Camuno\, 25050\, Italia
ORGANIZER;CN="Consorzio Montecampione":MAILTO:info@consorziomontecampione.it
END:VEVENT
BEGIN:VEVENT
DTSTART;TZID=Europe/San_Marino:20191224T220000
DTEND;TZID=Europe/San_Marino:20191224T230000
DTSTAMP:20260422T090100
CREATED:20191219T085910Z
LAST-MODIFIED:20191219T085910Z
UID:15204-1577224800-1577228400@ioamomontecampione.it
SUMMARY:Santa Messa alla Chiesa della Trasfigurazione di Montecampione
DESCRIPTION:
URL:https://ioamomontecampione.it/event/santa-messa-alla-chiesa-della-trasfigurazione-di-montecampione-51/
LOCATION:Chiesa della Trasfigurazoine\, Via Panoramica di Montecampione\, Pian Camuno\, 25050\, Italia
ORGANIZER;CN="Consorzio Montecampione":MAILTO:info@consorziomontecampione.it
END:VEVENT
BEGIN:VEVENT
DTSTART;TZID=Europe/San_Marino:20191222T110000
DTEND;TZID=Europe/San_Marino:20191222T120000
DTSTAMP:20260422T090100
CREATED:20191219T090018Z
LAST-MODIFIED:20191219T090018Z
UID:15206-1577012400-1577016000@ioamomontecampione.it
SUMMARY:Santa Messa alla Chiesa della Trasfigurazione di Montecampione
DESCRIPTION:
URL:https://ioamomontecampione.it/event/santa-messa-alla-chiesa-della-trasfigurazione-di-montecampione-52/
LOCATION:Chiesa della Trasfigurazoine\, Via Panoramica di Montecampione\, Pian Camuno\, 25050\, Italia
ORGANIZER;CN="Consorzio Montecampione":MAILTO:info@consorziomontecampione.it
END:VEVENT
BEGIN:VEVENT
DTSTART;TZID=Europe/San_Marino:20191207T170000
DTEND;TZID=Europe/San_Marino:20191207T180000
DTSTAMP:20260422T090100
CREATED:20191204T182508Z
LAST-MODIFIED:20191204T182508Z
UID:14951-1575738000-1575741600@ioamomontecampione.it
SUMMARY:Santa Messa alla Chiesa della Trasfigurazione di Montecampione
DESCRIPTION:
URL:https://ioamomontecampione.it/event/santa-messa-alla-chiesa-della-trasfigurazione-di-montecampione-40/
LOCATION:Chiesa della Trasfigurazoine\, Via Panoramica di Montecampione\, Pian Camuno\, 25050\, Italia
ORGANIZER;CN="Consorzio Montecampione":MAILTO:info@consorziomontecampione.it
END:VEVENT
BEGIN:VEVENT
DTSTART;TZID=Europe/San_Marino:20191102T170000
DTEND;TZID=Europe/San_Marino:20191102T180000
DTSTAMP:20260422T090100
CREATED:20191031T155427Z
LAST-MODIFIED:20191031T155427Z
UID:14227-1572714000-1572717600@ioamomontecampione.it
SUMMARY:Santa Messa alla Chiesa della Trasfigurazione di Montecampione
DESCRIPTION:
URL:https://ioamomontecampione.it/event/santa-messa-alla-chiesa-della-trasfigurazione-di-montecampione-39/
LOCATION:Chiesa della Trasfigurazoine\, Via Panoramica di Montecampione\, Pian Camuno\, 25050\, Italia
ORGANIZER;CN="Consorzio Montecampione":MAILTO:info@consorziomontecampione.it
END:VEVENT
BEGIN:VEVENT
DTSTART;TZID=Europe/San_Marino:20191102T170000
DTEND;TZID=Europe/San_Marino:20191102T180000
DTSTAMP:20260422T090100
CREATED:20191031T155014Z
LAST-MODIFIED:20191031T155014Z
UID:14225-1572714000-1572717600@ioamomontecampione.it
SUMMARY:Santa Messa alla Chiesa della Trasfigurazione di Montecampione
DESCRIPTION:
URL:https://ioamomontecampione.it/event/santa-messa-alla-chiesa-della-trasfigurazione-di-montecampione-38/
LOCATION:Chiesa della Trasfigurazoine\, Via Panoramica di Montecampione\, Pian Camuno\, 25050\, Italia
ORGANIZER;CN="Consorzio Montecampione":MAILTO:info@consorziomontecampione.it
END:VEVENT
BEGIN:VEVENT
DTSTART;TZID=Europe/San_Marino:20190831T183000
DTEND;TZID=Europe/San_Marino:20190831T193000
DTSTAMP:20260422T090100
CREATED:20190809T060350Z
LAST-MODIFIED:20190809T060350Z
UID:13113-1567276200-1567279800@ioamomontecampione.it
SUMMARY:Santa Messa alla Chiesa della Trasfigurazione di Montecampione
DESCRIPTION:
URL:https://ioamomontecampione.it/event/santa-messa-alla-chiesa-della-trasfigurazione-di-montecampione-33/
LOCATION:Chiesa della Trasfigurazoine\, Via Panoramica di Montecampione\, Pian Camuno\, 25050\, Italia
ORGANIZER;CN="Consorzio Montecampione":MAILTO:info@consorziomontecampione.it
END:VEVENT
BEGIN:VEVENT
DTSTART;TZID=Europe/San_Marino:20190825T110000
DTEND;TZID=Europe/San_Marino:20190825T120000
DTSTAMP:20260422T090100
CREATED:20190809T060717Z
LAST-MODIFIED:20190809T060717Z
UID:13121-1566730800-1566734400@ioamomontecampione.it
SUMMARY:Santa Messa alla Chiesa della Trasfigurazione di Montecampione
DESCRIPTION:
URL:https://ioamomontecampione.it/event/santa-messa-alla-chiesa-della-trasfigurazione-di-montecampione-37/
LOCATION:Chiesa della Trasfigurazoine\, Via Panoramica di Montecampione\, Pian Camuno\, 25050\, Italia
ORGANIZER;CN="Consorzio Montecampione":MAILTO:info@consorziomontecampione.it
END:VEVENT
BEGIN:VEVENT
DTSTART;TZID=Europe/San_Marino:20190824T183000
DTEND;TZID=Europe/San_Marino:20190824T193000
DTSTAMP:20260422T090100
CREATED:20190809T060253Z
LAST-MODIFIED:20190809T060253Z
UID:13111-1566671400-1566675000@ioamomontecampione.it
SUMMARY:Santa Messa alla Chiesa della Trasfigurazione di Montecampione
DESCRIPTION:
URL:https://ioamomontecampione.it/event/santa-messa-alla-chiesa-della-trasfigurazione-di-montecampione-32/
LOCATION:Chiesa della Trasfigurazoine\, Via Panoramica di Montecampione\, Pian Camuno\, 25050\, Italia
ORGANIZER;CN="Consorzio Montecampione":MAILTO:info@consorziomontecampione.it
END:VEVENT
BEGIN:VEVENT
DTSTART;TZID=Europe/San_Marino:20190818T110000
DTEND;TZID=Europe/San_Marino:20190818T120000
DTSTAMP:20260422T090100
CREATED:20190809T060626Z
LAST-MODIFIED:20190809T060626Z
UID:13119-1566126000-1566129600@ioamomontecampione.it
SUMMARY:Santa Messa alla Chiesa della Trasfigurazione di Montecampione
DESCRIPTION:
URL:https://ioamomontecampione.it/event/santa-messa-alla-chiesa-della-trasfigurazione-di-montecampione-36/
LOCATION:Chiesa della Trasfigurazoine\, Via Panoramica di Montecampione\, Pian Camuno\, 25050\, Italia
ORGANIZER;CN="Consorzio Montecampione":MAILTO:info@consorziomontecampione.it
END:VEVENT
BEGIN:VEVENT
DTSTART;TZID=Europe/San_Marino:20190817T183000
DTEND;TZID=Europe/San_Marino:20190817T193000
DTSTAMP:20260422T090100
CREATED:20190809T060200Z
LAST-MODIFIED:20190809T060200Z
UID:13109-1566066600-1566070200@ioamomontecampione.it
SUMMARY:Santa Messa alla Chiesa della Trasfigurazione di Montecampione
DESCRIPTION:
URL:https://ioamomontecampione.it/event/santa-messa-alla-chiesa-della-trasfigurazione-di-montecampione-31/
LOCATION:Chiesa della Trasfigurazoine\, Via Panoramica di Montecampione\, Pian Camuno\, 25050\, Italia
ORGANIZER;CN="Consorzio Montecampione":MAILTO:info@consorziomontecampione.it
END:VEVENT
BEGIN:VEVENT
DTSTART;TZID=Europe/San_Marino:20190815T180000
DTEND;TZID=Europe/San_Marino:20190815T190000
DTSTAMP:20260422T090100
CREATED:20190809T055913Z
LAST-MODIFIED:20190809T055913Z
UID:13103-1565892000-1565895600@ioamomontecampione.it
SUMMARY:Santa Messa alla Chiesa della Trasfigurazione di Montecampione
DESCRIPTION:
URL:https://ioamomontecampione.it/event/santa-messa-alla-chiesa-della-trasfigurazione-di-montecampione-28/
LOCATION:Chiesa della Trasfigurazoine\, Via Panoramica di Montecampione\, Pian Camuno\, 25050\, Italia
ORGANIZER;CN="Consorzio Montecampione":MAILTO:info@consorziomontecampione.it
END:VEVENT
END:VCALENDAR