BEGIN:VCALENDAR
VERSION:2.0
PRODID:-//I ♥ MONTECAMPIONE - ECPv6.15.20//NONSGML v1.0//EN
CALSCALE:GREGORIAN
METHOD:PUBLISH
X-WR-CALNAME:I ♥ MONTECAMPIONE
X-ORIGINAL-URL:https://ioamomontecampione.it
X-WR-CALDESC:Eventi per I ♥ MONTECAMPIONE
REFRESH-INTERVAL;VALUE=DURATION:PT1H
X-Robots-Tag:noindex
X-PUBLISHED-TTL:PT1H
BEGIN:VTIMEZONE
TZID:Europe/San_Marino
BEGIN:DAYLIGHT
TZOFFSETFROM:+0100
TZOFFSETTO:+0200
TZNAME:CEST
DTSTART:20200329T010000
END:DAYLIGHT
BEGIN:STANDARD
TZOFFSETFROM:+0200
TZOFFSETTO:+0100
TZNAME:CET
DTSTART:20201025T010000
END:STANDARD
BEGIN:DAYLIGHT
TZOFFSETFROM:+0100
TZOFFSETTO:+0200
TZNAME:CEST
DTSTART:20210328T010000
END:DAYLIGHT
BEGIN:STANDARD
TZOFFSETFROM:+0200
TZOFFSETTO:+0100
TZNAME:CET
DTSTART:20211031T010000
END:STANDARD
BEGIN:DAYLIGHT
TZOFFSETFROM:+0100
TZOFFSETTO:+0200
TZNAME:CEST
DTSTART:20220327T010000
END:DAYLIGHT
BEGIN:STANDARD
TZOFFSETFROM:+0200
TZOFFSETTO:+0100
TZNAME:CET
DTSTART:20221030T010000
END:STANDARD
END:VTIMEZONE
BEGIN:VTIMEZONE
TZID:Europe/Rome
BEGIN:DAYLIGHT
TZOFFSETFROM:+0100
TZOFFSETTO:+0200
TZNAME:CEST
DTSTART:20170326T010000
END:DAYLIGHT
BEGIN:STANDARD
TZOFFSETFROM:+0200
TZOFFSETTO:+0100
TZNAME:CET
DTSTART:20171029T010000
END:STANDARD
BEGIN:DAYLIGHT
TZOFFSETFROM:+0100
TZOFFSETTO:+0200
TZNAME:CEST
DTSTART:20180325T010000
END:DAYLIGHT
BEGIN:STANDARD
TZOFFSETFROM:+0200
TZOFFSETTO:+0100
TZNAME:CET
DTSTART:20181028T010000
END:STANDARD
BEGIN:DAYLIGHT
TZOFFSETFROM:+0100
TZOFFSETTO:+0200
TZNAME:CEST
DTSTART:20190331T010000
END:DAYLIGHT
BEGIN:STANDARD
TZOFFSETFROM:+0200
TZOFFSETTO:+0100
TZNAME:CET
DTSTART:20191027T010000
END:STANDARD
END:VTIMEZONE
BEGIN:VEVENT
DTSTART;TZID=Europe/San_Marino:20210917T183000
DTEND;TZID=Europe/San_Marino:20210919T183000
DTSTAMP:20260423T180710
CREATED:20210915T080542Z
LAST-MODIFIED:20210918T135630Z
UID:20980-1631903400-1632076200@ioamomontecampione.it
SUMMARY:Campionati Assoluti Italiani di Sci d'Erba
DESCRIPTION:Ecco il programma: \nVen. 17/09/21 – Campionati Italiani Assoluti – SG maschile e femminile Montecampione (Bs) – ore 18.15\nSab. 18/09/21 – Campionati Italiani Assoluti – GS maschile e femminile Montecampione (Bs) – ore 11.00 e 14.15\nDom. 19/09/21 – Campionati Italiani Assoluti – SL maschile e femminile Montecampione (Bs) – ore 10.15 e 13.00 \nGuardali live o riguardali cliccando qui!
URL:https://ioamomontecampione.it/event/campionati-assoluti-italiani-di-sci-derba/
LOCATION:Montecampione Ski Area\, Via Legazzuolo di Montecampione\, Artogne\, 25040\, Italia
ORGANIZER;CN="Consorzio Montecampione":MAILTO:info@consorziomontecampione.it
END:VEVENT
BEGIN:VEVENT
DTSTART;TZID=Europe/Rome:20180801T080000
DTEND;TZID=Europe/Rome:20180804T170000
DTSTAMP:20260423T180710
CREATED:20180621T095745Z
LAST-MODIFIED:20180621T095745Z
UID:2537-1533110400-1533402000@ioamomontecampione.it
SUMMARY:A Montecampione la Coppa del Mondo Juniores di Sci d'Erba
DESCRIPTION:Dall’1 agosto al 4 di agosto si svolgerà sulla pista Gardena una tappa della Coppa del Mondo Juniores maschile e femminile di sci d’erba.\n\nEcco il calendario dal sito dell FIS
URL:https://ioamomontecampione.it/event/a-montecampione-la-coppa-del-mondo-juniores-di-sci-derba/
LOCATION:Montecampione Ski Area\, Via Legazzuolo di Montecampione\, Artogne\, 25040\, Italia
ORGANIZER;CN="FIS - F%C3%A9d%C3%A9ration Internationale de Ski":MAILTO:mail@fisski.com
END:VEVENT
BEGIN:VEVENT
DTSTART;TZID=Europe/Rome:20180728T080000
DTEND;TZID=Europe/Rome:20180729T173000
DTSTAMP:20260423T180710
CREATED:20180621T095025Z
LAST-MODIFIED:20180801T045046Z
UID:2534-1532764800-1532885400@ioamomontecampione.it
SUMMARY:A Montecampione la Coppa del Mondo di Sci d'Erba
DESCRIPTION:Fotografia: D@S Photographer by Danilo Scaccabarossi – www.dasweb.it\n\nDal 28 luglio al 29 luglio si svolgerà sulla pista una tappa della Coppa del Mondo di Sci d’Erba maschile e femminile.\n\nEcco il calendario dal sito dell FIS
URL:https://ioamomontecampione.it/event/a-montecampione-la-coppa-del-mondo-di-sci-derba/
LOCATION:Montecampione Ski Area\, Via Legazzuolo di Montecampione\, Artogne\, 25040\, Italia
ORGANIZER;CN="FIS - F%C3%A9d%C3%A9ration Internationale de Ski":MAILTO:mail@fisski.com
END:VEVENT
BEGIN:VEVENT
DTSTART;TZID=Europe/Rome:20180721T110000
DTEND;TZID=Europe/Rome:20180721T120000
DTSTAMP:20260423T180710
CREATED:20180623T192327Z
LAST-MODIFIED:20180721T054645Z
UID:2684-1532170800-1532174400@ioamomontecampione.it
SUMMARY:Presentazione degli eventi estivi di Montecampione al Cinema in Piazzetta e della Coppa del Mondo di Sci d'erba
DESCRIPTION:  \n \nIl Consorzio Montecampione e Montecampione Ski Area in questa occasione presenteranno tutti i programmi estivi che verranno svolti a Montecampione. \nMontecampione Ski Area presenterà:\n– la tappa di Coppa del Mondo di Sci d’erba (27-29 luglio) ed i Mondiali Juniores di sci d’erba (30 luglio-3agosto) – a cura di Montecampione Ski Area e dello Sci Club Lumezzane ASD; \n– la novità assoluta MonteBike\, la nuova MTB School con Skill Park –  4 linee di discesa a difficoltà crescente servite dalla seggiovia Gardena – a cura di Montecampione Ski Area. \nA seguire:\n– presentazione della ricca programmazione estiva di Montecampione con le varie iniziative sportive\, artistiche e culturali – a cura di un rappresentante del Consorzio Montecampione. \nSaranno presenti: il Presidente della Provincia di Brescia\, Pierluigi Mottinelli\, il Presidente della Comunità Montana Oliviero Valzelli ed il consigliere Regionale Francesco Ghiroldi.
URL:https://ioamomontecampione.it/event/presentazione-degli-eventi-estivi-di-montecampione-al-laghetto/
LOCATION:Cinema di Montecampione\, Via Pradosole di Montecampione 36\, Artogne\, 25040\, Italia
ORGANIZER;CN="Consorzio Montecampione":MAILTO:info@consorziomontecampione.it
END:VEVENT
END:VCALENDAR