BEGIN:VCALENDAR
VERSION:2.0
PRODID:-//I ♥ MONTECAMPIONE - ECPv6.15.20//NONSGML v1.0//EN
CALSCALE:GREGORIAN
METHOD:PUBLISH
X-ORIGINAL-URL:https://ioamomontecampione.it
X-WR-CALDESC:Eventi per I ♥ MONTECAMPIONE
REFRESH-INTERVAL;VALUE=DURATION:PT1H
X-Robots-Tag:noindex
X-PUBLISHED-TTL:PT1H
BEGIN:VTIMEZONE
TZID:Europe/San_Marino
BEGIN:DAYLIGHT
TZOFFSETFROM:+0100
TZOFFSETTO:+0200
TZNAME:CEST
DTSTART:20180325T010000
END:DAYLIGHT
BEGIN:STANDARD
TZOFFSETFROM:+0200
TZOFFSETTO:+0100
TZNAME:CET
DTSTART:20181028T010000
END:STANDARD
BEGIN:DAYLIGHT
TZOFFSETFROM:+0100
TZOFFSETTO:+0200
TZNAME:CEST
DTSTART:20190331T010000
END:DAYLIGHT
BEGIN:STANDARD
TZOFFSETFROM:+0200
TZOFFSETTO:+0100
TZNAME:CET
DTSTART:20191027T010000
END:STANDARD
BEGIN:DAYLIGHT
TZOFFSETFROM:+0100
TZOFFSETTO:+0200
TZNAME:CEST
DTSTART:20200329T010000
END:DAYLIGHT
BEGIN:STANDARD
TZOFFSETFROM:+0200
TZOFFSETTO:+0100
TZNAME:CET
DTSTART:20201025T010000
END:STANDARD
BEGIN:DAYLIGHT
TZOFFSETFROM:+0100
TZOFFSETTO:+0200
TZNAME:CEST
DTSTART:20210328T010000
END:DAYLIGHT
BEGIN:STANDARD
TZOFFSETFROM:+0200
TZOFFSETTO:+0100
TZNAME:CET
DTSTART:20211031T010000
END:STANDARD
BEGIN:DAYLIGHT
TZOFFSETFROM:+0100
TZOFFSETTO:+0200
TZNAME:CEST
DTSTART:20220327T010000
END:DAYLIGHT
BEGIN:STANDARD
TZOFFSETFROM:+0200
TZOFFSETTO:+0100
TZNAME:CET
DTSTART:20221030T010000
END:STANDARD
END:VTIMEZONE
BEGIN:VEVENT
DTSTART;TZID=Europe/San_Marino:20211003T100000
DTEND;TZID=Europe/San_Marino:20211003T120000
DTSTAMP:20260422T024711
CREATED:20210929T072215Z
LAST-MODIFIED:20210929T072215Z
UID:21127-1633255200-1633262400@ioamomontecampione.it
SUMMARY:Iniziativa a favore della Scuola Materna di Vissone presso la Chiesa della Trasfigurazione di Montecampione
DESCRIPTION:
URL:https://ioamomontecampione.it/event/iniziativa-a-favore-della-scuola-materna-di-vissone-presso-la-chiesa-della-trasfigurazione-di-montecampione/
LOCATION:Chiesa della Trasfigurazoine\, Via Panoramica di Montecampione\, Pian Camuno\, 25050\, Italia
END:VEVENT
BEGIN:VEVENT
DTSTART;TZID=Europe/San_Marino:20191206T160000
DTEND;TZID=Europe/San_Marino:20191206T173000
DTSTAMP:20260422T024711
CREATED:20191127T103709Z
LAST-MODIFIED:20191127T104009Z
UID:14807-1575648000-1575653400@ioamomontecampione.it
SUMMARY:Teatro Scuola Materna di Vissone - POETI IN ERBA
DESCRIPTION:
URL:https://ioamomontecampione.it/event/teatro-scuola-materna-di-vissone-poeti-in-erba/
LOCATION:Scuola Materna di Vissone\, Via della Chiesa 5\, Vissone\, 25050\, Italia
END:VEVENT
BEGIN:VEVENT
DTSTART;TZID=Europe/San_Marino:20191027T120000
DTEND;TZID=Europe/San_Marino:20191027T150000
DTSTAMP:20260422T024711
CREATED:20191023T155331Z
LAST-MODIFIED:20191023T155331Z
UID:14139-1572177600-1572188400@ioamomontecampione.it
SUMMARY:Spiedo d'Autunno alla Scuola Materna Parocchiale di Vissone
DESCRIPTION:
URL:https://ioamomontecampione.it/event/spiedo-dautunno-alla-scuola-materna-parocchiale-di-vissone/
LOCATION:Chiesa Parrocchiale di Vissone\, Via della Chiesa 3\, Vissone di Pian Camuno\, 25050\, Italia
END:VEVENT
BEGIN:VEVENT
DTSTART;TZID=Europe/San_Marino:20190105T160000
DTEND;TZID=Europe/San_Marino:20190105T170000
DTSTAMP:20260422T024711
CREATED:20181215T174330Z
LAST-MODIFIED:20190103T213325Z
UID:8690-1546704000-1546707600@ioamomontecampione.it
SUMMARY:Estrazione della Parrocchia di San Bernardino di Vissone alla Sala Teatro della Splaza di Montecampione
DESCRIPTION:Sarà possibile acquistare i biglietti per partecipare il giorno dell’estrazione presso la Sala Teatro del Residence La Spaza oppure presso: \nBed & Breakfast – Le Pateghe di Montecampione \nFiocco di Neve – Valgrande di Montecampione \nPasticceria Cremeria Alpiaz – Piazzetta di Montecampione \nPub – Piazzetta di Montecampione \nSistema Sport – Portico di Montecampione \nBar Panorama – Vissone \nAgriturismo Ol Bareck – Fane \n  \n  \n 
URL:https://ioamomontecampione.it/event/estrazione-della-parrocchia-di-san-bernardino-di-vissone-alla-sala-teatro-della-splaza-di-montecampione/
LOCATION:Residence La Splaza\, Via Legazzuolo di Montecampione\, Artogne\, 25040\, Italia
END:VEVENT
END:VCALENDAR