BEGIN:VCALENDAR
VERSION:2.0
PRODID:-//I ♥ MONTECAMPIONE - ECPv6.15.20//NONSGML v1.0//EN
CALSCALE:GREGORIAN
METHOD:PUBLISH
X-WR-CALNAME:I ♥ MONTECAMPIONE
X-ORIGINAL-URL:https://ioamomontecampione.it
X-WR-CALDESC:Eventi per I ♥ MONTECAMPIONE
REFRESH-INTERVAL;VALUE=DURATION:PT1H
X-Robots-Tag:noindex
X-PUBLISHED-TTL:PT1H
BEGIN:VTIMEZONE
TZID:Europe/San_Marino
BEGIN:DAYLIGHT
TZOFFSETFROM:+0100
TZOFFSETTO:+0200
TZNAME:CEST
DTSTART:20170326T010000
END:DAYLIGHT
BEGIN:STANDARD
TZOFFSETFROM:+0200
TZOFFSETTO:+0100
TZNAME:CET
DTSTART:20171029T010000
END:STANDARD
BEGIN:DAYLIGHT
TZOFFSETFROM:+0100
TZOFFSETTO:+0200
TZNAME:CEST
DTSTART:20180325T010000
END:DAYLIGHT
BEGIN:STANDARD
TZOFFSETFROM:+0200
TZOFFSETTO:+0100
TZNAME:CET
DTSTART:20181028T010000
END:STANDARD
BEGIN:DAYLIGHT
TZOFFSETFROM:+0100
TZOFFSETTO:+0200
TZNAME:CEST
DTSTART:20190331T010000
END:DAYLIGHT
BEGIN:STANDARD
TZOFFSETFROM:+0200
TZOFFSETTO:+0100
TZNAME:CET
DTSTART:20191027T010000
END:STANDARD
BEGIN:DAYLIGHT
TZOFFSETFROM:+0100
TZOFFSETTO:+0200
TZNAME:CEST
DTSTART:20200329T010000
END:DAYLIGHT
BEGIN:STANDARD
TZOFFSETFROM:+0200
TZOFFSETTO:+0100
TZNAME:CET
DTSTART:20201025T010000
END:STANDARD
BEGIN:DAYLIGHT
TZOFFSETFROM:+0100
TZOFFSETTO:+0200
TZNAME:CEST
DTSTART:20210328T010000
END:DAYLIGHT
BEGIN:STANDARD
TZOFFSETFROM:+0200
TZOFFSETTO:+0100
TZNAME:CET
DTSTART:20211031T010000
END:STANDARD
END:VTIMEZONE
BEGIN:VEVENT
DTSTART;TZID=Europe/San_Marino:20200115T193000
DTEND;TZID=Europe/San_Marino:20200115T220000
DTSTAMP:20260424T175006
CREATED:20200113T192650Z
LAST-MODIFIED:20200113T192650Z
UID:15532-1579116600-1579125600@ioamomontecampione.it
SUMMARY:Skialper – Il Memorial Guerino\, prima tappa di Sci e Luci nella Notte\, a Montecampione
DESCRIPTION:
URL:https://ioamomontecampione.it/event/skialper-il-memorial-guerino-prima-tappa-di-sci-e-luci-nella-notte-a-montecampione-2/
LOCATION:Montecampione Ski Area\, Via Legazzuolo di Montecampione\, Artogne\, 25040\, Italia
END:VEVENT
BEGIN:VEVENT
DTSTART;TZID=Europe/San_Marino:20190327T170000
DTEND;TZID=Europe/San_Marino:20190327T230000
DTSTAMP:20260424T175006
CREATED:20190110T111405Z
LAST-MODIFIED:20190110T111405Z
UID:9314-1553706000-1553727600@ioamomontecampione.it
SUMMARY:Montecampione Ski Area – Pista Panoramica a disposizione per gli sci alpinisti dalle 17.00
DESCRIPTION:Montecampione Ski Area mette a disposizione la pista panoramica tutti i mercoledì sera per chi la volesse risalire facendo sci alpinismo dalle 17.00 alle 22.00.
URL:https://ioamomontecampione.it/event/montecampione-ski-area-pista-panoramica-a-disposizione-per-gli-sci-alpinisti-dalle-17-00-12/
LOCATION:Montecampione Ski Area\, Via Legazzuolo di Montecampione\, Artogne\, 25040\, Italia
ORGANIZER;CN="Montecampione Ski Area":MAILTO:info@montecampioneskiarea.it
END:VEVENT
BEGIN:VEVENT
DTSTART;TZID=Europe/San_Marino:20190320T170000
DTEND;TZID=Europe/San_Marino:20190320T220000
DTSTAMP:20260424T175006
CREATED:20190110T111245Z
LAST-MODIFIED:20190110T111302Z
UID:9312-1553101200-1553119200@ioamomontecampione.it
SUMMARY:Montecampione Ski Area – Pista Panoramica a disposizione per gli sci alpinisti dalle 17.00
DESCRIPTION:Montecampione Ski Area mette a disposizione la pista panoramica tutti i mercoledì sera per chi la volesse risalire facendo sci alpinismo dalle 17.00 alle 22.00.
URL:https://ioamomontecampione.it/event/montecampione-ski-area-pista-panoramica-a-disposizione-per-gli-sci-alpinisti-dalle-17-00-11/
LOCATION:Montecampione Ski Area\, Via Legazzuolo di Montecampione\, Artogne\, 25040\, Italia
ORGANIZER;CN="Montecampione Ski Area":MAILTO:info@montecampioneskiarea.it
END:VEVENT
BEGIN:VEVENT
DTSTART;TZID=Europe/San_Marino:20190313T170000
DTEND;TZID=Europe/San_Marino:20190313T220000
DTSTAMP:20260424T175006
CREATED:20190110T111152Z
LAST-MODIFIED:20190110T111152Z
UID:9310-1552496400-1552514400@ioamomontecampione.it
SUMMARY:Montecampione Ski Area – Pista Panoramica a disposizione per gli sci alpinisti dalle 17.00
DESCRIPTION:Montecampione Ski Area mette a disposizione la pista panoramica tutti i mercoledì sera per chi la volesse risalire facendo sci alpinismo dalle 17.00 alle 22.00.
URL:https://ioamomontecampione.it/event/montecampione-ski-area-pista-panoramica-a-disposizione-per-gli-sci-alpinisti-dalle-17-00-10/
LOCATION:Montecampione Ski Area\, Via Legazzuolo di Montecampione\, Artogne\, 25040\, Italia
ORGANIZER;CN="Montecampione Ski Area":MAILTO:info@montecampioneskiarea.it
END:VEVENT
BEGIN:VEVENT
DTSTART;TZID=Europe/San_Marino:20190306T170000
DTEND;TZID=Europe/San_Marino:20190306T220000
DTSTAMP:20260424T175006
CREATED:20190110T111048Z
LAST-MODIFIED:20190110T111048Z
UID:9308-1551891600-1551909600@ioamomontecampione.it
SUMMARY:Montecampione Ski Area – Pista Panoramica a disposizione per gli sci alpinisti dalle 17.00
DESCRIPTION:Montecampione Ski Area mette a disposizione la pista panoramica tutti i mercoledì sera per chi la volesse risalire facendo sci alpinismo dalle 17.00 alle 22.00.
URL:https://ioamomontecampione.it/event/montecampione-ski-area-pista-panoramica-a-disposizione-per-gli-sci-alpinisti-dalle-17-00-9/
LOCATION:Montecampione Ski Area\, Via Legazzuolo di Montecampione\, Artogne\, 25040\, Italia
ORGANIZER;CN="Montecampione Ski Area":MAILTO:info@montecampioneskiarea.it
END:VEVENT
BEGIN:VEVENT
DTSTART;TZID=Europe/San_Marino:20190227T170000
DTEND;TZID=Europe/San_Marino:20190227T220000
DTSTAMP:20260424T175006
CREATED:20190110T110905Z
LAST-MODIFIED:20190110T110905Z
UID:9306-1551286800-1551304800@ioamomontecampione.it
SUMMARY:Montecampione Ski Area – Pista Panoramica a disposizione per gli sci alpinisti dalle 17.00
DESCRIPTION:Montecampione Ski Area mette a disposizione la pista panoramica tutti i mercoledì sera per chi la volesse risalire facendo sci alpinismo dalle 17.00 alle 22.00.
URL:https://ioamomontecampione.it/event/montecampione-ski-area-pista-panoramica-a-disposizione-per-gli-sci-alpinisti-dalle-17-00-8/
LOCATION:Montecampione Ski Area\, Via Legazzuolo di Montecampione\, Artogne\, 25040\, Italia
ORGANIZER;CN="Montecampione Ski Area":MAILTO:info@montecampioneskiarea.it
END:VEVENT
BEGIN:VEVENT
DTSTART;TZID=Europe/San_Marino:20190220T170000
DTEND;TZID=Europe/San_Marino:20190220T220000
DTSTAMP:20260424T175006
CREATED:20190110T110752Z
LAST-MODIFIED:20190110T110752Z
UID:9304-1550682000-1550700000@ioamomontecampione.it
SUMMARY:Montecampione Ski Area – Pista Panoramica a disposizione per gli sci alpinisti dalle 17.00
DESCRIPTION:Montecampione Ski Area mette a disposizione la pista panoramica tutti i mercoledì sera per chi la volesse risalire facendo sci alpinismo dalle 17.00 alle 22.00.
URL:https://ioamomontecampione.it/event/montecampione-ski-area-pista-panoramica-a-disposizione-per-gli-sci-alpinisti-dalle-17-00-7/
LOCATION:Montecampione Ski Area\, Via Legazzuolo di Montecampione\, Artogne\, 25040\, Italia
ORGANIZER;CN="Montecampione Ski Area":MAILTO:info@montecampioneskiarea.it
END:VEVENT
BEGIN:VEVENT
DTSTART;TZID=Europe/San_Marino:20190213T170000
DTEND;TZID=Europe/San_Marino:20190213T220000
DTSTAMP:20260424T175006
CREATED:20190110T110638Z
LAST-MODIFIED:20190110T110638Z
UID:9302-1550077200-1550095200@ioamomontecampione.it
SUMMARY:Montecampione Ski Area – Pista Panoramica a disposizione per gli sci alpinisti dalle 17.00
DESCRIPTION:Montecampione Ski Area mette a disposizione la pista panoramica tutti i mercoledì sera per chi la volesse risalire facendo sci alpinismo dalle 17.00 alle 22.00.
URL:https://ioamomontecampione.it/event/montecampione-ski-area-pista-panoramica-a-disposizione-per-gli-sci-alpinisti-dalle-17-00-6/
LOCATION:Montecampione Ski Area\, Via Legazzuolo di Montecampione\, Artogne\, 25040\, Italia
ORGANIZER;CN="Montecampione Ski Area":MAILTO:info@montecampioneskiarea.it
END:VEVENT
BEGIN:VEVENT
DTSTART;TZID=Europe/San_Marino:20190206T170000
DTEND;TZID=Europe/San_Marino:20190206T220000
DTSTAMP:20260424T175006
CREATED:20190110T110527Z
LAST-MODIFIED:20190110T110527Z
UID:9300-1549472400-1549490400@ioamomontecampione.it
SUMMARY:Montecampione Ski Area – Pista Panoramica a disposizione per gli sci alpinisti dalle 17.00
DESCRIPTION:Montecampione Ski Area mette a disposizione la pista panoramica tutti i mercoledì sera per chi la volesse risalire facendo sci alpinismo dalle 17.00 alle 22.00.
URL:https://ioamomontecampione.it/event/montecampione-ski-area-pista-panoramica-a-disposizione-per-gli-sci-alpinisti-dalle-17-00-5/
LOCATION:Montecampione Ski Area\, Via Legazzuolo di Montecampione\, Artogne\, 25040\, Italia
ORGANIZER;CN="Montecampione Ski Area":MAILTO:info@montecampioneskiarea.it
END:VEVENT
BEGIN:VEVENT
DTSTART;TZID=Europe/San_Marino:20190130T170000
DTEND;TZID=Europe/San_Marino:20190130T220000
DTSTAMP:20260424T175006
CREATED:20190110T105559Z
LAST-MODIFIED:20190110T110338Z
UID:9298-1548867600-1548885600@ioamomontecampione.it
SUMMARY:Montecampione Ski Area – Pista Panoramica a disposizione per gli sci alpinisti dalle 17.00
DESCRIPTION:Montecampione Ski Area mette a disposizione la pista panoramica tutti i mercoledì sera per chi la volesse risalire facendo sci alpinismo dalle 17.00 alle 22.00.
URL:https://ioamomontecampione.it/event/montecampione-ski-area-pista-panoramica-a-disposizione-per-gli-sci-alpinisti-dalle-17-00-4/
LOCATION:Montecampione Ski Area\, Via Legazzuolo di Montecampione\, Artogne\, 25040\, Italia
ORGANIZER;CN="Montecampione Ski Area":MAILTO:info@montecampioneskiarea.it
END:VEVENT
BEGIN:VEVENT
DTSTART;TZID=Europe/San_Marino:20190123T170000
DTEND;TZID=Europe/San_Marino:20190123T220000
DTSTAMP:20260424T175006
CREATED:20190110T105442Z
LAST-MODIFIED:20190110T105458Z
UID:9295-1548262800-1548280800@ioamomontecampione.it
SUMMARY:Montecampione Ski Area – Pista Panoramica a disposizione per gli sci alpinisti dalle 17.00
DESCRIPTION:Montecampione Ski Area mette a disposizione la pista panoramica tutti i mercoledì sera per chi la volesse risalire facendo sci alpinismo dalle 17.00 alle 22.00.
URL:https://ioamomontecampione.it/event/montecampione-ski-area-pista-panoramica-a-disposizione-per-gli-sci-alpinisti-dalle-17-00-3/
LOCATION:Montecampione Ski Area\, Via Legazzuolo di Montecampione\, Artogne\, 25040\, Italia
ORGANIZER;CN="Montecampione Ski Area":MAILTO:info@montecampioneskiarea.it
END:VEVENT
BEGIN:VEVENT
DTSTART;TZID=Europe/San_Marino:20190116T170000
DTEND;TZID=Europe/San_Marino:20190116T220000
DTSTAMP:20260424T175006
CREATED:20190110T105341Z
LAST-MODIFIED:20190110T105341Z
UID:9293-1547658000-1547676000@ioamomontecampione.it
SUMMARY:Montecampione Ski Area – Pista Panoramica a disposizione per gli sci alpinisti dalle 17.00
DESCRIPTION:Montecampione Ski Area mette a disposizione la pista panoramica tutti i mercoledì sera per chi la volesse risalire facendo sci alpinismo dalle 17.00 alle 22.00.
URL:https://ioamomontecampione.it/event/montecampione-ski-area-pista-panoramica-a-disposizione-per-gli-sci-alpinisti-dalle-17-00-2/
LOCATION:Montecampione Ski Area\, Via Legazzuolo di Montecampione\, Artogne\, 25040\, Italia
ORGANIZER;CN="Montecampione Ski Area":MAILTO:info@montecampioneskiarea.it
END:VEVENT
BEGIN:VEVENT
DTSTART;TZID=Europe/San_Marino:20190109T193000
DTEND;TZID=Europe/San_Marino:20190109T220000
DTSTAMP:20260424T175006
CREATED:20181126T120728Z
LAST-MODIFIED:20181126T120757Z
UID:8036-1547062200-1547071200@ioamomontecampione.it
SUMMARY:Skialper - Il Memorial Guerino\, prima tappa di Sci e Luci nella Notte\, a Montecampione
DESCRIPTION:
URL:https://ioamomontecampione.it/event/skialper-il-memorial-guerino-prima-tappa-di-sci-e-luci-nella-notte-a-montecampione/
LOCATION:Montecampione Ski Area\, Via Legazzuolo di Montecampione\, Artogne\, 25040\, Italia
END:VEVENT
BEGIN:VEVENT
DTSTART;TZID=Europe/San_Marino:20190109T170000
DTEND;TZID=Europe/San_Marino:20190109T220000
DTSTAMP:20260424T175006
CREATED:20190110T105150Z
LAST-MODIFIED:20190110T105150Z
UID:9291-1547053200-1547071200@ioamomontecampione.it
SUMMARY:Montecampione Ski Area – Pista Panoramica a disposizione per gli sci alpinisti dalle 17.00
DESCRIPTION:Montecampione Ski Area mette a disposizione la pista panoramica tutti i mercoledì sera per chi la volesse risalire facendo sci alpinismo dalle 17.00 alle 22.00.
URL:https://ioamomontecampione.it/event/montecampione-ski-area-pista-panoramica-a-disposizione-per-gli-sci-alpinisti-dalle-17-00/
LOCATION:Montecampione Ski Area\, Via Legazzuolo di Montecampione\, Artogne\, 25040\, Italia
ORGANIZER;CN="Montecampione Ski Area":MAILTO:info@montecampioneskiarea.it
END:VEVENT
BEGIN:VEVENT
DTSTART;TZID=Europe/San_Marino:20181231T200000
DTEND;TZID=Europe/San_Marino:20190101T020000
DTSTAMP:20260424T175006
CREATED:20181217T091834Z
LAST-MODIFIED:20181217T091834Z
UID:8717-1546286400-1546308000@ioamomontecampione.it
SUMMARY:Capodanno 2019 al Rifugio Cimosco di Montecampione
DESCRIPTION:
URL:https://ioamomontecampione.it/event/capodanno-2019-al-rifugio-cimosco-di-montecampione/
LOCATION:Rifugio Alpini Monte Cimosco\, Località Monte Cimosco\, Gianico\, 25040\, Italia
END:VEVENT
BEGIN:VEVENT
DTSTART;TZID=Europe/San_Marino:20181231T190000
DTEND;TZID=Europe/San_Marino:20190101T013000
DTSTAMP:20260424T175006
CREATED:20181213T220555Z
LAST-MODIFIED:20181214T093411Z
UID:8653-1546282800-1546306200@ioamomontecampione.it
SUMMARY:Cenone di San Silvestro al Rifugio Rosello di Sopra "Elena Tironi" di Montecampione!
DESCRIPTION:Capodanno in rifugio! Cenone di S. Silvestro: Un menù legato al luogo\, un’occasione di incontro\, il calore della legna che arde\, le stelle che brillano nel cielo e la luna che risplende sulla neve della conca del Rosello…! A poco più di un’ora di cammino da Plan di Montecampione 1800. Una tranquilla e dolce ciaspolata o camminata in caso di poca neve.\nCena su prenotazione con menù alternativo per vegetariani e celiaci.\nPossibilità di pernotto e colazione presso la struttura.\nCosti: Solo cena € 55\,00 a persona. Cena\, pernotto e colazione € 65 a persona.\nMaggiori dettagli al 348.5457053 o via mail milenagiavazzi@hotmail.it
URL:https://ioamomontecampione.it/event/cenone-di-san-silvestro-al-rifugio-rosello-di-sopra-elena-tironi-di-montecampione/
LOCATION:Rifugio Elena Tironi Rosello di Sopra\, Località Valgrigna\, Esine\, 25040\, Italia
END:VEVENT
BEGIN:VEVENT
DTSTART;TZID=Europe/San_Marino:20181230T153000
DTEND;TZID=Europe/San_Marino:20181230T233000
DTSTAMP:20260424T175006
CREATED:20181228T224624Z
LAST-MODIFIED:20181228T224839Z
UID:9036-1546183800-1546212600@ioamomontecampione.it
SUMMARY:Cena al Rifugio Rosello di Sopra Elena Tironi di Montecampione
DESCRIPTION:Nel meraviglioso ed incontaminato anfiteatro della Val Grigna\, a pochi passi dal Plan di Montecampione\, Milena ci riceverà con la sua gustosa cucina locale e casalinga. \nPartenza alle ore 15:30 dal Plan di Montecampione (alla rotonda del Complesso del Plan)\, direzione Val Grigna. Percorso facile su mulattiera innevata; tempo di percorrenza: 1 ora e mezza/due ore.\nCena in rifugio alle ore 19:00.\nRientro dopocena o possibilità di pernotto in rifugio. \nATTREZZATURA OBBLIGATORIA: torcia o pila frontale\, scarponi da montagna\, ciaspole o sci con le pelli.\nConsigliamo maglietta per cambio in rifugio prima di cena. \nPensione completa cena più pernotto 38€\nSolo cena: si paga quello che si mangia e si beve.\nPer chi pernotta è obbligatorio il sacco letto\, disponibile in rifugio al costo di € 3\,00 \n15 posti disponibili.\nPer info e prenotazioni:\nMauro 3453588706\nCristina 3391229989
URL:https://ioamomontecampione.it/event/cena-al-rifugio-rosello-di-sopra-elena-tironi-di-montecampione/
LOCATION:Rifugio Elena Tironi Rosello di Sopra\, Località Valgrigna\, Esine\, 25040\, Italia
ORGANIZER;CN="VerticalMonte":MAILTO:info@consorziomontecampione.it
END:VEVENT
END:VCALENDAR