BEGIN:VCALENDAR
VERSION:2.0
PRODID:-//I ♥ MONTECAMPIONE - ECPv6.15.20//NONSGML v1.0//EN
CALSCALE:GREGORIAN
METHOD:PUBLISH
X-ORIGINAL-URL:https://ioamomontecampione.it
X-WR-CALDESC:Eventi per I ♥ MONTECAMPIONE
REFRESH-INTERVAL;VALUE=DURATION:PT1H
X-Robots-Tag:noindex
X-PUBLISHED-TTL:PT1H
BEGIN:VTIMEZONE
TZID:Europe/San_Marino
BEGIN:DAYLIGHT
TZOFFSETFROM:+0100
TZOFFSETTO:+0200
TZNAME:CEST
DTSTART:20180325T010000
END:DAYLIGHT
BEGIN:STANDARD
TZOFFSETFROM:+0200
TZOFFSETTO:+0100
TZNAME:CET
DTSTART:20181028T010000
END:STANDARD
BEGIN:DAYLIGHT
TZOFFSETFROM:+0100
TZOFFSETTO:+0200
TZNAME:CEST
DTSTART:20190331T010000
END:DAYLIGHT
BEGIN:STANDARD
TZOFFSETFROM:+0200
TZOFFSETTO:+0100
TZNAME:CET
DTSTART:20191027T010000
END:STANDARD
BEGIN:DAYLIGHT
TZOFFSETFROM:+0100
TZOFFSETTO:+0200
TZNAME:CEST
DTSTART:20200329T010000
END:DAYLIGHT
BEGIN:STANDARD
TZOFFSETFROM:+0200
TZOFFSETTO:+0100
TZNAME:CET
DTSTART:20201025T010000
END:STANDARD
END:VTIMEZONE
BEGIN:VTIMEZONE
TZID:Europe/Rome
BEGIN:DAYLIGHT
TZOFFSETFROM:+0100
TZOFFSETTO:+0200
TZNAME:CEST
DTSTART:20170326T010000
END:DAYLIGHT
BEGIN:STANDARD
TZOFFSETFROM:+0200
TZOFFSETTO:+0100
TZNAME:CET
DTSTART:20171029T010000
END:STANDARD
BEGIN:DAYLIGHT
TZOFFSETFROM:+0100
TZOFFSETTO:+0200
TZNAME:CEST
DTSTART:20180325T010000
END:DAYLIGHT
BEGIN:STANDARD
TZOFFSETFROM:+0200
TZOFFSETTO:+0100
TZNAME:CET
DTSTART:20181028T010000
END:STANDARD
BEGIN:DAYLIGHT
TZOFFSETFROM:+0100
TZOFFSETTO:+0200
TZNAME:CEST
DTSTART:20190331T010000
END:DAYLIGHT
BEGIN:STANDARD
TZOFFSETFROM:+0200
TZOFFSETTO:+0100
TZNAME:CET
DTSTART:20191027T010000
END:STANDARD
END:VTIMEZONE
BEGIN:VEVENT
DTSTART;TZID=Europe/San_Marino:20190706T110000
DTEND;TZID=Europe/San_Marino:20190706T163000
DTSTAMP:20260421T172531
CREATED:20190702T154507Z
LAST-MODIFIED:20190702T154534Z
UID:12434-1562410800-1562430600@ioamomontecampione.it
SUMMARY:CSI – Gara di Pattini in linea Skiroll della Prealpi Inline Cup 2019 a Montecampione
DESCRIPTION:
URL:https://ioamomontecampione.it/event/csi-gara-di-pattini-in-linea-skiroll-della-prealpi-inline-cup-2019-a-montecampione/
LOCATION:Bar Ristorante Il Laghetto Montecampione\, Via Panoramica di Montecampione\, Pian Camuno\, 25050\, Italia
ORGANIZER;CN="Sci Club Freemountain":MAILTO:sc.freemountain@virgilio.it
END:VEVENT
BEGIN:VEVENT
DTSTART;TZID=Europe/Rome:20180722T110000
DTEND;TZID=Europe/Rome:20180722T163000
DTSTAMP:20260421T172531
CREATED:20180716T110548Z
LAST-MODIFIED:20180716T110548Z
UID:3509-1532257200-1532277000@ioamomontecampione.it
SUMMARY:CSI – Gara di Pattini in linea Skiroll della Prealpi Inline Cup 2018 a Montecampione
DESCRIPTION:
URL:https://ioamomontecampione.it/event/csi-gara-di-pattini-in-linea-skiroll-della-prealpi-inline-cup-2018-a-montecampione-2/
LOCATION:Bar Ristorante Il Laghetto Montecampione\, Via Panoramica di Montecampione\, Pian Camuno\, 25050\, Italia
ORGANIZER;CN="Sci Club Freemountain":MAILTO:sc.freemountain@virgilio.it
END:VEVENT
END:VCALENDAR