BEGIN:VCALENDAR
VERSION:2.0
PRODID:-//I ♥ MONTECAMPIONE - ECPv6.15.20//NONSGML v1.0//EN
CALSCALE:GREGORIAN
METHOD:PUBLISH
X-ORIGINAL-URL:https://ioamomontecampione.it
X-WR-CALDESC:Eventi per I ♥ MONTECAMPIONE
REFRESH-INTERVAL;VALUE=DURATION:PT1H
X-Robots-Tag:noindex
X-PUBLISHED-TTL:PT1H
BEGIN:VTIMEZONE
TZID:Europe/San_Marino
BEGIN:DAYLIGHT
TZOFFSETFROM:+0100
TZOFFSETTO:+0200
TZNAME:CEST
DTSTART:20170326T010000
END:DAYLIGHT
BEGIN:STANDARD
TZOFFSETFROM:+0200
TZOFFSETTO:+0100
TZNAME:CET
DTSTART:20171029T010000
END:STANDARD
BEGIN:DAYLIGHT
TZOFFSETFROM:+0100
TZOFFSETTO:+0200
TZNAME:CEST
DTSTART:20180325T010000
END:DAYLIGHT
BEGIN:STANDARD
TZOFFSETFROM:+0200
TZOFFSETTO:+0100
TZNAME:CET
DTSTART:20181028T010000
END:STANDARD
BEGIN:DAYLIGHT
TZOFFSETFROM:+0100
TZOFFSETTO:+0200
TZNAME:CEST
DTSTART:20190331T010000
END:DAYLIGHT
BEGIN:STANDARD
TZOFFSETFROM:+0200
TZOFFSETTO:+0100
TZNAME:CET
DTSTART:20191027T010000
END:STANDARD
BEGIN:DAYLIGHT
TZOFFSETFROM:+0100
TZOFFSETTO:+0200
TZNAME:CEST
DTSTART:20200329T010000
END:DAYLIGHT
BEGIN:STANDARD
TZOFFSETFROM:+0200
TZOFFSETTO:+0100
TZNAME:CET
DTSTART:20201025T010000
END:STANDARD
BEGIN:DAYLIGHT
TZOFFSETFROM:+0100
TZOFFSETTO:+0200
TZNAME:CEST
DTSTART:20210328T010000
END:DAYLIGHT
BEGIN:STANDARD
TZOFFSETFROM:+0200
TZOFFSETTO:+0100
TZNAME:CET
DTSTART:20211031T010000
END:STANDARD
BEGIN:DAYLIGHT
TZOFFSETFROM:+0100
TZOFFSETTO:+0200
TZNAME:CEST
DTSTART:20220327T010000
END:DAYLIGHT
BEGIN:STANDARD
TZOFFSETFROM:+0200
TZOFFSETTO:+0100
TZNAME:CET
DTSTART:20221030T010000
END:STANDARD
END:VTIMEZONE
BEGIN:VTIMEZONE
TZID:Europe/Rome
BEGIN:DAYLIGHT
TZOFFSETFROM:+0100
TZOFFSETTO:+0200
TZNAME:CEST
DTSTART:20170326T010000
END:DAYLIGHT
BEGIN:STANDARD
TZOFFSETFROM:+0200
TZOFFSETTO:+0100
TZNAME:CET
DTSTART:20171029T010000
END:STANDARD
BEGIN:DAYLIGHT
TZOFFSETFROM:+0100
TZOFFSETTO:+0200
TZNAME:CEST
DTSTART:20180325T010000
END:DAYLIGHT
BEGIN:STANDARD
TZOFFSETFROM:+0200
TZOFFSETTO:+0100
TZNAME:CET
DTSTART:20181028T010000
END:STANDARD
BEGIN:DAYLIGHT
TZOFFSETFROM:+0100
TZOFFSETTO:+0200
TZNAME:CEST
DTSTART:20190331T010000
END:DAYLIGHT
BEGIN:STANDARD
TZOFFSETFROM:+0200
TZOFFSETTO:+0100
TZNAME:CET
DTSTART:20191027T010000
END:STANDARD
END:VTIMEZONE
BEGIN:VEVENT
DTSTART;TZID=Europe/San_Marino:20211113T123000
DTEND;TZID=Europe/San_Marino:20211114T153000
DTSTAMP:20260422T070524
CREATED:20211026T184356Z
LAST-MODIFIED:20211026T184356Z
UID:21926-1636806600-1636903800@ioamomontecampione.it
SUMMARY:Spiedo "weekend" alla Pizzeria Valgrande
DESCRIPTION:
URL:https://ioamomontecampione.it/event/spiedo-weekend-alla-pizzeria-valgrande/
LOCATION:Ristorante Pizzeria Valgrande\, Via Plan di Montecampione 58\, Artogne\, 25040\, Italia
ORGANIZER;CN="Ristorante Pizzeria Valgrande":MAILTO:pizzeriavalgrande.it@icloud.com
END:VEVENT
BEGIN:VEVENT
DTSTART;TZID=Europe/San_Marino:20210918T193000
DTEND;TZID=Europe/San_Marino:20210918T220000
DTSTAMP:20260422T070524
CREATED:20210910T153107Z
LAST-MODIFIED:20210910T153107Z
UID:20953-1631993400-1632002400@ioamomontecampione.it
SUMMARY:Spiedo presso il Ristorante Pizzeria Valgrande
DESCRIPTION:
URL:https://ioamomontecampione.it/event/spiedo-presso-il-ristorante-pizzeria-valgrande-2/
LOCATION:Ristorante Pizzeria Valgrande\, Via Plan di Montecampione 58\, Artogne\, 25040\, Italia
ORGANIZER;CN="Ristorante Pizzeria Valgrande":MAILTO:pizzeriavalgrande.it@icloud.com
END:VEVENT
BEGIN:VEVENT
DTSTART;TZID=Europe/San_Marino:20210703T193000
DTEND;TZID=Europe/San_Marino:20210703T213000
DTSTAMP:20260422T070524
CREATED:20210703T160946Z
LAST-MODIFIED:20210703T164017Z
UID:19812-1625340600-1625347800@ioamomontecampione.it
SUMMARY:Spiedo presso il Ristorante Pizzeria Valgrande
DESCRIPTION:
URL:https://ioamomontecampione.it/event/spiedo-presso-il-ristorante-pizzeria-valgrande/
LOCATION:Ristorante Pizzeria Valgrande\, Via Plan di Montecampione 58\, Artogne\, 25040\, Italia
ORGANIZER;CN="Ristorante Pizzeria Valgrande":MAILTO:pizzeriavalgrande.it@icloud.com
END:VEVENT
BEGIN:VEVENT
DTSTART;TZID=Europe/San_Marino:20200308T110000
DTEND;TZID=Europe/San_Marino:20200308T230000
DTSTAMP:20260422T070524
CREATED:20200225T173920Z
LAST-MODIFIED:20200225T173920Z
UID:16064-1583665200-1583708400@ioamomontecampione.it
SUMMARY:Festa di Bassinale Winter Edition al Plan di Montecampione
DESCRIPTION:Menù Spiedo (solo su prenotazione al +39 335495765 \nStrinù e Formaggio fuso a volontà! \nMusica con Ivanix & Riki Paldi
URL:https://ioamomontecampione.it/event/festa-di-bassinale-winter-edition-al-plan-di-montecampione/
LOCATION:Azienda Agricola Andreoli Marta in Bassinale\, Malga Bassinale\, Artogne\, 25040\, Italia
END:VEVENT
BEGIN:VEVENT
DTSTART;TZID=Europe/San_Marino:20200119T110000
DTEND;TZID=Europe/San_Marino:20200119T200000
DTSTAMP:20260422T070524
CREATED:20200113T183430Z
LAST-MODIFIED:20200113T183430Z
UID:15514-1579431600-1579464000@ioamomontecampione.it
SUMMARY:Festa di Bassinale Winter Edition alla Malga Bassinale di Montecampione
DESCRIPTION:
URL:https://ioamomontecampione.it/event/festa-di-bassinale-winter-edition-alla-malga-bassinale-di-montecampione/
LOCATION:Azienda Agricola Andreoli Marta in Bassinale\, Malga Bassinale\, Artogne\, 25040\, Italia
END:VEVENT
BEGIN:VEVENT
DTSTART;TZID=Europe/San_Marino:20191027T120000
DTEND;TZID=Europe/San_Marino:20191027T150000
DTSTAMP:20260422T070524
CREATED:20191023T155331Z
LAST-MODIFIED:20191023T155331Z
UID:14139-1572177600-1572188400@ioamomontecampione.it
SUMMARY:Spiedo d'Autunno alla Scuola Materna Parocchiale di Vissone
DESCRIPTION:
URL:https://ioamomontecampione.it/event/spiedo-dautunno-alla-scuola-materna-parocchiale-di-vissone/
LOCATION:Chiesa Parrocchiale di Vissone\, Via della Chiesa 3\, Vissone di Pian Camuno\, 25050\, Italia
END:VEVENT
BEGIN:VEVENT
DTSTART;TZID=Europe/San_Marino:20190928T193000
DTEND;TZID=Europe/San_Marino:20190928T223000
DTSTAMP:20260422T070524
CREATED:20190910T163615Z
LAST-MODIFIED:20190910T163615Z
UID:13644-1569699000-1569709800@ioamomontecampione.it
SUMMARY:Cena con Spiedo alla Bresciana e Castagnata alla Pizzeria Valgrande di Montecampione
DESCRIPTION:
URL:https://ioamomontecampione.it/event/cena-con-spiedo-alla-bresciana-e-castagnata-alla-pizzeria-valgrande-di-montecampione/
LOCATION:Ristorante Pizzeria Valgrande\, Via Plan di Montecampione 58\, Artogne\, 25040\, Italia
ORGANIZER;CN="Ristorante Pizzeria Valgrande":MAILTO:pizzeriavalgrande.it@icloud.com
END:VEVENT
BEGIN:VEVENT
DTSTART;TZID=Europe/San_Marino:20190728T130000
DTEND;TZID=Europe/San_Marino:20190728T150000
DTSTAMP:20260422T070524
CREATED:20190723T200917Z
LAST-MODIFIED:20190723T200917Z
UID:12860-1564318800-1564326000@ioamomontecampione.it
SUMMARY:Spiedo alla Bresciana al Ristorante Pizzeria Valgrande di Montecampione
DESCRIPTION:
URL:https://ioamomontecampione.it/event/spiedo-alla-bresciana-al-ristorante-pizzeria-valgrande-di-montecampione-3/
LOCATION:Ristorante Pizzeria Valgrande\, Via Plan di Montecampione 58\, Artogne\, 25040\, Italia
ORGANIZER;CN="Ristorante Pizzeria Valgrande":MAILTO:pizzeriavalgrande.it@icloud.com
END:VEVENT
BEGIN:VEVENT
DTSTART;TZID=Europe/San_Marino:20190323T190000
DTEND;TZID=Europe/San_Marino:20190323T223000
DTSTAMP:20260422T070524
CREATED:20190305T185021Z
LAST-MODIFIED:20190305T185126Z
UID:10411-1553367600-1553380200@ioamomontecampione.it
SUMMARY:Spiedo alla Bresciana al Ristorante Pizzeria Valgrande di Montecampione
DESCRIPTION:
URL:https://ioamomontecampione.it/event/spiedo-alla-bresciana-al-ristorante-pizzeria-valgrande-di-montecampione-2/
LOCATION:Ristorante Pizzeria Valgrande\, Via Plan di Montecampione 58\, Artogne\, 25040\, Italia
ORGANIZER;CN="Ristorante Pizzeria Valgrande":MAILTO:pizzeriavalgrande.it@icloud.com
END:VEVENT
BEGIN:VEVENT
DTSTART;TZID=Europe/San_Marino:20190302T190000
DTEND;TZID=Europe/San_Marino:20190302T233000
DTSTAMP:20260422T070524
CREATED:20190220T193033Z
LAST-MODIFIED:20190220T193238Z
UID:10199-1551553200-1551569400@ioamomontecampione.it
SUMMARY:Carnevale al Bait di Montecampione
DESCRIPTION:
URL:https://ioamomontecampione.it/event/carnevale-al-bait-di-montecampione/
LOCATION:Rifugio Al Bait\, Via Plan di Montecampione 86\, Artogne\, 25040\, Italia
ORGANIZER;CN="Rifugio Al Bait":MAILTO:rifugioilbait@libero.it
END:VEVENT
BEGIN:VEVENT
DTSTART;TZID=Europe/San_Marino:20181006T190000
DTEND;TZID=Europe/San_Marino:20181006T223000
DTSTAMP:20260422T070524
CREATED:20180925T183614Z
LAST-MODIFIED:20190305T185740Z
UID:5803-1538852400-1538865000@ioamomontecampione.it
SUMMARY:Spiedo alla Bresciana al Ristorante Pizzeria Valgrande di Montecampione
DESCRIPTION:
URL:https://ioamomontecampione.it/event/spiedo-alla-bresciana-al-ristorante-pizzeria-valgrande-di-montecampione/
LOCATION:Ristorante Pizzeria Valgrande\, Via Plan di Montecampione 58\, Artogne\, 25040\, Italia
ORGANIZER;CN="Ristorante Pizzeria Valgrande":MAILTO:pizzeriavalgrande.it@icloud.com
END:VEVENT
BEGIN:VEVENT
DTSTART;TZID=Europe/Rome:20180810T190000
DTEND;TZID=Europe/Rome:20180810T220000
DTSTAMP:20260422T070524
CREATED:20180808T215551Z
LAST-MODIFIED:20180808T215551Z
UID:4257-1533927600-1533938400@ioamomontecampione.it
SUMMARY:Spiedo Bresciano al Rifugio Al Bait di Montecampione!
DESCRIPTION:
URL:https://ioamomontecampione.it/event/spiedo-bresciano-al-rifugio-al-bait-di-montecampione/
LOCATION:Rifugio Al Bait\, Via Plan di Montecampione 86\, Artogne\, 25040\, Italia
ORGANIZER;CN="Rifugio Al Bait":MAILTO:rifugioilbait@libero.it
END:VEVENT
END:VCALENDAR