BEGIN:VCALENDAR
VERSION:2.0
PRODID:-//I ♥ MONTECAMPIONE - ECPv6.15.20//NONSGML v1.0//EN
CALSCALE:GREGORIAN
METHOD:PUBLISH
X-ORIGINAL-URL:https://ioamomontecampione.it
X-WR-CALDESC:Eventi per I ♥ MONTECAMPIONE
REFRESH-INTERVAL;VALUE=DURATION:PT1H
X-Robots-Tag:noindex
X-PUBLISHED-TTL:PT1H
BEGIN:VTIMEZONE
TZID:Europe/San_Marino
BEGIN:DAYLIGHT
TZOFFSETFROM:+0100
TZOFFSETTO:+0200
TZNAME:CEST
DTSTART:20180325T010000
END:DAYLIGHT
BEGIN:STANDARD
TZOFFSETFROM:+0200
TZOFFSETTO:+0100
TZNAME:CET
DTSTART:20181028T010000
END:STANDARD
BEGIN:DAYLIGHT
TZOFFSETFROM:+0100
TZOFFSETTO:+0200
TZNAME:CEST
DTSTART:20190331T010000
END:DAYLIGHT
BEGIN:STANDARD
TZOFFSETFROM:+0200
TZOFFSETTO:+0100
TZNAME:CET
DTSTART:20191027T010000
END:STANDARD
BEGIN:DAYLIGHT
TZOFFSETFROM:+0100
TZOFFSETTO:+0200
TZNAME:CEST
DTSTART:20200329T010000
END:DAYLIGHT
BEGIN:STANDARD
TZOFFSETFROM:+0200
TZOFFSETTO:+0100
TZNAME:CET
DTSTART:20201025T010000
END:STANDARD
BEGIN:DAYLIGHT
TZOFFSETFROM:+0100
TZOFFSETTO:+0200
TZNAME:CEST
DTSTART:20210328T010000
END:DAYLIGHT
BEGIN:STANDARD
TZOFFSETFROM:+0200
TZOFFSETTO:+0100
TZNAME:CET
DTSTART:20211031T010000
END:STANDARD
BEGIN:DAYLIGHT
TZOFFSETFROM:+0100
TZOFFSETTO:+0200
TZNAME:CEST
DTSTART:20220327T010000
END:DAYLIGHT
BEGIN:STANDARD
TZOFFSETFROM:+0200
TZOFFSETTO:+0100
TZNAME:CET
DTSTART:20221030T010000
END:STANDARD
END:VTIMEZONE
BEGIN:VTIMEZONE
TZID:Europe/Rome
BEGIN:DAYLIGHT
TZOFFSETFROM:+0100
TZOFFSETTO:+0200
TZNAME:CEST
DTSTART:20170326T010000
END:DAYLIGHT
BEGIN:STANDARD
TZOFFSETFROM:+0200
TZOFFSETTO:+0100
TZNAME:CET
DTSTART:20171029T010000
END:STANDARD
BEGIN:DAYLIGHT
TZOFFSETFROM:+0100
TZOFFSETTO:+0200
TZNAME:CEST
DTSTART:20180325T010000
END:DAYLIGHT
BEGIN:STANDARD
TZOFFSETFROM:+0200
TZOFFSETTO:+0100
TZNAME:CET
DTSTART:20181028T010000
END:STANDARD
BEGIN:DAYLIGHT
TZOFFSETFROM:+0100
TZOFFSETTO:+0200
TZNAME:CEST
DTSTART:20190331T010000
END:DAYLIGHT
BEGIN:STANDARD
TZOFFSETFROM:+0200
TZOFFSETTO:+0100
TZNAME:CET
DTSTART:20191027T010000
END:STANDARD
END:VTIMEZONE
BEGIN:VEVENT
DTSTART;TZID=Europe/San_Marino:20210815T100000
DTEND;TZID=Europe/San_Marino:20210815T130000
DTSTAMP:20260425T004349
CREATED:20210809T125115Z
LAST-MODIFIED:20210809T125115Z
UID:20381-1629021600-1629032400@ioamomontecampione.it
SUMMARY:Gara ciclistica “41° TROFEO PIANCAMUNO” con arrivo presso il Condominio Portico di Montecampione
DESCRIPTION:
URL:https://ioamomontecampione.it/event/gara-ciclistica-41-trofeo-piancamuno-con-arrivo-presso-il-condominio-portico-di-montecampione/
LOCATION:Tabaccheria Arrigoni\, Via Panoramica di Montecampione 75\, Pian Camuno\, 25050\, Italia
ORGANIZER;CN="Castiglioni's Tennis Team":MAILTO:m.castigia@alice.it
END:VEVENT
BEGIN:VEVENT
DTSTART;TZID=Europe/San_Marino:20190623T073000
DTEND;TZID=Europe/San_Marino:20190623T160000
DTSTAMP:20260425T004349
CREATED:20190518T093158Z
LAST-MODIFIED:20190519T062244Z
UID:11754-1561275000-1561305600@ioamomontecampione.it
SUMMARY:Team Bardy organizza la prova unica del Campionato Italiano dalla Montagna 2019 Artogne/Montecampione
DESCRIPTION:DETTAGLIO DELLA SALITA: \n\n \nPENDENZA MEDIA E AUMENTO DI QUOTA CON SETTORI SUDDIVISI IN MT.1000\n \nParziale 1 1\,0 km AUTOMENTO 89 m P.MEDIA 8\,8%\nParziale 2 1\,0 km AUTOMENTO 82 m P.MEDIA 8\,2%\nParziale 3 1\,0 km AUTOMENTO 91 m P.MEDIA 9\,1%\nParziale 4 1\,0 km AUTOMENTO 86 m P.MEDIA 8\,6%\nParziale 5 1\,0 km AUTOMENTO 67 m P.MEDIA 6\,7%\nParziale 6 1\,0 km AUTOMENTO 90 m P.MEDIA 8\,8%\nParziale 7 1\,0 km AUTOMENTO 87 m P.MEDIA 8\,6%\nParziale 8 1\,0 km AUTOMENTO 102 m P.MEDIA 10\,2%\nParziale 9 0\,7 km AUTOMENTO 56 m P.MEDIA 7\,8%
URL:https://ioamomontecampione.it/event/team-bardy-organizza-la-prova-unica-di-campionato-italiano-dalla-montagna-2019/
LOCATION:Piazza Lorenzetti di Artogne\, Via Lorenzetti\, 25040\, 25040\, Italia
ORGANIZER;CN="Team Bardy":MAILTO:t.bardella@libero.it
END:VEVENT
BEGIN:VEVENT
DTSTART;TZID=Europe/Rome:20180722T090000
DTEND;TZID=Europe/Rome:20180722T133000
DTSTAMP:20260425T004349
CREATED:20180717T130548Z
LAST-MODIFIED:20180717T130548Z
UID:3557-1532250000-1532266200@ioamomontecampione.it
SUMMARY:Gara Ciclistica in salita: 2a Artogne - Plan di Montecampione
DESCRIPTION:
URL:https://ioamomontecampione.it/event/gara-ciclistica-in-salita-2a-artogne-plan-di-montecampione/
LOCATION:Le Baite 1800\, Via Plan di Montecampione (4\,94 km)\, Artogne\, 25040\, Italia
ORGANIZER;CN="Team Bardy":MAILTO:t.bardella@libero.it
END:VEVENT
END:VCALENDAR