BEGIN:VCALENDAR
VERSION:2.0
PRODID:-//I ♥ MONTECAMPIONE - ECPv6.15.20//NONSGML v1.0//EN
CALSCALE:GREGORIAN
METHOD:PUBLISH
X-ORIGINAL-URL:https://ioamomontecampione.it
X-WR-CALDESC:Eventi per I ♥ MONTECAMPIONE
REFRESH-INTERVAL;VALUE=DURATION:PT1H
X-Robots-Tag:noindex
X-PUBLISHED-TTL:PT1H
BEGIN:VTIMEZONE
TZID:Europe/San_Marino
BEGIN:DAYLIGHT
TZOFFSETFROM:+0100
TZOFFSETTO:+0200
TZNAME:CEST
DTSTART:20180325T010000
END:DAYLIGHT
BEGIN:STANDARD
TZOFFSETFROM:+0200
TZOFFSETTO:+0100
TZNAME:CET
DTSTART:20181028T010000
END:STANDARD
BEGIN:DAYLIGHT
TZOFFSETFROM:+0100
TZOFFSETTO:+0200
TZNAME:CEST
DTSTART:20190331T010000
END:DAYLIGHT
BEGIN:STANDARD
TZOFFSETFROM:+0200
TZOFFSETTO:+0100
TZNAME:CET
DTSTART:20191027T010000
END:STANDARD
BEGIN:DAYLIGHT
TZOFFSETFROM:+0100
TZOFFSETTO:+0200
TZNAME:CEST
DTSTART:20200329T010000
END:DAYLIGHT
BEGIN:STANDARD
TZOFFSETFROM:+0200
TZOFFSETTO:+0100
TZNAME:CET
DTSTART:20201025T010000
END:STANDARD
END:VTIMEZONE
BEGIN:VTIMEZONE
TZID:Europe/Rome
BEGIN:DAYLIGHT
TZOFFSETFROM:+0100
TZOFFSETTO:+0200
TZNAME:CEST
DTSTART:20170326T010000
END:DAYLIGHT
BEGIN:STANDARD
TZOFFSETFROM:+0200
TZOFFSETTO:+0100
TZNAME:CET
DTSTART:20171029T010000
END:STANDARD
BEGIN:DAYLIGHT
TZOFFSETFROM:+0100
TZOFFSETTO:+0200
TZNAME:CEST
DTSTART:20180325T010000
END:DAYLIGHT
BEGIN:STANDARD
TZOFFSETFROM:+0200
TZOFFSETTO:+0100
TZNAME:CET
DTSTART:20181028T010000
END:STANDARD
BEGIN:DAYLIGHT
TZOFFSETFROM:+0100
TZOFFSETTO:+0200
TZNAME:CEST
DTSTART:20190331T010000
END:DAYLIGHT
BEGIN:STANDARD
TZOFFSETFROM:+0200
TZOFFSETTO:+0100
TZNAME:CET
DTSTART:20191027T010000
END:STANDARD
END:VTIMEZONE
BEGIN:VEVENT
DTSTART;TZID=Europe/San_Marino:20190818T211500
DTEND;TZID=Europe/San_Marino:20190818T233000
DTSTAMP:20260422T081132
CREATED:20190812T054021Z
LAST-MODIFIED:20190812T054021Z
UID:13191-1566162900-1566171000@ioamomontecampione.it
SUMMARY:Nella Piazzetta di Montecampione si esibisce il Complesso Filarmonico Lombardo
DESCRIPTION:
URL:https://ioamomontecampione.it/event/nella-piazzetta-di-montecampione-si-esibisce-il-complesso-filarmonico-lombardo/
LOCATION:Piazzetta di Montecampione\, Via Pradosole di Montecampione 50\, Artogne\, 25040\, Italia
ORGANIZER;CN="Consorzio Montecampione":MAILTO:info@consorziomontecampione.it
END:VEVENT
BEGIN:VEVENT
DTSTART;TZID=Europe/Rome:20180817T211500
DTEND;TZID=Europe/Rome:20180817T233000
DTSTAMP:20260422T081132
CREATED:20180817T133733Z
LAST-MODIFIED:20180817T133733Z
UID:4670-1534540500-1534548600@ioamomontecampione.it
SUMMARY:Concerto del Complesso Filarmonico Lombardo nella Piazzetta di Montecampione
DESCRIPTION:
URL:https://ioamomontecampione.it/event/concerto-del-complesso-filarmonico-lombardo-nella-piazzetta-di-montecampione/
LOCATION:Piazzetta di Montecampione\, Via Pradosole di Montecampione 50\, Artogne\, 25040\, Italia
ORGANIZER;CN="Consorzio Montecampione":MAILTO:info@consorziomontecampione.it
END:VEVENT
END:VCALENDAR