BEGIN:VCALENDAR
VERSION:2.0
PRODID:-//I ♥ MONTECAMPIONE - ECPv6.15.20//NONSGML v1.0//EN
CALSCALE:GREGORIAN
METHOD:PUBLISH
X-WR-CALNAME:I ♥ MONTECAMPIONE
X-ORIGINAL-URL:https://ioamomontecampione.it
X-WR-CALDESC:Eventi per I ♥ MONTECAMPIONE
REFRESH-INTERVAL;VALUE=DURATION:PT1H
X-Robots-Tag:noindex
X-PUBLISHED-TTL:PT1H
BEGIN:VTIMEZONE
TZID:Europe/San_Marino
BEGIN:DAYLIGHT
TZOFFSETFROM:+0100
TZOFFSETTO:+0200
TZNAME:CEST
DTSTART:20200329T010000
END:DAYLIGHT
BEGIN:STANDARD
TZOFFSETFROM:+0200
TZOFFSETTO:+0100
TZNAME:CET
DTSTART:20201025T010000
END:STANDARD
BEGIN:DAYLIGHT
TZOFFSETFROM:+0100
TZOFFSETTO:+0200
TZNAME:CEST
DTSTART:20210328T010000
END:DAYLIGHT
BEGIN:STANDARD
TZOFFSETFROM:+0200
TZOFFSETTO:+0100
TZNAME:CET
DTSTART:20211031T010000
END:STANDARD
BEGIN:DAYLIGHT
TZOFFSETFROM:+0100
TZOFFSETTO:+0200
TZNAME:CEST
DTSTART:20220327T010000
END:DAYLIGHT
BEGIN:STANDARD
TZOFFSETFROM:+0200
TZOFFSETTO:+0100
TZNAME:CET
DTSTART:20221030T010000
END:STANDARD
END:VTIMEZONE
BEGIN:VEVENT
DTSTART;TZID=Europe/San_Marino:20211205T080000
DTEND;TZID=Europe/San_Marino:20211205T123000
DTSTAMP:20260424T174653
CREATED:20211103T112217Z
LAST-MODIFIED:20211104T100620Z
UID:22444-1638691200-1638707400@ioamomontecampione.it
SUMMARY:Ultimate Vikings organizza ASGARD\, una gara OCR  a Montecampione
DESCRIPTION:Un Trail con 150 partecipanti provenienti da tutta Italia\, di 7 km con un dislivello positivo di circa 300 metri con 15 ostacoli tipologia militare tra neve e ghiacci\, ripide salite nei boschi e sentieri. \nTutto questo arricchito da “imprevisti” che renderanno ancora più difficle portare le vostre ossa al traguardo! \nLa nuova location “Plan di Montecampione” è situata a 1800 metri di quota ed è una frazione del comune di Artogne\, facilmente raggiungibile dalla statale SS 42 \, uscita “Piancamuno”\, salite per circa 13 km incontrando prima “Montecampione 1200” da dove partono gli impianti sciistici e dopo 15′ di strada arriverete al parco gara.
URL:https://ioamomontecampione.it/event/ultimate-vikings-staff-organizza-una-gara-ocr-a-montecampione/
LOCATION:Plan di Montecampione\, Via Plan di Montecampione\, Artogne\, 25040\, Italia
ORGANIZER;CN="Ultimate Vikings RACE":MAILTO:closecombatitalia@libero.it
END:VEVENT
END:VCALENDAR