BEGIN:VCALENDAR
VERSION:2.0
PRODID:-//I ♥ MONTECAMPIONE - ECPv6.15.20//NONSGML v1.0//EN
CALSCALE:GREGORIAN
METHOD:PUBLISH
X-ORIGINAL-URL:https://ioamomontecampione.it
X-WR-CALDESC:Eventi per I ♥ MONTECAMPIONE
REFRESH-INTERVAL;VALUE=DURATION:PT1H
X-Robots-Tag:noindex
X-PUBLISHED-TTL:PT1H
BEGIN:VTIMEZONE
TZID:Europe/San_Marino
BEGIN:DAYLIGHT
TZOFFSETFROM:+0100
TZOFFSETTO:+0200
TZNAME:CEST
DTSTART:20180325T010000
END:DAYLIGHT
BEGIN:STANDARD
TZOFFSETFROM:+0200
TZOFFSETTO:+0100
TZNAME:CET
DTSTART:20181028T010000
END:STANDARD
BEGIN:DAYLIGHT
TZOFFSETFROM:+0100
TZOFFSETTO:+0200
TZNAME:CEST
DTSTART:20190331T010000
END:DAYLIGHT
BEGIN:STANDARD
TZOFFSETFROM:+0200
TZOFFSETTO:+0100
TZNAME:CET
DTSTART:20191027T010000
END:STANDARD
BEGIN:DAYLIGHT
TZOFFSETFROM:+0100
TZOFFSETTO:+0200
TZNAME:CEST
DTSTART:20200329T010000
END:DAYLIGHT
BEGIN:STANDARD
TZOFFSETFROM:+0200
TZOFFSETTO:+0100
TZNAME:CET
DTSTART:20201025T010000
END:STANDARD
BEGIN:DAYLIGHT
TZOFFSETFROM:+0100
TZOFFSETTO:+0200
TZNAME:CEST
DTSTART:20210328T010000
END:DAYLIGHT
BEGIN:STANDARD
TZOFFSETFROM:+0200
TZOFFSETTO:+0100
TZNAME:CET
DTSTART:20211031T010000
END:STANDARD
END:VTIMEZONE
BEGIN:VTIMEZONE
TZID:Europe/Rome
BEGIN:DAYLIGHT
TZOFFSETFROM:+0100
TZOFFSETTO:+0200
TZNAME:CEST
DTSTART:20170326T010000
END:DAYLIGHT
BEGIN:STANDARD
TZOFFSETFROM:+0200
TZOFFSETTO:+0100
TZNAME:CET
DTSTART:20171029T010000
END:STANDARD
BEGIN:DAYLIGHT
TZOFFSETFROM:+0100
TZOFFSETTO:+0200
TZNAME:CEST
DTSTART:20180325T010000
END:DAYLIGHT
BEGIN:STANDARD
TZOFFSETFROM:+0200
TZOFFSETTO:+0100
TZNAME:CET
DTSTART:20181028T010000
END:STANDARD
BEGIN:DAYLIGHT
TZOFFSETFROM:+0100
TZOFFSETTO:+0200
TZNAME:CEST
DTSTART:20190331T010000
END:DAYLIGHT
BEGIN:STANDARD
TZOFFSETFROM:+0200
TZOFFSETTO:+0100
TZNAME:CET
DTSTART:20191027T010000
END:STANDARD
END:VTIMEZONE
BEGIN:VEVENT
DTSTART;TZID=Europe/San_Marino:20200716T193000
DTEND;TZID=Europe/San_Marino:20200716T210000
DTSTAMP:20260422T081123
CREATED:20200711T084802Z
LAST-MODIFIED:20200711T084802Z
UID:18408-1594927800-1594933200@ioamomontecampione.it
SUMMARY:Al Fiocco di Neve di Montecampione\, Giropizza a volontà!
DESCRIPTION:
URL:https://ioamomontecampione.it/event/al-fiocco-di-neve-di-montecampione-giropizza-a-volonta-15/
LOCATION:Bar Pizzeria Fiocco di Neve\, Via Plan di Montecampione 64\, Artogne\, 25040\, Italia
ORGANIZER;CN="Bar Pizzeria Fiocco di Neve":MAILTO:martafontana@me.com
END:VEVENT
BEGIN:VEVENT
DTSTART;TZID=Europe/San_Marino:20190829T193000
DTEND;TZID=Europe/San_Marino:20190829T223000
DTSTAMP:20260422T081123
CREATED:20190729T103027Z
LAST-MODIFIED:20190729T103027Z
UID:12978-1567107000-1567117800@ioamomontecampione.it
SUMMARY:Al Fiocco di Neve di Montecampione\, Giropizza a volontà!
DESCRIPTION:
URL:https://ioamomontecampione.it/event/al-fiocco-di-neve-di-montecampione-giropizza-a-volonta-14/
LOCATION:Bar Pizzeria Fiocco di Neve\, Via Plan di Montecampione 64\, Artogne\, 25040\, Italia
ORGANIZER;CN="Bar Pizzeria Fiocco di Neve":MAILTO:martafontana@me.com
END:VEVENT
BEGIN:VEVENT
DTSTART;TZID=Europe/San_Marino:20190822T193000
DTEND;TZID=Europe/San_Marino:20190822T223000
DTSTAMP:20260422T081123
CREATED:20190729T102856Z
LAST-MODIFIED:20190729T102934Z
UID:12976-1566502200-1566513000@ioamomontecampione.it
SUMMARY:Al Fiocco di Neve di Montecampione\, Giropizza a volontà!
DESCRIPTION:
URL:https://ioamomontecampione.it/event/al-fiocco-di-neve-di-montecampione-giropizza-a-volonta-13/
LOCATION:Bar Pizzeria Fiocco di Neve\, Via Plan di Montecampione 64\, Artogne\, 25040\, Italia
ORGANIZER;CN="Bar Pizzeria Fiocco di Neve":MAILTO:martafontana@me.com
END:VEVENT
BEGIN:VEVENT
DTSTART;TZID=Europe/San_Marino:20190808T193000
DTEND;TZID=Europe/San_Marino:20190808T223000
DTSTAMP:20260422T081123
CREATED:20190729T102816Z
LAST-MODIFIED:20190729T102816Z
UID:12974-1565292600-1565303400@ioamomontecampione.it
SUMMARY:Al Fiocco di Neve di Montecampione\, Giropizza a volontà!
DESCRIPTION:
URL:https://ioamomontecampione.it/event/al-fiocco-di-neve-di-montecampione-giropizza-a-volonta-12/
LOCATION:Bar Pizzeria Fiocco di Neve\, Via Plan di Montecampione 64\, Artogne\, 25040\, Italia
ORGANIZER;CN="Bar Pizzeria Fiocco di Neve":MAILTO:martafontana@me.com
END:VEVENT
BEGIN:VEVENT
DTSTART;TZID=Europe/San_Marino:20190801T193000
DTEND;TZID=Europe/San_Marino:20190801T223000
DTSTAMP:20260422T081123
CREATED:20190729T102703Z
LAST-MODIFIED:20190729T102703Z
UID:12972-1564687800-1564698600@ioamomontecampione.it
SUMMARY:Al Fiocco di Neve di Montecampione\, Giropizza a volontà!
DESCRIPTION:
URL:https://ioamomontecampione.it/event/al-fiocco-di-neve-di-montecampione-giropizza-a-volonta-11/
LOCATION:Bar Pizzeria Fiocco di Neve\, Via Plan di Montecampione 64\, Artogne\, 25040\, Italia
ORGANIZER;CN="Bar Pizzeria Fiocco di Neve":MAILTO:martafontana@me.com
END:VEVENT
BEGIN:VEVENT
DTSTART;TZID=Europe/San_Marino:20190725T190000
DTEND;TZID=Europe/San_Marino:20190725T230000
DTSTAMP:20260422T081123
CREATED:20190709T075202Z
LAST-MODIFIED:20190709T075238Z
UID:12518-1564081200-1564095600@ioamomontecampione.it
SUMMARY:Al Fiocco di Neve di Montecampione\, Giropizza a volontà!
DESCRIPTION:
URL:https://ioamomontecampione.it/event/al-fiocco-di-neve-di-montecampione-giropizza-a-volonta-10/
LOCATION:Bar Pizzeria Fiocco di Neve\, Via Plan di Montecampione 64\, Artogne\, 25040\, Italia
ORGANIZER;CN="Bar Pizzeria Fiocco di Neve":MAILTO:martafontana@me.com
END:VEVENT
BEGIN:VEVENT
DTSTART;TZID=Europe/San_Marino:20190718T190000
DTEND;TZID=Europe/San_Marino:20190718T230000
DTSTAMP:20260422T081123
CREATED:20190709T075101Z
LAST-MODIFIED:20190709T075101Z
UID:12516-1563476400-1563490800@ioamomontecampione.it
SUMMARY:Al Fiocco di Neve di Montecampione\, Giropizza a volontà!
DESCRIPTION:
URL:https://ioamomontecampione.it/event/al-fiocco-di-neve-di-montecampione-giropizza-a-volonta-9/
LOCATION:Bar Pizzeria Fiocco di Neve\, Via Plan di Montecampione 64\, Artogne\, 25040\, Italia
ORGANIZER;CN="Bar Pizzeria Fiocco di Neve":MAILTO:martafontana@me.com
END:VEVENT
BEGIN:VEVENT
DTSTART;TZID=Europe/San_Marino:20190711T190000
DTEND;TZID=Europe/San_Marino:20190711T230000
DTSTAMP:20260422T081123
CREATED:20190620T094550Z
LAST-MODIFIED:20190709T074734Z
UID:12225-1562871600-1562886000@ioamomontecampione.it
SUMMARY:Al Fiocco di Neve di Montecampione\, Giropizza a volontà!
DESCRIPTION:
URL:https://ioamomontecampione.it/event/al-fiocco-di-neve-di-montecampione-giropizza-a-volonta-8/
LOCATION:Bar Pizzeria Fiocco di Neve\, Via Plan di Montecampione 64\, Artogne\, 25040\, Italia
ORGANIZER;CN="Bar Pizzeria Fiocco di Neve":MAILTO:martafontana@me.com
END:VEVENT
BEGIN:VEVENT
DTSTART;TZID=Europe/Rome:20180830T190000
DTEND;TZID=Europe/Rome:20180830T230000
DTSTAMP:20260422T081123
CREATED:20180712T183011Z
LAST-MODIFIED:20180712T183011Z
UID:3296-1535655600-1535670000@ioamomontecampione.it
SUMMARY:Al Fiocco di Neve di Montecampione\, Giropizza a volontà!
DESCRIPTION:
URL:https://ioamomontecampione.it/event/al-fiocco-di-neve-di-montecampione-giropizza-a-volonta-7/
LOCATION:Bar Pizzeria Fiocco di Neve\, Via Plan di Montecampione 64\, Artogne\, 25040\, Italia
ORGANIZER;CN="Bar Pizzeria Fiocco di Neve":MAILTO:martafontana@me.com
END:VEVENT
BEGIN:VEVENT
DTSTART;TZID=Europe/Rome:20180823T190000
DTEND;TZID=Europe/Rome:20180823T230000
DTSTAMP:20260422T081123
CREATED:20180712T182844Z
LAST-MODIFIED:20180712T182844Z
UID:3294-1535050800-1535065200@ioamomontecampione.it
SUMMARY:Al Fiocco di Neve di Montecampione\, Giropizza a volontà!
DESCRIPTION:
URL:https://ioamomontecampione.it/event/al-fiocco-di-neve-di-montecampione-giropizza-a-volonta-6/
LOCATION:Bar Pizzeria Fiocco di Neve\, Via Plan di Montecampione 64\, Artogne\, 25040\, Italia
ORGANIZER;CN="Bar Pizzeria Fiocco di Neve":MAILTO:martafontana@me.com
END:VEVENT
BEGIN:VEVENT
DTSTART;TZID=Europe/Rome:20180816T190000
DTEND;TZID=Europe/Rome:20180816T230000
DTSTAMP:20260422T081123
CREATED:20180712T182432Z
LAST-MODIFIED:20180712T182444Z
UID:3292-1534446000-1534460400@ioamomontecampione.it
SUMMARY:Al Fiocco di Neve di Montecampione\, Giropizza a volontà!
DESCRIPTION:
URL:https://ioamomontecampione.it/event/al-fiocco-di-neve-di-montecampione-giropizza-a-volonta-5/
LOCATION:Bar Pizzeria Fiocco di Neve\, Via Plan di Montecampione 64\, Artogne\, 25040\, Italia
ORGANIZER;CN="Bar Pizzeria Fiocco di Neve":MAILTO:martafontana@me.com
END:VEVENT
BEGIN:VEVENT
DTSTART;TZID=Europe/Rome:20180809T190000
DTEND;TZID=Europe/Rome:20180809T230000
DTSTAMP:20260422T081123
CREATED:20180712T182243Z
LAST-MODIFIED:20180712T182243Z
UID:3289-1533841200-1533855600@ioamomontecampione.it
SUMMARY:Al Fiocco di Neve di Montecampione\, Giropizza a volontà!
DESCRIPTION:
URL:https://ioamomontecampione.it/event/al-fiocco-di-neve-di-montecampione-giropizza-a-volonta-4/
LOCATION:Bar Pizzeria Fiocco di Neve\, Via Plan di Montecampione 64\, Artogne\, 25040\, Italia
ORGANIZER;CN="Bar Pizzeria Fiocco di Neve":MAILTO:martafontana@me.com
END:VEVENT
BEGIN:VEVENT
DTSTART;TZID=Europe/Rome:20180802T190000
DTEND;TZID=Europe/Rome:20180802T230000
DTSTAMP:20260422T081123
CREATED:20180712T182132Z
LAST-MODIFIED:20180712T182132Z
UID:3287-1533236400-1533250800@ioamomontecampione.it
SUMMARY:Al Fiocco di Neve di Montecampione\, Giropizza a volontà!
DESCRIPTION:
URL:https://ioamomontecampione.it/event/al-fiocco-di-neve-di-montecampione-giropizza-a-volonta-3/
LOCATION:Bar Pizzeria Fiocco di Neve\, Via Plan di Montecampione 64\, Artogne\, 25040\, Italia
ORGANIZER;CN="Bar Pizzeria Fiocco di Neve":MAILTO:martafontana@me.com
END:VEVENT
BEGIN:VEVENT
DTSTART;TZID=Europe/Rome:20180726T190000
DTEND;TZID=Europe/Rome:20180726T230000
DTSTAMP:20260422T081123
CREATED:20180712T182009Z
LAST-MODIFIED:20180712T182009Z
UID:3285-1532631600-1532646000@ioamomontecampione.it
SUMMARY:Al Fiocco di Neve di Montecampione\, Giropizza a volontà!
DESCRIPTION:
URL:https://ioamomontecampione.it/event/al-fiocco-di-neve-di-montecampione-giropizza-a-volonta-2/
LOCATION:Bar Pizzeria Fiocco di Neve\, Via Plan di Montecampione 64\, Artogne\, 25040\, Italia
ORGANIZER;CN="Bar Pizzeria Fiocco di Neve":MAILTO:martafontana@me.com
END:VEVENT
BEGIN:VEVENT
DTSTART;TZID=Europe/Rome:20180719T190000
DTEND;TZID=Europe/Rome:20180719T230000
DTSTAMP:20260422T081123
CREATED:20180712T181837Z
LAST-MODIFIED:20180716T112154Z
UID:3283-1532026800-1532041200@ioamomontecampione.it
SUMMARY:Al Fiocco di Neve di Montecampione\, Giropizza a volontà!
DESCRIPTION:
URL:https://ioamomontecampione.it/event/tutti-gli-eventi-al-fiocco-di-neve-di-montecampione-giropizza-a-volonta/
LOCATION:Bar Pizzeria Fiocco di Neve\, Via Plan di Montecampione 64\, Artogne\, 25040\, Italia
ORGANIZER;CN="Bar Pizzeria Fiocco di Neve":MAILTO:martafontana@me.com
END:VEVENT
BEGIN:VEVENT
DTSTART;TZID=Europe/Rome:20180712T190000
DTEND;TZID=Europe/Rome:20180712T230000
DTSTAMP:20260422T081123
CREATED:20180712T181305Z
LAST-MODIFIED:20180712T181305Z
UID:3281-1531422000-1531436400@ioamomontecampione.it
SUMMARY:Al Fiocco di Neve di Montecampione\, Giropizza a volontà!
DESCRIPTION:
URL:https://ioamomontecampione.it/event/al-fiocco-di-neve-di-montecampione-giropizza-a-volonta/
LOCATION:Bar Pizzeria Fiocco di Neve\, Via Plan di Montecampione 64\, Artogne\, 25040\, Italia
ORGANIZER;CN="Bar Pizzeria Fiocco di Neve":MAILTO:martafontana@me.com
END:VEVENT
END:VCALENDAR